BEGIN:VCALENDAR
VERSION:2.0
PRODID:-//jEvents 2.0 for Joomla//EN
CALSCALE:GREGORIAN
METHOD:PUBLISH
BEGIN:VEVENT
UID:a9ca258903a79802e3ccf0bd07f13e81
CATEGORIES:Polar Conferences, Meetings and Events
CREATED:20170615T132523
SUMMARY:Taking the Temperature of the Antarctic Continent TACtical Workshop
LOCATION:Hobart\, Australia
DESCRIPTION:<p style="text-align: center;"><strong>First Circular</strong><br /><strong
 >Taking the Temperature of the Antarctic Continent</strong><br /><strong>TA
 Ctical Workshop</strong></p><p style="text-align: left;"><br />Current effo
 rts, collaborations and future directions in Antarctic heat flux research T
 he geothermal heat flux to the base of the Antarctic ice sheet is inherentl
 y difficult to measure, yet accurate estimates are necessary to better unde
 rstand cryosphere dynamics. This is crucial to improve models of ice discha
 rge and sea level change, and optimise site selection for ice core paleocli
 mate studies.</p><p style="text-align: left;"><br />This workshop will incl
 ude presentations and discussion around a new generation of Antarctic heat 
 flux measurements, derivations and models, combining efforts to characteris
 e and couple both deep (mantle) and shallow (crustal) heat flux. We will al
 so discuss possible future international heat flux measurement initiatives 
 in Antarctica. We invite interested researchers from the solid Earth, cryos
 phere and ice sheet modelling communities to join us in Hobart in March 201
 8.</p><p style="text-align: left;"><br /><strong>Wed 21- Fri 23 March 2018<
 /strong><br /><strong>Institute for Marine and Antarctic Studies, Universit
 y of Tasmania, Hobart, Australia</strong></p><p style="text-align: left;"><
 br />Organising committee: Jacqueline Halpin, Anya Reading (UTAS, Australia
 ), Karsten Gohl (AWI, Germany), Weisen Shen (WashU, USA), Frank Pattyn (ULB
 , Belgium)</p><p style="text-align: left;"><br />We welcome expressions of 
 interest, and suggestions for relevant topics for presentation and/or discu
 ssion. Contact: Jacqueline Halpin <span id="cloak1e7cc6b9e03e93ac81637baabd
 dfc83b">This email address is being protected from spambots. You need JavaS
 cript enabled to view it.</span><script type='text/javascript'>
				documen
 t.getElementById('cloak1e7cc6b9e03e93ac81637baabddfc83b').innerHTML = '';
	
 			var prefix = '&#109;a' + 'i&#108;' + '&#116;o';
				var path = 'hr' + 'e
 f' + '=';
				var addy1e7cc6b9e03e93ac81637baabddfc83b = 'j&#97;cq&#117;&#1
 01;l&#105;n&#101;.h&#97;lp&#105;n' + '&#64;';
				addy1e7cc6b9e03e93ac81637
 baabddfc83b = addy1e7cc6b9e03e93ac81637baabddfc83b + '&#117;t&#97;s' + '&#4
 6;' + '&#101;d&#117;' + '&#46;' + '&#97;&#117;';
				var addy_text1e7cc6b9e
 03e93ac81637baabddfc83b = 'j&#97;cq&#117;&#101;l&#105;n&#101;.h&#97;lp&#105
 ;n' + '&#64;' + '&#117;t&#97;s' + '&#46;' + '&#101;d&#117;' + '&#46;' + '&#
 97;&#117;';document.getElementById('cloak1e7cc6b9e03e93ac81637baabddfc83b')
 .innerHTML += '<a ' + path + '\'' + prefix + ':' + addy1e7cc6b9e03e93ac8163
 7baabddfc83b + '\'>'+addy_text1e7cc6b9e03e93ac81637baabddfc83b+'<\/a>';
		<
 /script> or Anya Reading <span id="cloak9572181801bc489ceeb1d64dc9c7f49e">T
 his email address is being protected from spambots. You need JavaScript ena
 bled to view it.</span><script type='text/javascript'>
				document.getElem
 entById('cloak9572181801bc489ceeb1d64dc9c7f49e').innerHTML = '';
				var pr
 efix = '&#109;a' + 'i&#108;' + '&#116;o';
				var path = 'hr' + 'ef' + '=';
 
				var addy9572181801bc489ceeb1d64dc9c7f49e = '&#97;ny&#97;.r&#101;&#97;d
 &#105;ng' + '&#64;';
				addy9572181801bc489ceeb1d64dc9c7f49e = addy9572181
 801bc489ceeb1d64dc9c7f49e + '&#117;t&#97;s' + '&#46;' + '&#101;d&#117;' + '
 &#46;' + '&#97;&#117;';
				var addy_text9572181801bc489ceeb1d64dc9c7f49e =
  '&#97;ny&#97;.r&#101;&#97;d&#105;ng' + '&#64;' + '&#117;t&#97;s' + '&#46;'
  + '&#101;d&#117;' + '&#46;' + '&#97;&#117;';document.getElementById('cloak
 9572181801bc489ceeb1d64dc9c7f49e').innerHTML += '<a ' + path + '\'' + prefi
 x + ':' + addy9572181801bc489ceeb1d64dc9c7f49e + '\'>'+addy_text9572181801b
 c489ceeb1d64dc9c7f49e+'<\/a>';
		</script></p><p style="text-align: left;">
 <br />Supported by the ARC Antarctic Gateway Partnership &amp; SCAR SERCE [
 Early Career Researchers and/or attendees from nations with an emerging Ant
 arctic program may be eligible to apply for a travel grant]</p>
CONTACT:Jacqueline Halpin This email address is being protected from spambots. You need JavaScript enabled to view it.
				document.getElementById('cloak607b525387dc6db374686882ed35579f').innerHTML = '';
				var prefix = '&#109;a' + 'i&#108;' + '&#116;o';
				var path = 'hr' + 'ef' + '=';
				var addy607b525387dc6db374686882ed35579f = 'j&#97;cq&#117;&#101;l&#105;n&#101;.h&#97;lp&#105;n' + '&#64;';
				addy607b525387dc6db374686882ed35579f = addy607b525387dc6db374686882ed35579f + '&#117;t&#97;s' + '&#46;' + '&#101;d&#117;' + '&#46;' + '&#97;&#117;';
				var addy_text607b525387dc6db374686882ed35579f = 'j&#97;cq&#117;&#101;l&#105;n&#101;.h&#97;lp&#105;n' + '&#64;' + '&#117;t&#97;s' + '&#46;' + '&#101;d&#117;' + '&#46;' + '&#97;&#117;';document.getElementById('cloak607b525387dc6db374686882ed35579f').innerHTML += '<a ' + path + '\'' + prefix + ':' + addy607b525387dc6db374686882ed35579f + '\'>'+addy_text607b525387dc6db374686882ed35579f+'';
		 or Anya Reading This email address is being protected from spambots. You need JavaScript enabled to view it.
				document.getElementById('cloak22552f4e3f6262fdb45186ee9b7cbd94').innerHTML = '';
				var prefix = '&#109;a' + 'i&#108;' + '&#116;o';
				var path = 'hr' + 'ef' + '=';
				var addy22552f4e3f6262fdb45186ee9b7cbd94 = '&#97;ny&#97;.r&#101;&#97;d&#105;ng' + '&#64;';
				addy22552f4e3f6262fdb45186ee9b7cbd94 = addy22552f4e3f6262fdb45186ee9b7cbd94 + '&#117;t&#97;s' + '&#46;' + '&#101;d&#117;' + '&#46;' + '&#97;&#117;';
				var addy_text22552f4e3f6262fdb45186ee9b7cbd94 = '&#97;ny&#97;.r&#101;&#97;d&#105;ng' + '&#64;' + '&#117;t&#97;s' + '&#46;' + '&#101;d&#117;' + '&#46;' + '&#97;&#117;';document.getElementById('cloak22552f4e3f6262fdb45186ee9b7cbd94').innerHTML += '<a ' + path + '\'' + prefix + ':' + addy22552f4e3f6262fdb45186ee9b7cbd94 + '\'>'+addy_text22552f4e3f6262fdb45186ee9b7cbd94+'';
		
DTSTAMP:20260422T014354Z
DTSTART;TZID=UTC;VALUE=DATE:20180321
DTEND;TZID=UTC;VALUE=DATE:20180325
SEQUENCE:0
TRANSP:OPAQUE
END:VEVENT
END:VCALENDAR