BEGIN:VCALENDAR
VERSION:2.0
PRODID:-//jEvents 2.0 for Joomla//EN
CALSCALE:GREGORIAN
METHOD:PUBLISH
BEGIN:VEVENT
UID:d2df5ebb4bf75e0f73770ea5385ecd1e
CATEGORIES:Polar Conferences, Meetings and Events
CREATED:20170615T061749
SUMMARY:Third Pole Summit
LOCATION:Lianyun Hotel\, Kunming
DESCRIPTION:<p>The <strong>Third Pole Summit</strong>, an international conference, wil
 l take place in <strong>Kunming, China,&nbsp;July 10-12, 2017</strong>.&nbs
 p;</p><p>Please be aware that the due date for abstracts is May 30. Please 
 visit the <a href="http://tpss2017.tpe.ac.cn/dct/page/1" target="_blank" re
 l="noopener noreferrer">conference website.</a> <br /><br /><strong>About t
 he Summit</strong></p><p>After the North and South Poles, the Third Pole is
  the highland core of Asia, and includes the Hindu-Kush, Karakorum, Himalay
 as, Tibetan Plateau and all the mountain ranges that surround it. This regi
 on provides the water resource and ecosystem services to billions of people
  in Asia. It is well accepted that the regional environmental change will h
 ave huge implications for millions of people living in the Third Pole regio
 n and downstream areas. Understanding the mechanisms of the earth system mu
 lti-sphere (atmosphere, cryosphere, hydrosphere, lithosphere, biosphere and
  anthroposphere) interactions in the Third Pole is becoming one of the hott
 est topics for global environmental research, and it is also an urgent task
  for the scientific community to support the sustainable development of the
  Third Pole region.</p><p>A letter of invitation can help with the visa pro
 cess. So get an expedited visa, and buy your airline ticket. The hotel room
  at the conference venue will close on May 31, but presumably there will be
  other hotel room availability.</p>
CONTACT:This email address is being protected from spambots. You need JavaScript enabled to view it.
				document.getElementById('cloak5ee2265ad171288a22b638effc4e17ed').innerHTML = '';
				var prefix = '&#109;a' + 'i&#108;' + '&#116;o';
				var path = 'hr' + 'ef' + '=';
				var addy5ee2265ad171288a22b638effc4e17ed = 'j&#101;ffr&#101;ysk&#97;rg&#101;l' + '&#64;';
				addy5ee2265ad171288a22b638effc4e17ed = addy5ee2265ad171288a22b638effc4e17ed + 'h&#111;tm&#97;&#105;l' + '&#46;' + 'c&#111;m';
				var addy_text5ee2265ad171288a22b638effc4e17ed = 'j&#101;ffr&#101;ysk&#97;rg&#101;l' + '&#64;' + 'h&#111;tm&#97;&#105;l' + '&#46;' + 'c&#111;m';document.getElementById('cloak5ee2265ad171288a22b638effc4e17ed').innerHTML += '<a ' + path + '\'' + prefix + ':' + addy5ee2265ad171288a22b638effc4e17ed + '\'>'+addy_text5ee2265ad171288a22b638effc4e17ed+'';
		
DTSTAMP:20260423T003042Z
DTSTART;TZID=UTC;VALUE=DATE:20170710
DTEND;TZID=UTC;VALUE=DATE:20170713
SEQUENCE:0
TRANSP:OPAQUE
END:VEVENT
END:VCALENDAR