BEGIN:VCALENDAR
VERSION:2.0
PRODID:-//jEvents 2.0 for Joomla//EN
CALSCALE:GREGORIAN
METHOD:PUBLISH
BEGIN:VEVENT
UID:e8da3a20635110a5ea91aa6efab2489c
CATEGORIES:Polar Conferences, Meetings and Events
CREATED:20170519T092515
SUMMARY:Impacts of an Ice-Diminishing Arctic on Naval and Maritime Operations
LOCATION:Washington\, D.C.
DESCRIPTION:<p>Organizers announce a call for registration for the 7th Biennial Symposi
 um on the Impacts of an Ice-Diminishing Arctic on Naval and Maritime. This 
 symposium will bring together nationally and internationally-recognized exp
 erts on Arctic marine operations, environments, science, policy, law, and g
 overnance. It will include speakers from the Alaska Congressional Delegatio
 n, NOAA, the U.S. Navy, the U.S. Coast Guard, the U.S. Arctic Research Comm
 ission (USARC), and other representatives from the U.S., Arctic nations, an
 d the international community. The symposium will be available in-person in
  Washington, D.C. and as an online webcast.</p><p>Registration is complimen
 tary, but required to participate in the live symposium or the live-streame
 d webinar.</p><p>The symposium talks will cover three general topic areas, 
 including:</p><ul><li>Latest research on observed and predicted changes in 
 the Arctic sea ice environment,</li><li>Present and future impact of these 
 changes on Arctic operations, and</li><li>Emerging Arctic policy issues on 
 national and international levels.</li></ul><p>This event offers an opportu
 nity to meet, interact, and share insights about the impact of an ice-dimin
 ishing Arctic Ocean on marine transportation; resource development; oceanog
 raphic research; federal, state, local, and international operations; polic
 y implications; and other issues in the rapidly evolving Arctic region.</p>
 <p>Further information about the symposium and registration are available a
 t:<br /><a href="https://www.arcus.org/sites/all/modules/civicrm/extern/url
 .php?u=3334&amp;qid=158188">View Symposium Homepage</a></p><p>For questions
 , contact:<br />Pablo Clemente-Colon<br />Email: <span id="cloakbc9c6118d59
 6bbcb2e1cd280a4640242">This email address is being protected from spambots.
  You need JavaScript enabled to view it.</span><script type='text/javascrip
 t'>
				document.getElementById('cloakbc9c6118d596bbcb2e1cd280a4640242').in
 nerHTML = '';
				var prefix = '&#109;a' + 'i&#108;' + '&#116;o';
				var p
 ath = 'hr' + 'ef' + '=';
				var addybc9c6118d596bbcb2e1cd280a4640242 = 'GE
 OS&#101;nt&#105;&#111;' + '&#64;';
				addybc9c6118d596bbcb2e1cd280a4640242
  = addybc9c6118d596bbcb2e1cd280a4640242 + 'gm&#97;&#105;l' + '&#46;' + 'c&#
 111;m';
				var addy_textbc9c6118d596bbcb2e1cd280a4640242 = 'GEOS&#101;nt&#
 105;&#111;' + '&#64;' + 'gm&#97;&#105;l' + '&#46;' + 'c&#111;m';document.ge
 tElementById('cloakbc9c6118d596bbcb2e1cd280a4640242').innerHTML += '<a ' + 
 path + '\'' + prefix + ':' + addybc9c6118d596bbcb2e1cd280a4640242 + '\'>'+a
 ddy_textbc9c6118d596bbcb2e1cd280a4640242+'<\/a>';
		</script></p><p>Karen B
 lack:<br />Phone: 703-525-0111</p>
CONTACT:This email address is being protected from spambots. You need JavaScript enabled to view it.
				document.getElementById('cloakadbd155031d7aa43d472c602775c1edd').innerHTML = '';
				var prefix = '&#109;a' + 'i&#108;' + '&#116;o';
				var path = 'hr' + 'ef' + '=';
				var addyadbd155031d7aa43d472c602775c1edd = 's&#101;&#97;n.h&#101;lfr&#105;ch' + '&#64;';
				addyadbd155031d7aa43d472c602775c1edd = addyadbd155031d7aa43d472c602775c1edd + 'n&#111;&#97;&#97;' + '&#46;' + 'g&#111;v';
				var addy_textadbd155031d7aa43d472c602775c1edd = 's&#101;&#97;n.h&#101;lfr&#105;ch' + '&#64;' + 'n&#111;&#97;&#97;' + '&#46;' + 'g&#111;v';document.getElementById('cloakadbd155031d7aa43d472c602775c1edd').innerHTML += '<a ' + path + '\'' + prefix + ':' + addyadbd155031d7aa43d472c602775c1edd + '\'>'+addy_textadbd155031d7aa43d472c602775c1edd+'';
		
DTSTAMP:20260421T105818Z
DTSTART;TZID=UTC;VALUE=DATE:20170718
DTEND;TZID=UTC;VALUE=DATE:20170721
SEQUENCE:0
TRANSP:OPAQUE
END:VEVENT
END:VCALENDAR