BEGIN:VCALENDAR
VERSION:2.0
PRODID:-//jEvents 2.0 for Joomla//EN
CALSCALE:GREGORIAN
METHOD:PUBLISH
BEGIN:VEVENT
UID:045023d7a7c83e13c13c5f3dd557f238
CATEGORIES:Polar Conferences, Meetings and Events
CREATED:20170519T091650
SUMMARY:SnowEx Workshop
LOCATION:Longmont\, Colorado
DESCRIPTION:<p><strong>SnowEx Workshop, 8 - 10 August 2017, Longmont, Colorado</strong>
 </p><p>You are invited to a NASA workshop which is part of a series dedicat
 ed to NASA’s five-year SnowEx mission. The overarching objective of SnowEx 
 is to advance our ability to measure snow-water equivalent globally leading
  toward defining a new space mission concept for global snow cover. The fie
 ld campaign for SnowEx Year 1 was held during a three-week period in Februa
 ry 2017 in the Colorado Rockies on Grand Mesa and in the Senator Beck basin
 .</p><p>NASA SnowEx participants and their designees, and others who are in
 terested in snow remote sensing, are invited to participate in this worksho
 p to exchange information on experiences and results from the SnowEx Year 1
  campaign. NASA particularly encourages participation from students who wer
 e involved in the ground campaign (and others who are interested, and antic
 ipate possibly participating in future SnowEx campaigns).</p><p>The meeting
  will be held on 8 - 10 August 2017 in Longmont, Colorado. <br />Please vis
 it <a href="http://snow.nasa.gov">http://snow.nasa.gov</a> and <span style=
 "text-decoration: underline;">click on the Workshop tab</span> to access wo
 rkshop details. <br />This workshop will present an opportunity to share id
 eas, preliminary results and stories about the February 2017 SnowEx campaig
 n as well as memories of our late colleague, Drew Slater. <br />The worksho
 p is dedicated to the memory of Drew. ​</p><p>If you would like to attend p
 lease RSVP to Dorothy Hall <span id="cloak8a44d4ffb496b246a06e482ad22bbd4a"
 >This email address is being protected from spambots. You need JavaScript e
 nabled to view it.</span><script type='text/javascript'>
				document.getEl
 ementById('cloak8a44d4ffb496b246a06e482ad22bbd4a').innerHTML = '';
				var 
 prefix = '&#109;a' + 'i&#108;' + '&#116;o';
				var path = 'hr' + 'ef' + '=
 ';
				var addy8a44d4ffb496b246a06e482ad22bbd4a = 'd&#111;r&#111;thy.k.h&#9
 7;ll' + '&#64;';
				addy8a44d4ffb496b246a06e482ad22bbd4a = addy8a44d4ffb49
 6b246a06e482ad22bbd4a + 'n&#97;s&#97;' + '&#46;' + 'g&#111;v';
				var addy
 _text8a44d4ffb496b246a06e482ad22bbd4a = 'd&#111;r&#111;thy.k.h&#97;ll' + '&
 #64;' + 'n&#97;s&#97;' + '&#46;' + 'g&#111;v';document.getElementById('cloa
 k8a44d4ffb496b246a06e482ad22bbd4a').innerHTML += '<a ' + path + '\'' + pref
 ix + ':' + addy8a44d4ffb496b246a06e482ad22bbd4a + '\'>'+addy_text8a44d4ffb4
 96b246a06e482ad22bbd4a+'<\/a>';
		</script> if you have not already done so
 .</p>
CONTACT:This email address is being protected from spambots. You need JavaScript enabled to view it.
				document.getElementById('cloak1eb09eecc1ee8a9ecffe02ccc31e3239').innerHTML = '';
				var prefix = '&#109;a' + 'i&#108;' + '&#116;o';
				var path = 'hr' + 'ef' + '=';
				var addy1eb09eecc1ee8a9ecffe02ccc31e3239 = 'd&#111;r&#111;thy.k.h&#97;ll' + '&#64;';
				addy1eb09eecc1ee8a9ecffe02ccc31e3239 = addy1eb09eecc1ee8a9ecffe02ccc31e3239 + 'n&#97;s&#97;' + '&#46;' + 'g&#111;v';
				var addy_text1eb09eecc1ee8a9ecffe02ccc31e3239 = 'd&#111;r&#111;thy.k.h&#97;ll' + '&#64;' + 'n&#97;s&#97;' + '&#46;' + 'g&#111;v';document.getElementById('cloak1eb09eecc1ee8a9ecffe02ccc31e3239').innerHTML += '<a ' + path + '\'' + prefix + ':' + addy1eb09eecc1ee8a9ecffe02ccc31e3239 + '\'>'+addy_text1eb09eecc1ee8a9ecffe02ccc31e3239+'';
		
DTSTAMP:20260423T130517Z
DTSTART;TZID=UTC;VALUE=DATE:20170808
DTEND;TZID=UTC;VALUE=DATE:20170811
SEQUENCE:0
TRANSP:OPAQUE
END:VEVENT
END:VCALENDAR