BEGIN:VCALENDAR
VERSION:2.0
PRODID:-//jEvents 2.0 for Joomla//EN
CALSCALE:GREGORIAN
METHOD:PUBLISH
BEGIN:VEVENT
UID:8543050afafec9ef6385605ac39851fe
CATEGORIES:Polar Conferences, Meetings and Events
CREATED:20170508T131341
SUMMARY:International Arctic Change 2017 Conference
LOCATION:Quebec City\, Quebec\, Canada
DESCRIPTION:<p><strong>Call for Session Proposals: International Arctic Change 2017 Con
 ference</strong><br /><strong>11-15 December 2017, Quebec City, Quebec, Can
 ada</strong></p><p>The Arctic Change 2017 Organizing Committee announces a 
 call for session proposals for the International Arctic Change 2017 Confere
 nce. This conference will bring together leading Arctic researchers, gradua
 te students, Inuit and Northern community representatives, government, and 
 industry partners and stakeholders from all fields. During the week, Arctic
  scientists will discuss their research and emerging global challenges and 
 opportunities arising from climate change and modernization in the circum-A
 rctic.</p><p>Proposals should identify at least two co-chairs planning to a
 ttend the conference. Session proposals including, and from, early career r
 esearchers as co-chairs are encouraged. Session proposals should include an
  informative title and a brief description. Descriptions should be broad en
 ough to include all interested researchers, regardless of affiliation or re
 search background.</p><p>Key areas include, but are not limited to:</p><p>-
  Monitoring, modeling, and predicting circumpolar and regional Arctic syste
 ms;<br />- Ocean and atmospheric fluxes through the Arctic;<br />- Sensitiv
 ity and change of cryospheric systems;<br />- Tracking and predicting socio
 -economic and cultural change in the Arctic;<br />- Rapid Arctic transition
 s and impacts on infrastructure and planning;<br />- Community adaptation a
 nd vulnerability in the Arctic regions;<br />- Mapping the Arctic Ocean, co
 ntinental shelves, and margins;<br />- Arctic marine and terrestrial ecosys
 tem structure, biodiversity, and services;<br />- Coastal processes and the
  vulnerability of communities, infrastructures, and resources;<br />- Asses
 sing, understanding, and monitoring the health of ecosystems and humans in 
 the Arctic;<br />- Legal, political, security, and navigation issues in ope
 ning Arctic waterways;<br />- Sustainable development and prosperity in the
  Arctic;<br />- Adapting new technologies to the advantage of Arctic resear
 ch and monitoring;<br />- Arctic data management, access, and integration; 
 and<br />- From knowledge to decision and policy-making.</p><p>For more inf
 ormation about the call for session proposals and to submit a session propo
 sal, go to: <a href="http://www.arcticnetmeetings.ca/ac2017/pages/call-for-
 sessions.php">http://www.arcticnetmeetings.ca/ac2017/pages/call-for-session
 s.php</a>.</p><p>For more information about the conference, go to: <a href=
 "http://www.arcticnetmeetings.ca/ac2017/">http://www.arcticnetmeetings.ca/a
 c2017/</a>.</p><p><strong>Early conference registration deadline: 31 Octobe
 r 2017.</strong></p><p>For questions, contact: Katrine Chalut<br />Email: <
 span id="cloak9323ba127ac3e81805bddc5be529a0e5">This email address is being
  protected from spambots. You need JavaScript enabled to view it.</span><sc
 ript type='text/javascript'>
				document.getElementById('cloak9323ba127ac3
 e81805bddc5be529a0e5').innerHTML = '';
				var prefix = '&#109;a' + 'i&#108
 ;' + '&#116;o';
				var path = 'hr' + 'ef' + '=';
				var addy9323ba127ac3e
 81805bddc5be529a0e5 = 'k&#97;tr&#105;n&#101;.ch&#97;l&#117;t' + '&#64;';
		
 		addy9323ba127ac3e81805bddc5be529a0e5 = addy9323ba127ac3e81805bddc5be529a0
 e5 + '&#97;rct&#105;cn&#101;t' + '&#46;' + '&#117;l&#97;v&#97;l' + '&#46;' 
 + 'c&#97;';
				var addy_text9323ba127ac3e81805bddc5be529a0e5 = 'k&#97;tr&#
 105;n&#101;.ch&#97;l&#117;t' + '&#64;' + '&#97;rct&#105;cn&#101;t' + '&#46;
 ' + '&#117;l&#97;v&#97;l' + '&#46;' + 'c&#97;';document.getElementById('clo
 ak9323ba127ac3e81805bddc5be529a0e5').innerHTML += '<a ' + path + '\'' + pre
 fix + ':' + addy9323ba127ac3e81805bddc5be529a0e5 + '\'>'+addy_text9323ba127
 ac3e81805bddc5be529a0e5+'<\/a>';
		</script></p>
CONTACT:This email address is being protected from spambots. You need JavaScript enabled to view it.
				document.getElementById('cloak26349c43be768e6a217ee04715930bf3').innerHTML = '';
				var prefix = '&#109;a' + 'i&#108;' + '&#116;o';
				var path = 'hr' + 'ef' + '=';
				var addy26349c43be768e6a217ee04715930bf3 = 'k&#97;tr&#105;n&#101;.ch&#97;l&#117;t' + '&#64;';
				addy26349c43be768e6a217ee04715930bf3 = addy26349c43be768e6a217ee04715930bf3 + '&#97;rct&#105;cn&#101;t' + '&#46;' + '&#117;l&#97;v&#97;l' + '&#46;' + 'c&#97;';
				var addy_text26349c43be768e6a217ee04715930bf3 = 'k&#97;tr&#105;n&#101;.ch&#97;l&#117;t' + '&#64;' + '&#97;rct&#105;cn&#101;t' + '&#46;' + '&#117;l&#97;v&#97;l' + '&#46;' + 'c&#97;';document.getElementById('cloak26349c43be768e6a217ee04715930bf3').innerHTML += '<a ' + path + '\'' + prefix + ':' + addy26349c43be768e6a217ee04715930bf3 + '\'>'+addy_text26349c43be768e6a217ee04715930bf3+'';
		
DTSTAMP:20260422T024955Z
DTSTART;TZID=UTC;VALUE=DATE:20171211
DTEND;TZID=UTC;VALUE=DATE:20171216
SEQUENCE:0
TRANSP:OPAQUE
END:VEVENT
END:VCALENDAR