BEGIN:VCALENDAR
VERSION:2.0
PRODID:-//jEvents 2.0 for Joomla//EN
CALSCALE:GREGORIAN
METHOD:PUBLISH
BEGIN:VEVENT
UID:66825dd6450068b76cfbf4e3d720bc54
CATEGORIES:Polar Conferences, Meetings and Events
CREATED:20170508T130033
SUMMARY:Webinar: "Progress toward understanding the response of permafrost to climate change in Alaska"
LOCATION:Webinar
DESCRIPTION:<p>Webinar Available<br />Permafrost Collaboration Team<br />Interagency Ar
 ctic Research Policy Committee<br /><strong>2:00 p.m. EDT</strong><br /><st
 rong>Tuesday, 9 May 2017</strong></p><p>This inaugural webinar for the Inte
 ragency Arctic Research Policy Committee's (IARPC) new Permafrost Collabora
 tion Team (PCT) will feature a presentation by <strong>Torre Jorgenson from
  Alaska Ecoscience</strong> titled <strong>"Progress toward understanding t
 he response of permafrost to climate change in Alaska."</strong></p><p>To j
 oin this webinar attendees must request an account on the IARPC collaborati
 ons website at: <a href="http://www.iarpccollaborations.org/events/7687">ht
 tp://www.iarpccollaborations.org/events/7687</a>.</p><p>The PCT is a new te
 am created as part of Arctic Research Plan 2017-2021. The team's scope of a
 ctivities will include implementation of research objectives and performanc
 e elements including, improving understanding of how climate, physiography,
  terrain conditions, vegetation, and patterns of disturbance interact to co
 ntrol permafrost dynamics; improving and expanding understanding of how war
 ming and thawing of permafrost influence the vulnerability of soil carbon, 
 including the potential release of carbon dioxide and methane to the atmosp
 here; continuing to improve integration of empirically measured permafrost 
 processes into models that predict how climate change, hydrology, ecosystem
  shifts, and disturbances interact within terrestrial and freshwater aquati
 c systems to impact permafrost evolution, degradation, and feedbacks from l
 ocal landscapes to the circum-Arctic; and determining how warming and thawi
 ng permafrost impacts infrastructure and human health.</p><p>For more infor
 mation about the PCT, go to: <a href="http://www.iarpccollaborations.org/te
 ams/Permafrost">http://www.iarpccollaborations.org/teams/Permafrost</a>.</p
 ><p>For more information about IARPC Collaboration Teams, go to: <a href="h
 ttp://www.iarpccollaborations.org/index.html">http://www.iarpccollaboration
 s.org/index.html</a>.</p><p>For questions, contact: Andrew Balser<br />Emai
 l: <span id="cloaka0c0133986058a77c4751ab90a7ea890">This email address is b
 eing protected from spambots. You need JavaScript enabled to view it.</span
 ><script type='text/javascript'>
				document.getElementById('cloaka0c01339
 86058a77c4751ab90a7ea890').innerHTML = '';
				var prefix = '&#109;a' + 'i&
 #108;' + '&#116;o';
				var path = 'hr' + 'ef' + '=';
				var addya0c013398
 6058a77c4751ab90a7ea890 = '&#97;ndr&#101;w.w.b&#97;ls&#101;r' + '&#64;';
		
 		addya0c0133986058a77c4751ab90a7ea890 = addya0c0133986058a77c4751ab90a7ea8
 90 + '&#117;s&#97;c&#101;' + '&#46;' + '&#97;rmy' + '&#46;' + 'm&#105;l';
	
 			var addy_texta0c0133986058a77c4751ab90a7ea890 = '&#97;ndr&#101;w.w.b&#97
 ;ls&#101;r' + '&#64;' + '&#117;s&#97;c&#101;' + '&#46;' + '&#97;rmy' + '&#4
 6;' + 'm&#105;l';document.getElementById('cloaka0c0133986058a77c4751ab90a7e
 a890').innerHTML += '<a ' + path + '\'' + prefix + ':' + addya0c0133986058a
 77c4751ab90a7ea890 + '\'>'+addy_texta0c0133986058a77c4751ab90a7ea890+'<\/a>
 ';
		</script></p>
CONTACT:This email address is being protected from spambots. You need JavaScript enabled to view it.
				document.getElementById('cloakc4ad8ef9db2d82d606eb97d3bdf5465e').innerHTML = '';
				var prefix = '&#109;a' + 'i&#108;' + '&#116;o';
				var path = 'hr' + 'ef' + '=';
				var addyc4ad8ef9db2d82d606eb97d3bdf5465e = '&#97;ndr&#101;w.w.b&#97;ls&#101;r' + '&#64;';
				addyc4ad8ef9db2d82d606eb97d3bdf5465e = addyc4ad8ef9db2d82d606eb97d3bdf5465e + '&#117;s&#97;c&#101;' + '&#46;' + '&#97;rmy' + '&#46;' + 'm&#105;l';
				var addy_textc4ad8ef9db2d82d606eb97d3bdf5465e = '&#97;ndr&#101;w.w.b&#97;ls&#101;r' + '&#64;' + '&#117;s&#97;c&#101;' + '&#46;' + '&#97;rmy' + '&#46;' + 'm&#105;l';document.getElementById('cloakc4ad8ef9db2d82d606eb97d3bdf5465e').innerHTML += '<a ' + path + '\'' + prefix + ':' + addyc4ad8ef9db2d82d606eb97d3bdf5465e + '\'>'+addy_textc4ad8ef9db2d82d606eb97d3bdf5465e+'';
		
DTSTAMP:20260423T004506Z
DTSTART;TZID=UTC:20170509T140000
SEQUENCE:0
TRANSP:OPAQUE
END:VEVENT
END:VCALENDAR