BEGIN:VCALENDAR
VERSION:2.0
PRODID:-//jEvents 2.0 for Joomla//EN
CALSCALE:GREGORIAN
METHOD:PUBLISH
BEGIN:VEVENT
UID:75e13b76f57de3637213bd7cbe5389a0
CATEGORIES:Polar Conferences, Meetings and Events
CREATED:20170426T132115
SUMMARY:NSF Arctic-FROST annual network meeting and early career scholars workshop
LOCATION:Narsaq\, Greenland
DESCRIPTION:<p style="text-align: center;"><strong>Travel grants are available for earl
 y career scholars to participate in the Arctic-FROST meeting and the worksh
 op on Community Sustainability in the Arctic: What sustainability theories 
 and practices work and what fail in Arctic Communities? Organized in Narsaq
 , Greenland, Sept 13-17, 2017.</strong></p><p><em>Arctic-FROST: Arctic FRon
 tiers Of SusTainability: Resources, Societies, Environments and Development
  in the Changing North</em> is a new NSF-funded international interdiscipli
 nary collaborative network that teams together environmental and social sci
 entists, local educators and community members from all circumpolar countri
 es to enable and mobilize research on sustainable Arctic development, speci
 fically aimed at improving health, human development and well-being of Arct
 ic communities while conserving ecosystem structures, functions and resourc
 es under changing climate conditions.</p><p>The theme of the Annual Meeting
  and Early Career Scholars Workshop is on Community Sustainability in the A
 rctic. Papers could deal with (1) sustainability and sustainable developmen
 t in the Arctic or Sub-Arctic of particular relevance to the rest of the wo
 rld, (2) comparative studies of sustainability between Arctic and other reg
 ions, (3) studies from various geographic contexts, which provide valuable 
 insights into Arctic sustainability, (4) studies that analyze the role of o
 utside actors in arctic sustainable development are welcome.</p><p>The main
  focus question of the conference is “What sustainability theories and prac
 tices work and what fail in Arctic communities?”</p><ul><li>At this meeting
  the Arctic-FROST casts a wide net and welcomes papers that address one of 
 the following broad categories:</li><li>Sustainable environments</li><li>Su
 stainable economies</li><li>Sustainable cultures</li><li>Sustainable region
 s/communities</li></ul><p><strong>All participants:</strong><br />(1) Will 
 present their work at the Annual Meeting (all papers/presentations will be 
 published online and considered for inclusion in the Arctic-FROST edited vo
 lume and/or in Polar Geography)<br />(2) Will participate in discussions an
 d round tables with leading sustainability science researchers<br />(3) Wil
 l participate in the Workshop activities immediately following the Annual M
 eeting</p><p><strong>Eligibility:</strong> an applicant shall be<br />(1) e
 arly career scholar (5 years since PhD) or current graduate student<br />(2
 ) Arctic-FROST network member by registering at www.uni.edu/arctic/frost<br
  />(3) prepared make an oral presentation on the subject related to sustain
 ability and/or sustainable development in the Arctic or Sub-Arctic regions 
 at the meeting and<br />(4) available to participate in all conference and 
 workshop activities.</p><p>We accept applications from eligible applicants 
 from all countries, disciplines and institution types. Applications from In
 digenous scholars and Arctic residents are especially encouraged.</p><p><st
 rong>Funding:</strong> Arctic-FROST will cover full cost of attendance incl
 uding travel and accommodations. Normally funds will be paid after the trav
 el is completed; based on the reimbursement claim. The participants will be
  expected to comply with NSF travel requirements.</p><p><strong>Application
  deadline: May 10th, 2017</strong></p><p><strong>Application:</strong> subm
 it extended abstract of your paper (500-750 words), short biosketch (1 page
 ), statement of interest in workshop participation (1 page), register as Ar
 ctic-FROST member at <a href="http://www.uni.edu/arctic/frost">www.uni.edu/
 arctic/frost</a>.</p><p>Send your applications and inquiries to <span id="c
 loak0f3ae4b7b70dbd364a6c721a23470f4f">This email address is being protected
  from spambots. You need JavaScript enabled to view it.</span><script type=
 'text/javascript'>
				document.getElementById('cloak0f3ae4b7b70dbd364a6c72
 1a23470f4f').innerHTML = '';
				var prefix = '&#109;a' + 'i&#108;' + '&#11
 6;o';
				var path = 'hr' + 'ef' + '=';
				var addy0f3ae4b7b70dbd364a6c721
 a23470f4f = '&#97;nn.cr&#97;wf&#111;rd' + '&#64;';
				addy0f3ae4b7b70dbd36
 4a6c721a23470f4f = addy0f3ae4b7b70dbd364a6c721a23470f4f + '&#117;n&#105;' +
  '&#46;' + '&#101;d&#117;';
				var addy_text0f3ae4b7b70dbd364a6c721a23470f
 4f = '&#97;nn.cr&#97;wf&#111;rd' + '&#64;' + '&#117;n&#105;' + '&#46;' + '&
 #101;d&#117;';document.getElementById('cloak0f3ae4b7b70dbd364a6c721a23470f4
 f').innerHTML += '<a ' + path + '\'' + prefix + ':' + addy0f3ae4b7b70dbd364
 a6c721a23470f4f + '\'>'+addy_text0f3ae4b7b70dbd364a6c721a23470f4f+'<\/a>';

 		</script> and <span id="cloake0df57911d5fcaf0d8d2e55a058a9d90">This email
  address is being protected from spambots. You need JavaScript enabled to v
 iew it.</span><script type='text/javascript'>
				document.getElementById('
 cloake0df57911d5fcaf0d8d2e55a058a9d90').innerHTML = '';
				var prefix = '&
 #109;a' + 'i&#108;' + '&#116;o';
				var path = 'hr' + 'ef' + '=';
				var 
 addye0df57911d5fcaf0d8d2e55a058a9d90 = '&#97;ndr&#101;y.p&#101;tr&#111;v' +
  '&#64;';
				addye0df57911d5fcaf0d8d2e55a058a9d90 = addye0df57911d5fcaf0d8
 d2e55a058a9d90 + '&#117;n&#105;' + '&#46;' + '&#101;d&#117;';
				var addy_
 texte0df57911d5fcaf0d8d2e55a058a9d90 = '&#97;ndr&#101;y.p&#101;tr&#111;v' +
  '&#64;' + '&#117;n&#105;' + '&#46;' + '&#101;d&#117;';document.getElementB
 yId('cloake0df57911d5fcaf0d8d2e55a058a9d90').innerHTML += '<a ' + path + '\
 '' + prefix + ':' + addye0df57911d5fcaf0d8d2e55a058a9d90 + '\'>'+addy_texte
 0df57911d5fcaf0d8d2e55a058a9d90+'<\/a>';
		</script> (copy to both emails).
 </p>
CONTACT:This email address is being protected from spambots. You need JavaScript enabled to view it.
				document.getElementById('cloak6f84793ef40210b47135249f37a73b0c').innerHTML = '';
				var prefix = '&#109;a' + 'i&#108;' + '&#116;o';
				var path = 'hr' + 'ef' + '=';
				var addy6f84793ef40210b47135249f37a73b0c = '&#97;nn.cr&#97;wf&#111;rd' + '&#64;';
				addy6f84793ef40210b47135249f37a73b0c = addy6f84793ef40210b47135249f37a73b0c + '&#117;n&#105;' + '&#46;' + '&#101;d&#117;';
				var addy_text6f84793ef40210b47135249f37a73b0c = '&#97;nn.cr&#97;wf&#111;rd' + '&#64;' + '&#117;n&#105;' + '&#46;' + '&#101;d&#117;';document.getElementById('cloak6f84793ef40210b47135249f37a73b0c').innerHTML += '<a ' + path + '\'' + prefix + ':' + addy6f84793ef40210b47135249f37a73b0c + '\'>'+addy_text6f84793ef40210b47135249f37a73b0c+'';
		, This email address is being protected from spambots. You need JavaScript enabled to view it.
				document.getElementById('cloak51c3634459e33b7a0618892fb7708d77').innerHTML = '';
				var prefix = '&#109;a' + 'i&#108;' + '&#116;o';
				var path = 'hr' + 'ef' + '=';
				var addy51c3634459e33b7a0618892fb7708d77 = '&#97;ndr&#101;y.p&#101;tr&#111;v' + '&#64;';
				addy51c3634459e33b7a0618892fb7708d77 = addy51c3634459e33b7a0618892fb7708d77 + '&#117;n&#105;' + '&#46;' + '&#101;d&#117;';
				var addy_text51c3634459e33b7a0618892fb7708d77 = '&#97;ndr&#101;y.p&#101;tr&#111;v' + '&#64;' + '&#117;n&#105;' + '&#46;' + '&#101;d&#117;';document.getElementById('cloak51c3634459e33b7a0618892fb7708d77').innerHTML += '<a ' + path + '\'' + prefix + ':' + addy51c3634459e33b7a0618892fb7708d77 + '\'>'+addy_text51c3634459e33b7a0618892fb7708d77+'';
		
DTSTAMP:20260425T164338Z
DTSTART;TZID=UTC;VALUE=DATE:20170913
DTEND;TZID=UTC;VALUE=DATE:20170918
SEQUENCE:0
TRANSP:OPAQUE
END:VEVENT
END:VCALENDAR