BEGIN:VCALENDAR
VERSION:2.0
PRODID:-//jEvents 2.0 for Joomla//EN
CALSCALE:GREGORIAN
METHOD:PUBLISH
BEGIN:VEVENT
UID:9e69d6c291bb80cf46132135d7f4296c
CATEGORIES:Polar Conferences, Meetings and Events
CREATED:20170413T090313
SUMMARY:Research assistant training workshop for work on a research project in Iqaluit
LOCATION:Nunavut Research Institute\, Iqaluit\, Canada
DESCRIPTION:<p style="text-align: center;"><strong>WANT TO WORK AS A</strong><br /><str
 ong>RESEARCH ASSISTANT?</strong></p><p>Learn the skills you need in a works
 hop series funded by the University of Alberta and be considered for work o
 n a research project in Iqaluit.<br />This research assistant training work
 shop series is led by Priscilla Ferrazzi, a lawyer and assistant professor 
 at the University of Alberta, <span id="cloakb38034e9581ee8febd354c21f5890e
 9b">This email address is being protected from spambots. You need JavaScrip
 t enabled to view it.</span><script type='text/javascript'>
				document.ge
 tElementById('cloakb38034e9581ee8febd354c21f5890e9b').innerHTML = '';
				v
 ar prefix = '&#109;a' + 'i&#108;' + '&#116;o';
				var path = 'hr' + 'ef' +
  '=';
				var addyb38034e9581ee8febd354c21f5890e9b = 'f&#101;rr&#97;zz&#105
 ;' + '&#64;';
				addyb38034e9581ee8febd354c21f5890e9b = addyb38034e9581ee8
 febd354c21f5890e9b + '&#117;&#97;lb&#101;rt&#97;' + '&#46;' + 'c&#97;';
			
 	var addy_textb38034e9581ee8febd354c21f5890e9b = 'f&#101;rr&#97;zz&#105;' +
  '&#64;' + '&#117;&#97;lb&#101;rt&#97;' + '&#46;' + 'c&#97;';document.getEl
 ementById('cloakb38034e9581ee8febd354c21f5890e9b').innerHTML += '<a ' + pat
 h + '\'' + prefix + ':' + addyb38034e9581ee8febd354c21f5890e9b + '\'>'+addy
 _textb38034e9581ee8febd354c21f5890e9b+'<\/a>';
		</script>.</p><p><strong>W
 hen: May 9, 10 and 11/2017</strong><br />Time: 10:30 am-3:15 pm (lunch prov
 ided from 12:00 to 1:00 pm)</p><p>Where: Nunavut Research Institute, classr
 oom 959-B, Iqaluit</p><p>Who is eligible: Iqaluit-based Arctic College stud
 ents, university<br />students, research assistants, high school students a
 nd community<br />members interested in research.</p><p><strong>Application
  deadline: May 5, 2017</strong></p><p>For more information and link to appl
 ication form, please see attached <a href="images/Heike/research_assistant_
 training_ad_for_iqaluit.pdf" target="_blank" rel="noopener noreferrer">PDF<
 /a>.</p>
CONTACT:This email address is being protected from spambots. You need JavaScript enabled to view it.
				document.getElementById('cloak2284dab5363b888b0bc449fe6eb23840').innerHTML = '';
				var prefix = '&#109;a' + 'i&#108;' + '&#116;o';
				var path = 'hr' + 'ef' + '=';
				var addy2284dab5363b888b0bc449fe6eb23840 = 'f&#101;rr&#97;zz&#105;' + '&#64;';
				addy2284dab5363b888b0bc449fe6eb23840 = addy2284dab5363b888b0bc449fe6eb23840 + '&#117;&#97;lb&#101;rt&#97;' + '&#46;' + 'c&#97;';
				var addy_text2284dab5363b888b0bc449fe6eb23840 = 'f&#101;rr&#97;zz&#105;' + '&#64;' + '&#117;&#97;lb&#101;rt&#97;' + '&#46;' + 'c&#97;';document.getElementById('cloak2284dab5363b888b0bc449fe6eb23840').innerHTML += '<a ' + path + '\'' + prefix + ':' + addy2284dab5363b888b0bc449fe6eb23840 + '\'>'+addy_text2284dab5363b888b0bc449fe6eb23840+'';
		
DTSTAMP:20260423T004459Z
DTSTART;TZID=UTC:20170509T103000
DTEND;TZID=UTC:20170511T151500
SEQUENCE:0
TRANSP:OPAQUE
END:VEVENT
END:VCALENDAR