BEGIN:VCALENDAR
VERSION:2.0
PRODID:-//jEvents 2.0 for Joomla//EN
CALSCALE:GREGORIAN
METHOD:PUBLISH
BEGIN:VEVENT
UID:a62380941a956625a50baaacc439663b
CATEGORIES:Polar Conferences, Meetings and Events
CREATED:20170412T134645
SUMMARY:IARPC Public Webinar: Overview of the 2017 Airborne Campaign for NASA's Arctic Boreal Vulnerability Experiment (ABoVE)
LOCATION:Public Webinar
DESCRIPTION:<p><strong>April 13, 2017 at 3pm EDT</strong>. </p><p>Airborne research dur
 ing ABoVE's 2017-2019 campaigns will link field-based, process-level studie
 s with geospatial data products derived from satellite remote sensing, span
 ning the critical intermediate space and time scales that are essential for
  a comprehensive understanding of scaling issues across the ABoVE Study Dom
 ain and extrapolation to the pan-Arctic. Dr. Charles Miller, Lead of the 20
 17 ABoVE Airborne Campaign, will give an overview.</p><p><a href="https://i
 arpc.adobeconnect.com/webinars">https://iarpc.adobeconnect.com/webinars</a>
 </p>
CONTACT:This email address is being protected from spambots. You need JavaScript enabled to view it.
				document.getElementById('cloak1725bca1bb99a32b47483cdfaad620e3').innerHTML = '';
				var prefix = '&#109;a' + 'i&#108;' + '&#116;o';
				var path = 'hr' + 'ef' + '=';
				var addy1725bca1bb99a32b47483cdfaad620e3 = 'jr&#111;hd&#101;' + '&#64;';
				addy1725bca1bb99a32b47483cdfaad620e3 = addy1725bca1bb99a32b47483cdfaad620e3 + '&#97;rc&#117;s' + '&#46;' + '&#111;rg';
				var addy_text1725bca1bb99a32b47483cdfaad620e3 = 'jr&#111;hd&#101;' + '&#64;' + '&#97;rc&#117;s' + '&#46;' + '&#111;rg';document.getElementById('cloak1725bca1bb99a32b47483cdfaad620e3').innerHTML += '<a ' + path + '\'' + prefix + ':' + addy1725bca1bb99a32b47483cdfaad620e3 + '\'>'+addy_text1725bca1bb99a32b47483cdfaad620e3+'';
		
DTSTAMP:20260423T004425Z
DTSTART;TZID=UTC:20170413T150000
DTEND;TZID=UTC:20170413T170000
SEQUENCE:0
TRANSP:OPAQUE
END:VEVENT
END:VCALENDAR