BEGIN:VCALENDAR
VERSION:2.0
PRODID:-//jEvents 2.0 for Joomla//EN
CALSCALE:GREGORIAN
METHOD:PUBLISH
BEGIN:VEVENT
UID:c60d84de2aa4646c2bc3f88d07a9cada
CATEGORIES:Polar Conferences, Meetings and Events
CREATED:20170328T065737
SUMMARY:International Conference on Arctic Science: Bringing Knowledge to Action
LOCATION:Reston\, Virginia\, USA
DESCRIPTION:<p>The 2017 International Conference on Arctic Science: Bringing Knowledge 
 to Action, <strong>April 24-27, 2017 Reston, Virginia, USA</strong>, will: 
 Bring together diverse expert communities ranging from scientists to decisi
 on-makers in order to identify, explore and create mechanisms and venues wh
 ere science and knowledge can inform the development of policies and decisi
 on-making.</p><p><a href="http://www.amap.no/documents/doc/2017-conference-
 first-announcement-and-call-for-abstracts/1436" target="_blank" rel="noopen
 er noreferrer">First announcement and call for abstracts</a></p><p>For more
  information, please visit the<a href="http://www.amap.no/documents/downloa
 d/2878/inline" target="_blank" rel="noopener noreferrer"> conference websit
 e.</a></p>
CONTACT:This email address is being protected from spambots. You need JavaScript enabled to view it.
				document.getElementById('cloak95b15fc0a2b338f3eed1190167e9a8e3').innerHTML = '';
				var prefix = '&#109;a' + 'i&#108;' + '&#116;o';
				var path = 'hr' + 'ef' + '=';
				var addy95b15fc0a2b338f3eed1190167e9a8e3 = '2017C&#111;nf&#101;r&#101;nc&#101;' + '&#64;';
				addy95b15fc0a2b338f3eed1190167e9a8e3 = addy95b15fc0a2b338f3eed1190167e9a8e3 + '&#97;m&#97;p' + '&#46;' + 'n&#111;';
				var addy_text95b15fc0a2b338f3eed1190167e9a8e3 = '2017C&#111;nf&#101;r&#101;nc&#101;' + '&#64;' + '&#97;m&#97;p' + '&#46;' + 'n&#111;';document.getElementById('cloak95b15fc0a2b338f3eed1190167e9a8e3').innerHTML += '<a ' + path + '\'' + prefix + ':' + addy95b15fc0a2b338f3eed1190167e9a8e3 + '\'>'+addy_text95b15fc0a2b338f3eed1190167e9a8e3+'';
		
DTSTAMP:20260423T004458Z
DTSTART;TZID=UTC;VALUE=DATE:20170424
DTEND;TZID=UTC;VALUE=DATE:20170428
SEQUENCE:0
TRANSP:OPAQUE
END:VEVENT
END:VCALENDAR