BEGIN:VCALENDAR
VERSION:2.0
PRODID:-//jEvents 2.0 for Joomla//EN
CALSCALE:GREGORIAN
METHOD:PUBLISH
BEGIN:VEVENT
UID:83071aabe04a8d87ff351ac3102a00b1
CATEGORIES:Polar Conferences, Meetings and Events
CREATED:20170328T061813
SUMMARY:Students in Polar and Alpine Research Conference 2017
LOCATION:Department of Geography at Masaryk University\, Brno\, Czech Republic
DESCRIPTION:We would like to draw your attention to the third year of Students in Polar
  and Alpine Research Conference that will take place between 20th and 22nd 
 April 2017 in Brno at the venue of Department of Geography at Masaryk Unive
 rsity.\nIf you are interested and would like to learn more about a program 
 and how to contribute or take part, please visit 1st and 2nd Announcements 
 which could be downloaded here:\nFirst Announcement:\nhttps://www.dropbox.c
 om/s/1idsrrwh6y43gno/Polar2017_1announcement.pdf?dl=0\nSecond Announcement:
 \n<a href="https://www.dropbox.com/s/o2ak9qdns84ueap/SPARC_2017_2announceme
 nt.pdf?dl=0"></a>https://www.dropbox.com/s/o2ak9qdns84ueap/SPARC_2017_2anno
 uncement.pdf?dl=0\nDeadline for registration and abstract submission: 7th A
 pril 2017.\nWe are looking forward to see you all in a few weeks!\nFor the 
 team of organisers,\nJakub Ondruch\n
X-ALT-DESC;FMTTYPE=text/html:<p>We would like to draw your attention to the third year of <strong>Studen
 ts in Polar and Alpine Research Conference</strong> that will take place be
 tween <strong>20th and 22nd April 2017</strong> in <strong>Brno at the venu
 e of Department of Geography at Masaryk University</strong>.</p><p>If you a
 re interested and would like to learn more about a program and how to contr
 ibute or take part, please visit 1st and 2nd Announcements which could be d
 ownloaded here:</p><p><em>First Announcement:</em><br /><a href="https://ww
 w.dropbox.com/s/1idsrrwh6y43gno/Polar2017_1announcement.pdf?dl=0">https://w
 ww.dropbox.com/s/1idsrrwh6y43gno/Polar2017_1announcement.pdf?dl=0</a></p><p
 ><em>Second Announcement:</em><br /><a href="https://www.dropbox.com/s/o2ak
 9qdns84ueap/SPARC_2017_2announcement.pdf?dl=0"><a>https://www.dropbox.com/s
 /o2ak9qdns84ueap/SPARC_2017_2announcement.pdf?dl=0</a></a></p><p><strong>De
 adline for registration and abstract submission: 7th April 2017.</strong></
 p><p>We are looking forward to see you all in a few weeks!</p><p>For the te
 am of organisers,<br />Jakub Ondruch</p>
CONTACT:This email address is being protected from spambots. You need JavaScript enabled to view it.
				document.getElementById('cloak842bdf0a6aa7bd8116391022c6a92a03').innerHTML = '';
				var prefix = '&#109;a' + 'i&#108;' + '&#116;o';
				var path = 'hr' + 'ef' + '=';
				var addy842bdf0a6aa7bd8116391022c6a92a03 = 'g&#101;&#111;p&#111;l&#97;rbrn&#111;' + '&#64;';
				addy842bdf0a6aa7bd8116391022c6a92a03 = addy842bdf0a6aa7bd8116391022c6a92a03 + 'gm&#97;&#105;l' + '&#46;' + 'c&#111;m';
				var addy_text842bdf0a6aa7bd8116391022c6a92a03 = 'g&#101;&#111;p&#111;l&#97;rbrn&#111;' + '&#64;' + 'gm&#97;&#105;l' + '&#46;' + 'c&#111;m';document.getElementById('cloak842bdf0a6aa7bd8116391022c6a92a03').innerHTML += '<a ' + path + '\'' + prefix + ':' + addy842bdf0a6aa7bd8116391022c6a92a03 + '\'>'+addy_text842bdf0a6aa7bd8116391022c6a92a03+'';
		
DTSTAMP:20260421T162846Z
DTSTART;TZID=UTC:20170420T020000
DTEND;TZID=UTC:20170422T020000
SEQUENCE:0
TRANSP:OPAQUE
END:VEVENT
END:VCALENDAR