BEGIN:VCALENDAR
VERSION:2.0
PRODID:-//jEvents 2.0 for Joomla//EN
CALSCALE:GREGORIAN
METHOD:PUBLISH
BEGIN:VEVENT
UID:b759ae1d7e13f47a895dfd7cc2a5dd05
CATEGORIES:Polar Conferences, Meetings and Events
CREATED:20170327T084304
SUMMARY:ARCUS Arctic Research Seminar with Mia Bennett (UCLA & Cryopolitics)
LOCATION:ARCUS D.C. office at 1201 New York Avenue\, NW Washington D.C.\, webinar li
 ve-stream
DESCRIPTION:<p><strong>Call for Registration</strong><br />ARCUS Arctic Research Semina
 r Series<br />Arctic Research Consortium of the U.S. (ARCUS)</p><p><strong>
 Date: Friday, 14 April 2017 at 12:00-1:00 p.m. ET</strong></p><p><strong>Sp
 eaker:</strong> Mia Bennett, UCLA PhD candidate and Cryopolitics blog found
 er and editor</p><p><strong>Presentation Title: "Development on Ice: Social
  and Economic Impacts of Arctic Transportation Infrastructure"</strong></p>
 <p><strong>To register for this event</strong>, go to: <a href="https://www
 .arcus.org/research-seminar-series">https://www.arcus.org/research-seminar-
 series</a></p><p>--------------------<br />The Arctic Research Consortium o
 f the U.S. (ARCUS) is pleased to announce the next Arctic Research Seminar 
 Series event featuring Mia Bennett, UCLA PhD candidate and the Cryopolitics
  blog founder and editor. The event will be held in the ARCUS D.C. office a
 t 1201 New York Avenue, NW Washington D.C. on Friday, 14 April 2017 at 12:0
 0-1:00 p.m. ET.</p><p>This seminar will also be available as a <strong>webi
 nar live-stream</strong> for those unable to attend in person.</p><p><stron
 g>Registration is required for this event.</strong></p><p>The ARCUS Arctic 
 Research Seminar Series brings some of the leading Arctic researchers to Wa
 shington, D.C. to share the latest findings and what they mean for decision
 -making. These seminars will be of interest to federal agency officials, co
 ngressional staff, non-governmental organizations, associations, and the pu
 blic.</p><p>Bennett’s seminar titled "Development on Ice: Social and Econom
 ic Impacts of Arctic Transportation Infrastructure” will discuss the mechan
 isms connecting northern communities to regional and global transportation 
 networks.</p><p>Mia Bennett is a PhD candidate in the Department of Geograp
 hy at UCLA and founder and editor of the Cryopolitics blog. Her research ex
 amines the drivers and impacts of contemporary Arctic industrial developmen
 t by merging fieldwork, policy analysis, and remote sensing. Currently, she
  focuses on transportation infrastructure projects in Canada's Northwest Te
 rritories and the Russian Far East. Mia received an MPhil in Polar Studies 
 from the University of Cambridge, where her research focused on the roles o
 f China, Japan, and South Korea in the Arctic. She speaks French, Swedish, 
 and Russian and has traveled extensively in the Arctic, from the Greenland 
 Ice Sheet to northeast Russia. She shares photographs from her journeys on 
 her blog and can be followed on Twitter @miageografia.</p><p>This event is 
 a brown-bag lunch that will be held in the ARCUS D.C. office (1201 New York
  Avenue, NW Washington D.C. Fourth Floor). Cookies and beverages will be pr
 ovided. A live webinar is also available to those unable to attend in perso
 n. Instructions for accessing the event online will be sent to webinar regi
 strants prior to the event.</p><p>For those of you on Twitter, we also invi
 te you to join us in live-tweeting the event using the hashtag #arcuswebina
 r.</p><p>For more information and to register for the event, go to: <a href
 ="https://www.arcus.org/research-seminar-series">https://www.arcus.org/rese
 arch-seminar-series</a>.</p><p>For questions, contact:<br />Brit Myers<br /
 >Email: <span id="cloaka8f3adc3a2840fcf09232725c30e3274">This email address
  is being protected from spambots. You need JavaScript enabled to view it.<
 /span><script type='text/javascript'>
				document.getElementById('cloaka8f
 3adc3a2840fcf09232725c30e3274').innerHTML = '';
				var prefix = '&#109;a' 
 + 'i&#108;' + '&#116;o';
				var path = 'hr' + 'ef' + '=';
				var addya8f3
 adc3a2840fcf09232725c30e3274 = 'br&#105;t' + '&#64;';
				addya8f3adc3a2840
 fcf09232725c30e3274 = addya8f3adc3a2840fcf09232725c30e3274 + '&#97;rc&#117;
 s' + '&#46;' + '&#111;rg';
				var addy_texta8f3adc3a2840fcf09232725c30e327
 4 = 'br&#105;t' + '&#64;' + '&#97;rc&#117;s' + '&#46;' + '&#111;rg';documen
 t.getElementById('cloaka8f3adc3a2840fcf09232725c30e3274').innerHTML += '<a 
 ' + path + '\'' + prefix + ':' + addya8f3adc3a2840fcf09232725c30e3274 + '\'
 >'+addy_texta8f3adc3a2840fcf09232725c30e3274+'<\/a>';
		</script><br />___<
 /p><p>Brit Myers<br />Project Manager<br />Arctic Research Consortium of th
 e U. S. (ARCUS)<br />Office: (907) 450-1622<br />Cell: (206) 697-2822<br />
 <a href="http://www.arcus.org">http://www.arcus.org</a><br />Follow ARCUS o
 n Twitter: @ArcticResearch</p>
CONTACT:This email address is being protected from spambots. You need JavaScript enabled to view it.
				document.getElementById('cloak17f7426f44e44223b3e03ce14965fa0e').innerHTML = '';
				var prefix = '&#109;a' + 'i&#108;' + '&#116;o';
				var path = 'hr' + 'ef' + '=';
				var addy17f7426f44e44223b3e03ce14965fa0e = 'br&#105;t' + '&#64;';
				addy17f7426f44e44223b3e03ce14965fa0e = addy17f7426f44e44223b3e03ce14965fa0e + '&#97;rc&#117;s' + '&#46;' + '&#111;rg';
				var addy_text17f7426f44e44223b3e03ce14965fa0e = 'br&#105;t' + '&#64;' + '&#97;rc&#117;s' + '&#46;' + '&#111;rg';document.getElementById('cloak17f7426f44e44223b3e03ce14965fa0e').innerHTML += '<a ' + path + '\'' + prefix + ':' + addy17f7426f44e44223b3e03ce14965fa0e + '\'>'+addy_text17f7426f44e44223b3e03ce14965fa0e+'';
		
DTSTAMP:20260422T232804Z
DTSTART;TZID=UTC:20170414T120000
DTEND;TZID=UTC:20170414T130000
SEQUENCE:0
TRANSP:OPAQUE
END:VEVENT
END:VCALENDAR