BEGIN:VCALENDAR
VERSION:2.0
PRODID:-//jEvents 2.0 for Joomla//EN
CALSCALE:GREGORIAN
METHOD:PUBLISH
BEGIN:VEVENT
UID:a2541af8a7a04eea93fb8a6451446ca4
CATEGORIES:Polar Conferences, Meetings and Events
CREATED:20170324T121010
SUMMARY:16th GLIMS Workshop
LOCATION:National Snow and Ice Data Center\, East Campus of the University of Colora
 do
DESCRIPTION:Announcing the 16th GLIMS Workshop, to be held August 11-13, 2017, in Bould
 er, Colorado, USA.\nImmediately before the International Glaciological Soci
 ety (IGS) Symposium on "Polar Ice, Polar Climate, Polar Change", the GLIMS 
 (Global Land Ice Measurements from Space) community will conduct a workshop
  to foster involvement from the community in glacier mapping and to improve
  our responsiveness to the community. The approximate agenda is below.\nThe
  IGS symposium's focus is on high latitudes, where there are many glaciers 
 and ice caps treated by the GLIMS community and which are of high scientifi
 c interest (e.g. the surging Vavilov ice cap). We hope to have the particip
 ation of many of the attendees of this IGS symposium.\nVenue: the National 
 Snow and Ice Data Center, East Campus of the University of Colorado\nPlease
  notify us of interest in attending this workshop by sending a note to brau
 p @ nsidc.org (http://nsidc.org/)\n \n-------------------------------------
 --------------------------------------\nDraft agenda for GLIMS Workshop, Au
 gust 11-13, 2017 Boulder, Colorado\nFriday, August 11\nMorning: GLIMS Core 
 Team only (to discuss core team issues, such\nas funding, general direction
 s for GLIMS, new satellite issues,\nrelations with other projects and progr
 ams, etc.) This list of topics\nwill be identified ahead of time by email.\
 nAfternoon: (open)\n- State of GLIMS update from GLIMS Core Team. Status of
  GLIMS and\nRandolph Glacier Inventory (RGI) databases, summary of glacier\
 nmapping methods employed, summary of input data sources.\n- Approx. 10 min
 ute presentations from any and all interested people --\nRC folks, newcomer
 s.\nSaturday, August 12\nMorning: (open)\n- More time for contributed prese
 ntations if needed.\n- Identify key issues (discussion). Possible examples 
 include: needed\nimprovements, opportunities for growth, data quality, futu
 re\nsatellite missions.\n- Break into discussion groups on each topic ident
 ified.\nAfternoon: (open)\n- Summary of issue discussions.\n- Form small gr
 oups (might be different from morning groups) to take\n"deep dive" into sel
 ect issues. This could be "hackathon" style\ndevelopment of algorithms or c
 ode, or outlining a white paper on the\nissue and recommended next steps.\n
 Sunday, August 13\nMorning: (open)\n- Short presentations summarizing group
  work from previous day.\n- Closing remarks.\nAfternoon: Free, or group hik
 e\n------------------------------------------------------------------------
 ---\n \nThanks for your interest in GLIMS, and we hope to see you in Boulde
 r in August.\nSincerely,\nThe GLIMS Core Team\n
X-ALT-DESC;FMTTYPE=text/html:<p>Announcing the <strong>16th GLIMS Workshop</strong>, to be held <strong>
 August 11-13, 2017, in Boulder, Colorado, USA</strong>.</p><p>Immediately b
 efore the International Glaciological Society (IGS) Symposium on "Polar Ice
 , Polar Climate, Polar Change", the GLIMS (Global Land Ice Measurements fro
 m Space) community will conduct a workshop to foster involvement from the c
 ommunity in glacier mapping and to improve our responsiveness to the commun
 ity. The approximate agenda is below.</p><p>The IGS symposium's focus is on
  high latitudes, where there are many glaciers and ice caps treated by the 
 GLIMS community and which are of high scientific interest (e.g. the surging
  Vavilov ice cap). We hope to have the participation of many of the attende
 es of this IGS symposium.</p><p>Venue: the National Snow and Ice Data Cente
 r, East Campus of the University of Colorado</p><p>Please notify us of inte
 rest in attending this workshop by sending a note to braup <a href="http://
 nsidc.org/" target="_blank" rel="noopener noreferrer">@ nsidc.org</a></p><p
 > </p><p>------------------------------------------------------------------
 ---------<br />Draft agenda for GLIMS Workshop, August 11-13, 2017 Boulder,
  Colorado</p><p><em>Friday, August 11</em></p><p>Morning: GLIMS Core Team o
 nly (to discuss core team issues, such<br />as funding, general directions 
 for GLIMS, new satellite issues,<br />relations with other projects and pro
 grams, etc.) This list of topics<br />will be identified ahead of time by e
 mail.</p><p>Afternoon: (open)</p><p>- State of GLIMS update from GLIMS Core
  Team. Status of GLIMS and<br />Randolph Glacier Inventory (RGI) databases,
  summary of glacier<br />mapping methods employed, summary of input data so
 urces.</p><p>- Approx. 10 minute presentations from any and all interested 
 people --<br />RC folks, newcomers.</p><p><em>Saturday, August 12</em></p><
 p>Morning: (open)</p><p>- More time for contributed presentations if needed
 .</p><p>- Identify key issues (discussion). Possible examples include: need
 ed<br />improvements, opportunities for growth, data quality, future<br />s
 atellite missions.</p><p>- Break into discussion groups on each topic ident
 ified.</p><p>Afternoon: (open)</p><p>- Summary of issue discussions.</p><p>
 - Form small groups (might be different from morning groups) to take<br />"
 deep dive" into select issues. This could be "hackathon" style<br />develop
 ment of algorithms or code, or outlining a white paper on the<br />issue an
 d recommended next steps.</p><p><em>Sunday, August 13</em></p><p>Morning: (
 open)<br />- Short presentations summarizing group work from previous day.<
 br />- Closing remarks.</p><p>Afternoon: Free, or group hike<br />---------
 ------------------------------------------------------------------</p><p> <
 /p><p>Thanks for your interest in GLIMS, and we hope to see you in Boulder 
 in August.</p><p>Sincerely,</p><p>The GLIMS Core Team</p>
DTSTAMP:20260421T174251Z
DTSTART;TZID=UTC:20170811T180000
DTEND;TZID=UTC:20170813T180000
SEQUENCE:0
TRANSP:OPAQUE
END:VEVENT
END:VCALENDAR