BEGIN:VCALENDAR
VERSION:2.0
PRODID:-//jEvents 2.0 for Joomla//EN
CALSCALE:GREGORIAN
METHOD:PUBLISH
BEGIN:VEVENT
UID:6f7b22cf11c058389a6b138d1621d639
CATEGORIES:Polar Conferences, Meetings and Events
CREATED:20170321T130322
SUMMARY:Workshop on Long-Term Research in Mountain Areas
LOCATION:University Centre Obergurgl\, Tyrol\, Austria
DESCRIPTION:The Alpine Research Centre Obergurgl, hepia Geneve and the LTSER platform T
 yrolean Alps are organising the workshop Long-Term Research in Mountain Are
 as at the University Centre Obergurgl from September 29 to October 3, 2017.
 \nFor more information please visit: https://www.uibk.ac.at/afo/workshop-lo
 ng-term-research-in-mountain-areas/\n \nBest regards,\nNikolaus Schallhart\
 nAlpine Research Centre Obergurgl\nUniversity of Innsbruck\n
X-ALT-DESC;FMTTYPE=text/html:<p>The Alpine Research Centre Obergurgl, hepia Geneve and the LTSER platfor
 m Tyrolean Alps are organising the workshop <strong>Long-Term Research in M
 ountain Areas at the University Centre Obergurgl from September 29 to Octob
 er 3, 2017</strong>.</p><p>For more information please visit: <a href="http
 s://www.uibk.ac.at/afo/workshop-long-term-research-in-mountain-areas/">http
 s://www.uibk.ac.at/afo/workshop-long-term-research-in-mountain-areas/</a></
 p><p> </p><p>Best regards,</p><p>Nikolaus Schallhart</p><p>Alpine Research 
 Centre Obergurgl</p><p>University of Innsbruck</p>
CONTACT:This email address is being protected from spambots. You need JavaScript enabled to view it.
				document.getElementById('cloak6a77a44ea42b7e77652d33428e012cda').innerHTML = '';
				var prefix = '&#109;a' + 'i&#108;' + '&#116;o';
				var path = 'hr' + 'ef' + '=';
				var addy6a77a44ea42b7e77652d33428e012cda = 'Kl&#97;&#117;s.Sch&#97;llh&#97;rt' + '&#64;';
				addy6a77a44ea42b7e77652d33428e012cda = addy6a77a44ea42b7e77652d33428e012cda + '&#117;&#105;bk' + '&#46;' + '&#97;c' + '&#46;' + '&#97;t';
				var addy_text6a77a44ea42b7e77652d33428e012cda = 'Kl&#97;&#117;s.Sch&#97;llh&#97;rt' + '&#64;' + '&#117;&#105;bk' + '&#46;' + '&#97;c' + '&#46;' + '&#97;t';document.getElementById('cloak6a77a44ea42b7e77652d33428e012cda').innerHTML += '<a ' + path + '\'' + prefix + ':' + addy6a77a44ea42b7e77652d33428e012cda + '\'>'+addy_text6a77a44ea42b7e77652d33428e012cda+'';
		
DTSTAMP:20260425T232111Z
DTSTART;TZID=UTC:20170929T020000
DTEND;TZID=UTC:20171003T020000
SEQUENCE:0
TRANSP:OPAQUE
END:VEVENT
END:VCALENDAR