BEGIN:VCALENDAR
VERSION:2.0
PRODID:-//jEvents 2.0 for Joomla//EN
CALSCALE:GREGORIAN
METHOD:PUBLISH
BEGIN:VEVENT
UID:fdba30fab6f2b2dfdc1a4a658a39e10b
CATEGORIES:Field and Summer Schools
CREATED:20160421T174759
SUMMARY:ICAT-Ice Core Analysis Techniques
LOCATION:Copenhagen\, Denmark
DESCRIPTION:The PhD course is aimed at PhD students and junior postdocs who conduct ice
  core analysis or are users of ice core data (glaciological, oceanographic,
  climate modelers).\nICAT aims to educate a new generation of ice core rese
 archers and foster a collaborative environment for future glaciological pro
 jects.\nThis course will enhance the knowledge between PhD’s within the ice
  core community on new methods developed for the analysis of ice core clima
 te.\nDownload FULL INVITATION (http://recap.nbi.ku.dk/icat-ice-core-analysi
 s-techniques_octnov-2016/ICAT_Poster.pdf)\nLECTURES INCLUDE\nProf Joe McCon
 nell, Prof Ed Brook, Prof Thomas Blunier with more.\nREGISTRATION FEE\nNo r
 egistration fee, but students should prepare for their own lodging and tran
 sport.\nAPPLICATION\nSend your application as a single pdf to This email ad
 dress is being protected from spambots. You need JavaScript enabled to view
  it.
				document.getElementById('cloak8dbef894277a9228903404005d3f9429').i
 nnerHTML = '';
				var prefix = '&#109;a' + 'i&#108;' + '&#116;o';
				var 
 path = 'hr' + 'ef' + '=';
				var addy8dbef894277a9228903404005d3f9429 = 'h
 &#101;ll&#101;k' + '&#64;';
				addy8dbef894277a9228903404005d3f9429 = addy
 8dbef894277a9228903404005d3f9429 + 'fys' + '&#46;' + 'k&#117;' + '&#46;' + 
 'dk';
				var addy_text8dbef894277a9228903404005d3f9429 = 'h&#101;ll&#101;k
 ' + '&#64;' + 'fys' + '&#46;' + 'k&#117;' + '&#46;' + 'dk';document.getElem
 entById('cloak8dbef894277a9228903404005d3f9429').innerHTML += '<a ' + path 
 + '\'' + prefix + ':' + addy8dbef894277a9228903404005d3f9429 + '\'>'+addy_t
 ext8dbef894277a9228903404005d3f9429+'';
		 before July 30th, 2016. You will
  be notified the decission of the Selection Committee by September 1st, 201
 6.\nYour application should include:\n\n - A statement of why you want to p
 articipate\n - Affiliation, name of supervisor\n - A 200 word description o
 f your research project\n - A Curriculum VitaeFor more information please c
 ontact Helle Kjær, This email address is being protected from spambots. You
  need JavaScript enabled to view it.
				document.getElementById('cloak9a7d
 f44ac1ebe183c19062e9c71ce5d9').innerHTML = '';
				var prefix = '&#109;a' +
  'i&#108;' + '&#116;o';
				var path = 'hr' + 'ef' + '=';
				var addy9a7df
 44ac1ebe183c19062e9c71ce5d9 = 'h&#101;ll&#101;k' + '&#64;';
				addy9a7df44
 ac1ebe183c19062e9c71ce5d9 = addy9a7df44ac1ebe183c19062e9c71ce5d9 + 'fys' + 
 '&#46;' + 'k&#117;' + '&#46;' + 'dk';
				var addy_text9a7df44ac1ebe183c190
 62e9c71ce5d9 = 'h&#101;ll&#101;k' + '&#64;' + 'fys' + '&#46;' + 'k&#117;' +
  '&#46;' + 'dk';document.getElementById('cloak9a7df44ac1ebe183c19062e9c71ce
 5d9').innerHTML += '<a ' + path + '\'' + prefix + ':' + addy9a7df44ac1ebe18
 3c19062e9c71ce5d9 + '\'>'+addy_text9a7df44ac1ebe183c19062e9c71ce5d9+'';
		\
 n
X-ALT-DESC;FMTTYPE=text/html:<p>The PhD course is aimed at <strong>PhD students and junior postdocs who 
 conduct ice core analysis or are users of ice core data</strong> (glaciolog
 ical, oceanographic, climate modelers).</p><p>ICAT aims to educate a new ge
 neration of ice core researchers and foster a collaborative environment for
  future glaciological projects.</p><p>This course will enhance the knowledg
 e between PhD’s within the ice core community on new methods developed for 
 the analysis of ice core climate.</p><p>Download <a href="http://recap.nbi.
 ku.dk/icat-ice-core-analysis-techniques_octnov-2016/ICAT_Poster.pdf">FULL I
 NVITATION</a></p><p><strong>LECTURES INCLUDE</strong><br />Prof Joe McConne
 ll, Prof Ed Brook, Prof Thomas Blunier with more.</p><p><strong>REGISTRATIO
 N FEE</strong><br />No registration fee, but students should prepare for th
 eir own lodging and transport.</p><p><strong>APPLICATION</strong><br />Send
  your application as a <strong>single pdf</strong> to <span id="cloak8dbef8
 94277a9228903404005d3f9429">This email address is being protected from spam
 bots. You need JavaScript enabled to view it.</span><script type='text/java
 script'>
				document.getElementById('cloak8dbef894277a9228903404005d3f9429
 ').innerHTML = '';
				var prefix = '&#109;a' + 'i&#108;' + '&#116;o';
				
 var path = 'hr' + 'ef' + '=';
				var addy8dbef894277a9228903404005d3f9429 
 = 'h&#101;ll&#101;k' + '&#64;';
				addy8dbef894277a9228903404005d3f9429 = 
 addy8dbef894277a9228903404005d3f9429 + 'fys' + '&#46;' + 'k&#117;' + '&#46;
 ' + 'dk';
				var addy_text8dbef894277a9228903404005d3f9429 = 'h&#101;ll&#1
 01;k' + '&#64;' + 'fys' + '&#46;' + 'k&#117;' + '&#46;' + 'dk';document.get
 ElementById('cloak8dbef894277a9228903404005d3f9429').innerHTML += '<a ' + p
 ath + '\'' + prefix + ':' + addy8dbef894277a9228903404005d3f9429 + '\'>'+ad
 dy_text8dbef894277a9228903404005d3f9429+'<\/a>';
		</script> before <strong
 >July 30th, 2016</strong>. You will be notified the decission of the Select
 ion Committee by September 1st, 2016.</p><p>Your application should include
 :</p><ul><li>A statement of why you want to participate</li><li>Affiliation
 , name of supervisor</li><li>A 200 word description of your research projec
 t</li><li>A Curriculum Vitae</li></ul><p>For more information please contac
 t Helle Kjær, <span id="cloak9a7df44ac1ebe183c19062e9c71ce5d9">This email a
 ddress is being protected from spambots. You need JavaScript enabled to vie
 w it.</span><script type='text/javascript'>
				document.getElementById('cl
 oak9a7df44ac1ebe183c19062e9c71ce5d9').innerHTML = '';
				var prefix = '&#1
 09;a' + 'i&#108;' + '&#116;o';
				var path = 'hr' + 'ef' + '=';
				var ad
 dy9a7df44ac1ebe183c19062e9c71ce5d9 = 'h&#101;ll&#101;k' + '&#64;';
				addy
 9a7df44ac1ebe183c19062e9c71ce5d9 = addy9a7df44ac1ebe183c19062e9c71ce5d9 + '
 fys' + '&#46;' + 'k&#117;' + '&#46;' + 'dk';
				var addy_text9a7df44ac1ebe
 183c19062e9c71ce5d9 = 'h&#101;ll&#101;k' + '&#64;' + 'fys' + '&#46;' + 'k&#
 117;' + '&#46;' + 'dk';document.getElementById('cloak9a7df44ac1ebe183c19062
 e9c71ce5d9').innerHTML += '<a ' + path + '\'' + prefix + ':' + addy9a7df44a
 c1ebe183c19062e9c71ce5d9 + '\'>'+addy_text9a7df44ac1ebe183c19062e9c71ce5d9+
 '<\/a>';
		</script></p>
CONTACT:Helle Kjær, This email address is being protected from spambots. You need JavaScript enabled to view it.
				document.getElementById('cloak5ddc7db6ee37f78c0d84df59b2f1e538').innerHTML = '';
				var prefix = '&#109;a' + 'i&#108;' + '&#116;o';
				var path = 'hr' + 'ef' + '=';
				var addy5ddc7db6ee37f78c0d84df59b2f1e538 = 'h&#101;ll&#101;k' + '&#64;';
				addy5ddc7db6ee37f78c0d84df59b2f1e538 = addy5ddc7db6ee37f78c0d84df59b2f1e538 + 'fys' + '&#46;' + 'k&#117;' + '&#46;' + 'dk';
				var addy_text5ddc7db6ee37f78c0d84df59b2f1e538 = 'h&#101;ll&#101;k' + '&#64;' + 'fys' + '&#46;' + 'k&#117;' + '&#46;' + 'dk';document.getElementById('cloak5ddc7db6ee37f78c0d84df59b2f1e538').innerHTML += '<a ' + path + '\'' + prefix + ':' + addy5ddc7db6ee37f78c0d84df59b2f1e538 + '\'>'+addy_text5ddc7db6ee37f78c0d84df59b2f1e538+'';
		
DTSTAMP:20260424T122159Z
DTSTART;TZID=UTC;VALUE=DATE:20161031
DTEND;TZID=UTC;VALUE=DATE:20161106
SEQUENCE:0
TRANSP:OPAQUE
END:VEVENT
END:VCALENDAR