BEGIN:VCALENDAR
VERSION:2.0
PRODID:-//jEvents 2.0 for Joomla//EN
CALSCALE:GREGORIAN
METHOD:PUBLISH
BEGIN:VEVENT
UID:cb7496db70c4193e3b19c8228e9e1d0a
CATEGORIES:APECS Events
CREATED:20241022T081716
SUMMARY:Arctic PASSION Online Seminar & Dialogue “Artificial Intelligence meets an Accessible Arctic Air Quality Forecast”
LOCATION:Online
DESCRIPTION:<p>In this online seminar, Arctic PASSION is introducing its&nbsp;<strong>A
 </strong>ir Q<strong>u</strong>ality Fo<strong>r</strong>ecast f<strong>or<
 /strong>&nbsp;<strong>A</strong>rctic Communiti<strong>e</strong>s (AURORAE
 ) Service:&nbsp;<a href="https://aurorae.azurewebsites.net/"></a><a href="h
 ttps://aurorae.azurewebsites.net/"></a><a href="https://aurorae.azurewebsit
 es.net/">https://aurorae.azurewebsites.net/</a>. The AURORAE service is a w
 eb interface to monitor the air quality of the North European countries on 
 a daily basis. It is providing a two-day forecast of particulate matter con
 centrations developed through an Artificial Intelligence (AI) model.</p><p>
 The&nbsp; website offers an interactive map showing air pollution concentra
 tion and near-real-time forecast at hourly resolution for over 100 sites in
  Northern Europe, highlighting projected air quality conditions at each sta
 tion. A daily bulletin reporting the forecast for all stations will be also
  released on a daily basis to provide a broad overview of air pollution sta
 tus for Northern communities.&nbsp;</p><p>Accessible air quality forecasts 
 can help citizens and policy-makers with informed decision making about the
 ir health, safety, and environmental protection. In this online seminar we 
 will present and demonstrate the new forecast service and discuss it with t
 he audience. Feedback on AURORAE via this short user survey&nbsp;<a href="h
 ttps://app.sli.do/event/e5kB4Q2beKteDcT4qwMvYD"></a><a href="https://app.sl
 i.do/event/e5kB4Q2beKteDcT4qwMvYD"></a><a href="https://app.sli.do/event/e5
 kB4Q2beKteDcT4qwMvYD">https://app.sli.do/event/e5kB4Q2beKteDcT4qwMvYD</a>&n
 bsp;is highly appreciated and will be used for its further development.</p>
 <p><strong>Register here for the seminar</strong>:&nbsp;<a href="https://eu
 01web.zoom.us/meeting/register/u5crd-yorz0tG9MAnPG96hGYlZT4nknmsApX"></a><a
  href="https://eu01web.zoom.us/meeting/register/u5crd-yorz0tG9MAnPG96hGYlZT
 4nknmsApX"></a><a href="https://eu01web.zoom.us/meeting/register/u5crd-yorz
 0tG9MAnPG96hGYlZT4nknmsApX">https://eu01web.zoom.us/meeting/register/u5crd-
 yorz0tG9MAnPG96hGYlZT4nknmsApX</a>&nbsp;</p><p><strong>Speakers:&nbsp;<br /
 ></strong>Ilaria Crotti, Polar Scientist at the Joint Research Centre of th
 e European Commission<br />Alice Cuzzucoli, Mathematician and AI Scientist 
 at the Italian National Research Council</p><p><br /><strong>Moderation:</s
 trong><br />Lisa Grosfeld and Josefine Lenz, Project Managers at the Alfred
  Wegener Institute and APECS</p>
X-EXTRAINFO:https://eu01web.zoom.us/meeting/register/u5crd-yorz0tG9MAnPG96hGYlZT4nknmsA
 pX#/registration
DTSTAMP:20260422T142252Z
DTSTART;TZID=UTC;VALUE=DATE:20241029
DTEND;TZID=UTC;VALUE=DATE:20241030
SEQUENCE:0
TRANSP:OPAQUE
END:VEVENT
END:VCALENDAR