BEGIN:VCALENDAR
VERSION:2.0
PRODID:-//jEvents 2.0 for Joomla//EN
CALSCALE:GREGORIAN
METHOD:PUBLISH
BEGIN:VEVENT
UID:384cb3916c4712d28eab376ab14b0845
CATEGORIES:Polar Conferences, Meetings and Events
CREATED:20240312T165616
SUMMARY:2024 Ocean Decade Conference
DESCRIPTION:https://oceandecade.org/events/2024-ocean-decade-conference/\n
X-ALT-DESC;FMTTYPE=text/html:<p><a href="https://oceandecade.org/events/2024-ocean-decade-conference/">h
 ttps://oceandecade.org/events/2024-ocean-decade-conference/</a></p>
DTSTAMP:20260424T235712Z
DTSTART;TZID=UTC;VALUE=DATE:20240410
DTEND;TZID=UTC;VALUE=DATE:20240413
SEQUENCE:0
TRANSP:OPAQUE
END:VEVENT
END:VCALENDAR