BEGIN:VCALENDAR
VERSION:2.0
PRODID:-//jEvents 2.0 for Joomla//EN
CALSCALE:GREGORIAN
METHOD:PUBLISH
BEGIN:VEVENT
UID:9e9df64320fbc273c4881b567e50f36a
CATEGORIES:APECS Events
CREATED:20240312T164838
SUMMARY:Arctic PASSION Webinar: Learning from the Sharing Circle
DESCRIPTION:Webinar details here: https://www.apecs.is/news/apecs-news/5240-learning-fr
 om-the-sharing-circle-an-arctic-passion-webinar.html (news/apecs-news/5240-
 learning-from-the-sharing-circle-an-arctic-passion-webinar.html)\n
X-ALT-DESC;FMTTYPE=text/html:<p>Webinar details here:&nbsp;<a href="news/apecs-news/5240-learning-from-t
 he-sharing-circle-an-arctic-passion-webinar.html">https://www.apecs.is/news
 /apecs-news/5240-learning-from-the-sharing-circle-an-arctic-passion-webinar
 .html</a></p>
DTSTAMP:20260422T095840Z
DTSTART;TZID=UTC;VALUE=DATE:20240318
DTEND;TZID=UTC;VALUE=DATE:20240319
SEQUENCE:0
TRANSP:OPAQUE
END:VEVENT
END:VCALENDAR