BEGIN:VCALENDAR
VERSION:2.0
PRODID:-//jEvents 2.0 for Joomla//EN
CALSCALE:GREGORIAN
METHOD:PUBLISH
BEGIN:VEVENT
UID:0b5ffed0415de463e0a0c0d2060d823a
CATEGORIES:Polar Conferences, Meetings and Events
CREATED:20240312T164340
SUMMARY:The Antarctic Seminar 2024
LOCATION:Tromsø\, Norway
DESCRIPTION:<p>The Norwegian Polar Institute and The Research Council of Norway will ar
 range the fifth Antarctic Seminar 7-8 May 2024 at the FRAM Centre in Tromsø
 .&nbsp;</p><p>Deadline for abstract submission is 13 March 2024.</p><p>Full
  details:&nbsp;<a href="https://www.forskningsradet.no/en/events/2024/antar
 ctic-seminar-2024/">https://www.forskningsradet.no/en/events/2024/antarctic
 -seminar-2024/</a></p>
DTSTAMP:20260421T192858Z
DTSTART;TZID=UTC;VALUE=DATE:20240507
DTEND;TZID=UTC;VALUE=DATE:20240509
SEQUENCE:0
TRANSP:OPAQUE
END:VEVENT
END:VCALENDAR