BEGIN:VCALENDAR
VERSION:2.0
PRODID:-//jEvents 2.0 for Joomla//EN
CALSCALE:GREGORIAN
METHOD:PUBLISH
BEGIN:VEVENT
UID:73d9ab49dbdadf996db7f0451b9d1ddb
CATEGORIES:Polar Conferences, Meetings and Events
CREATED:20170301T074645
SUMMARY:International symposium “Law and Governance: emerging issues of the polar regions”
LOCATION:Shanghai\, China
DESCRIPTION:The symposium on “Law and Governance: emerging issues of the polar regions”
  will be held in Shanghai on 20-21 June 2017, hosted by Center for Polar an
 d Deep Ocean Development of Shanghai Jiao Tong University.\n\nThe symposium
  aims to bring together scholars, experts and policymakers from all over th
 e world to share the topics including: Climate change Impact on Arctic ship
 ping and Resource Exploitation; New dynamics and relevant legal issues in t
 he polar regions; Conservation of Marine Living Resources in the Polar Regi
 ons; Evolution and challenges of the polar governance regimes/systems; Key 
 players' Polar Policies and Practices; China's Role in the Polar Governance
 . Please kindly notice that the deadline for abstracts is 15 March 2017.\nA
 ttached is the detailed information. For further questions, please kindly c
 ontact Ms. HE Liu (This email address is being protected from spambots. You
  need JavaScript enabled to view it.
				document.getElementById('cloak844b
 f527401ad21ece423c104aebc1eb').innerHTML = '';
				var prefix = '&#109;a' +
  'i&#108;' + '&#116;o';
				var path = 'hr' + 'ef' + '=';
				var addy844bf
 527401ad21ece423c104aebc1eb = 'h&#101;l&#105;&#117;h&#111;lly' + '&#64;';
	
 			addy844bf527401ad21ece423c104aebc1eb = addy844bf527401ad21ece423c104aebc
 1eb + 'sjt&#117;' + '&#46;' + '&#101;d&#117;' + '&#46;' + 'cn';
				var add
 y_text844bf527401ad21ece423c104aebc1eb = 'h&#101;l&#105;&#117;h&#111;lly' +
  '&#64;' + 'sjt&#117;' + '&#46;' + '&#101;d&#117;' + '&#46;' + 'cn';documen
 t.getElementById('cloak844bf527401ad21ece423c104aebc1eb').innerHTML += '<a 
 ' + path + '\'' + prefix + ':' + addy844bf527401ad21ece423c104aebc1eb + '\'
 >'+addy_text844bf527401ad21ece423c104aebc1eb+'';
		) for more information.\
 n
X-ALT-DESC;FMTTYPE=text/html:<p><strong>The symposium on “Law and Governance: emerging issues of the pol
 ar regions” will be held in Shanghai on 20-21 June 2017, hosted by Center f
 or Polar and Deep Ocean Development of Shanghai Jiao Tong University.</stro
 ng></p><p><br />The symposium aims to bring together scholars, experts and 
 policymakers from all over the world to share the topics including: Climate
  change Impact on Arctic shipping and Resource Exploitation; New dynamics a
 nd relevant legal issues in the polar regions; Conservation of Marine Livin
 g Resources in the Polar Regions; Evolution and challenges of the polar gov
 ernance regimes/systems; Key players' Polar Policies and Practices; China's
  Role in the Polar Governance. Please kindly notice that the <strong>deadli
 ne for abstracts is 15 March 2017.</strong></p><p>Attached is the detailed 
 information. For further questions, please kindly contact <strong>Ms. HE Li
 u (<span id="cloak844bf527401ad21ece423c104aebc1eb">This email address is b
 eing protected from spambots. You need JavaScript enabled to view it.</span
 ><script type='text/javascript'>
				document.getElementById('cloak844bf527
 401ad21ece423c104aebc1eb').innerHTML = '';
				var prefix = '&#109;a' + 'i&
 #108;' + '&#116;o';
				var path = 'hr' + 'ef' + '=';
				var addy844bf5274
 01ad21ece423c104aebc1eb = 'h&#101;l&#105;&#117;h&#111;lly' + '&#64;';
				a
 ddy844bf527401ad21ece423c104aebc1eb = addy844bf527401ad21ece423c104aebc1eb 
 + 'sjt&#117;' + '&#46;' + '&#101;d&#117;' + '&#46;' + 'cn';
				var addy_te
 xt844bf527401ad21ece423c104aebc1eb = 'h&#101;l&#105;&#117;h&#111;lly' + '&#
 64;' + 'sjt&#117;' + '&#46;' + '&#101;d&#117;' + '&#46;' + 'cn';document.ge
 tElementById('cloak844bf527401ad21ece423c104aebc1eb').innerHTML += '<a ' + 
 path + '\'' + prefix + ':' + addy844bf527401ad21ece423c104aebc1eb + '\'>'+a
 ddy_text844bf527401ad21ece423c104aebc1eb+'<\/a>';
		</script>)</strong> for
  more information.</p>
CONTACT:Ms. HE Liu (This email address is being protected from spambots. You need JavaScript enabled to view it.
				document.getElementById('cloake54b99095baed18a5dd2270449dd7556').innerHTML = '';
				var prefix = '&#109;a' + 'i&#108;' + '&#116;o';
				var path = 'hr' + 'ef' + '=';
				var addye54b99095baed18a5dd2270449dd7556 = 'h&#101;l&#105;&#117;h&#111;lly' + '&#64;';
				addye54b99095baed18a5dd2270449dd7556 = addye54b99095baed18a5dd2270449dd7556 + 'sjt&#117;' + '&#46;' + '&#101;d&#117;' + '&#46;' + 'cn';
				var addy_texte54b99095baed18a5dd2270449dd7556 = 'h&#101;l&#105;&#117;h&#111;lly' + '&#64;' + 'sjt&#117;' + '&#46;' + '&#101;d&#117;' + '&#46;' + 'cn';document.getElementById('cloake54b99095baed18a5dd2270449dd7556').innerHTML += '<a ' + path + '\'' + prefix + ':' + addye54b99095baed18a5dd2270449dd7556 + '\'>'+addy_texte54b99095baed18a5dd2270449dd7556+'';
		)
DTSTAMP:20260425T232102Z
DTSTART;TZID=UTC:20170620T080000
DTEND;TZID=UTC:20170621T080000
SEQUENCE:0
TRANSP:OPAQUE
END:VEVENT
END:VCALENDAR