BEGIN:VCALENDAR
VERSION:2.0
PRODID:-//jEvents 2.0 for Joomla//EN
CALSCALE:GREGORIAN
METHOD:PUBLISH
BEGIN:VEVENT
UID:92806906d8416f544f464f8fcd233ff6
CATEGORIES:Polar Conferences, Meetings and Events
CREATED:20230629T091403
SUMMARY:Workshop on the Dynamics and Mass Budget of Arctic Glaciers & IASC Network on Arctic Glaciology (NAG) meeting
LOCATION:Obergurgl\, Austria
DESCRIPTION:The next Workshop on the Dynamics and Mass Budget of Arctic Glaciers &amp; 
 IASC Network on Arctic Glaciology (NAG) meeting will be held in person on 2
 2-24 January 2024 in Obergurgl, Austria. In addition to the general worksho
 p on Arctic glaciology, the meeting will include a special cross-cutting se
 ssion on “Societal impacts of glacier and snow cover changes in a warming A
 rctic”, aiming to bring together glaciologists, atmospheric scientists, soc
 ial scientists and indigenous knowledge holders. We will welcome contributi
 ons in the form of oral presentations and posters. With funding from IASC w
 e will be able to provide travel support for a number of early career resea
 rchers. Registration and abstract submission will open in September.  More 
 information can be found on the NAG workshop website (https://nag.iasc.info
 /workshop) and the <a href="https://iasc.info/our-work/working-groups/cross
 -cutting-activities/cross-cutting-funded-projects/1130-societal-impacts-of-
 glacier-and-snow-cover-changes-in-a-warming-arctic" target="_blank" rel="no
 opener" data-saferedirecturl="https://www.google.com/url?q=https://iasc.inf
 o/our-work/working-groups/cross-cutting-activities/cross-cutting-funded-pro
 jects/1130-societal-impacts-of-glacier-and-snow-cover-changes-in-a-warming-
 arctic&amp;source=gmail&amp;ust=1688115303906000&amp;usg=AOvVaw3IuGUSynLKKK
 AumYGsFcD4">IASC cross-cutting activity website</a>.
X-ALT-DESC;FMTTYPE=text/html:<div>The next&nbsp;<strong>Workshop on the Dynamics and Mass Budget of Arct
 ic Glaciers &amp; IASC Network on Arctic Glaciology</strong><strong>&nbsp;(
 NAG</strong><strong>)&nbsp;</strong><strong>meeting</strong>&nbsp;will be h
 eld in person on&nbsp;<strong>2</strong><strong>2</strong><strong>-</strong
 ><strong>24</strong><strong>&nbsp;January 202</strong><strong>4</strong>&nb
 sp;in Obergurgl, Austria.</div><div>&nbsp;</div><div>In addition to the gen
 eral workshop on Arctic glaciology, the meeting will include a&nbsp;<strong
 >special&nbsp;</strong><strong>cross-cutti</strong><strong>ng&nbsp;</strong
 ><strong>session on&nbsp;</strong><strong>“</strong><strong><em>Societal im
 pacts of glacier and snow cover changes in a warming Arctic</em></strong><s
 trong>”</strong>,<strong>&nbsp;</strong>aiming to bring together glaciologi
 sts, atmospheric scientists, social scientists and indigenous knowledge hol
 ders. We will welcome contributions in the form of oral presentations and p
 osters. With funding from IASC we will be able to provide travel support fo
 r a number of early career researchers.</div><div>&nbsp;</div><div>Registra
 tion and abstract submission will open in September.&nbsp;</div><div>&nbsp;
 </div><div>More information can be found on the&nbsp;<a href="https://nag.i
 asc.info/workshop" target="_blank" rel="noopener" data-saferedirecturl="htt
 ps://www.google.com/url?q=https://nag.iasc.info/workshop&amp;source=gmail&a
 mp;ust=1688115303906000&amp;usg=AOvVaw2l2QS-3EvGElA5JBp6wH5q"><span style="
 color: #0563c1;"><span style="text-decoration: underline;">NAG workshop web
 site</span></span></a>&nbsp;and the&nbsp;<a href="https://iasc.info/our-wor
 k/working-groups/cross-cutting-activities/cross-cutting-funded-projects/113
 0-societal-impacts-of-glacier-and-snow-cover-changes-in-a-warming-arctic" t
 arget="_blank" rel="noopener" data-saferedirecturl="https://www.google.com/
 url?q=https://iasc.info/our-work/working-groups/cross-cutting-activities/cr
 oss-cutting-funded-projects/1130-societal-impacts-of-glacier-and-snow-cover
 -changes-in-a-warming-arctic&amp;source=gmail&amp;ust=1688115303906000&amp;
 usg=AOvVaw3IuGUSynLKKKAumYGsFcD4"><span style="color: #0563c1;"><span style
 ="text-decoration: underline;">IASC cross-cutting activity website</span></
 span></a>.</div>
DTSTAMP:20260420T094135Z
DTSTART;TZID=UTC;VALUE=DATE:20240122
DTEND;TZID=UTC;VALUE=DATE:20240125
SEQUENCE:0
TRANSP:OPAQUE
END:VEVENT
END:VCALENDAR