BEGIN:VCALENDAR
VERSION:2.0
PRODID:-//jEvents 2.0 for Joomla//EN
CALSCALE:GREGORIAN
METHOD:PUBLISH
BEGIN:VEVENT
UID:0b997e546fc62885850dd9a6066f7ae9
CATEGORIES:Polar Conferences, Meetings and Events
CREATED:20230629T090844
SUMMARY:Annual Polar CORDEX meeting
LOCATION:Utrecht\, Netherlands
DESCRIPTION:The annual Polar CORDEX meeting will be hosted by the University Utrecht, N
 etherlands on 4-6 October 2023.\nIf you want to attend, please complete the
  online registration form:  (https://climate-cryosphere.org/2023-polar-cord
 ex-annual-meeting/)<a href="https://climate-cryosphere.org/2023-polar-corde
 x-annual-meeting/">https://climate-cryosphere.org/2023-polar-cordex-annual-
 meeting/</a>. Deadline for registration is on 1 September.\n
X-ALT-DESC;FMTTYPE=text/html:<p><span style="font-size: 10pt;"><span style="font-family: Helvetica, Aria
 l, sans-serif;">The annual Polar CORDEX meeting will be hosted by the Unive
 rsity Utrecht, Netherlands <span style="font-family: Helvetica, Arial, sans
 -serif;">on 4-6 October 2023.</span></span></span></p><p><span style="font-
 size: 10pt;"><span style="font-family: Helvetica, Arial, sans-serif;">If yo
 u want to attend, please complete the online registration form:&nbsp;<a hre
 f="https://climate-cryosphere.org/2023-polar-cordex-annual-meeting/" target
 ="_blank" rel="noopener" data-saferedirecturl="https://www.google.com/url?q
 =https://climate-cryosphere.org/2023-polar-cordex-annual-meeting/&amp;sourc
 e=gmail&amp;ust=1688115303894000&amp;usg=AOvVaw1o0EKIP1xMwNIELySk6xRv"></a>
 <a href="https://climate-cryosphere.org/2023-polar-cordex-annual-meeting/">
 https://climate-cryosphere.org/2023-polar-cordex-annual-meeting/</a>. Deadl
 ine for registration is on 1 September.</span></span></p>
X-EXTRAINFO:https://climate-cryosphere.org/2023-polar-cordex-annual-meeting/
DTSTAMP:20260421T204202Z
DTSTART;TZID=UTC;VALUE=DATE:20231004
DTEND;TZID=UTC;VALUE=DATE:20231007
SEQUENCE:0
TRANSP:OPAQUE
END:VEVENT
END:VCALENDAR