BEGIN:VCALENDAR
VERSION:2.0
PRODID:-//jEvents 2.0 for Joomla//EN
CALSCALE:GREGORIAN
METHOD:PUBLISH
BEGIN:VEVENT
UID:51664ae42cfac991304cb8764ae6555e
CATEGORIES:Polar Online Events
CREATED:20230621T144243
SUMMARY:Global Indigenous Youth Summit on Climate Change
DESCRIPTION:The United Nations Institute for Training and Research (UNITAR) invites reg
 istration for the Global Indigenous Youth Summit on Climate Change. This on
 line conference will take place 9 August 2023.\nThe Global Indigenous Youth
  Summit on Climate Change (GIYSCC) is being convened by, for, and among Ind
 igenous youth (in contrast to Elders), who will participate in designing th
 e agenda and invite the participants from three eight-hour time zones, in a
  24-hour period, on 9 August 2023 (United Nations International Day of the 
 World’s Indigenous Peoples). In a complementary context, the Summit will pr
 ecede the United Nations International Youth Day on 12 August.\nFor more in
 formation, visit the summit webpage (https://event.unitar.org/full-catalog/
 global-indigenous-youth-summit-climate-change).\n
X-ALT-DESC;FMTTYPE=text/html:<p>The United Nations Institute for Training and Research (UNITAR) invites 
 registration for the Global Indigenous Youth Summit on Climate Change. This
  online conference will take place 9 August 2023.</p><p>The Global Indigeno
 us Youth Summit on Climate Change (GIYSCC) is being convened by, for, and a
 mong Indigenous youth (in contrast to Elders), who will participate in desi
 gning the agenda and invite the participants from three eight-hour time zon
 es, in a 24-hour period, on 9 August 2023 (United Nations International Day
  of the World’s Indigenous Peoples). In a complementary context, the Summit
  will precede the United Nations International Youth Day on 12 August.</p><
 p>For more information, visit the <a href="https://event.unitar.org/full-ca
 talog/global-indigenous-youth-summit-climate-change" target="_blank" rel="n
 oopener">summit webpage</a>.</p>
DTSTAMP:20260419T224415Z
DTSTART;TZID=UTC;VALUE=DATE:20230809
DTEND;TZID=UTC;VALUE=DATE:20230810
SEQUENCE:0
TRANSP:OPAQUE
END:VEVENT
END:VCALENDAR