BEGIN:VCALENDAR
VERSION:2.0
PRODID:-//jEvents 2.0 for Joomla//EN
CALSCALE:GREGORIAN
METHOD:PUBLISH
BEGIN:VEVENT
UID:ba893c818212fec1dc2c13428f8db3de
CATEGORIES:Polar Online Events
CREATED:20230503T123230
SUMMARY:IARPC webinar on participatory research and Indigenous leadership in research
DESCRIPTION:Research collaborators and sisters Corina Qaaġraq Kramer (Iñupiaq, Aqqaluk 
 Trust) and Cana Uluak Itchuaqiyaq (Iñupiaq, Virginia Tech) will share how t
 heir approach to community partnership and co-production of knowledge is in
 novating equity, outcomes, and Indigenous leadership in Arctic research. Th
 is presentation is a must-see for anyone who is interested in Arctic resear
 ch in and with Indigenous communities.\n
X-ALT-DESC;FMTTYPE=text/html:<p>Research collaborators and sisters Corina Qaaġraq Kramer (Iñupiaq,&nbsp;
 Aqqaluk Trust) and Cana Uluak Itchuaqiyaq (Iñupiaq,&nbsp;Virginia Tech) wil
 l share how their approach to community partnership and co-production of kn
 owledge is innovating equity, outcomes, and Indigenous leadership in Arctic
  research. This presentation is a must-see for anyone who is interested in 
 Arctic research in and with Indigenous communities.</p>
X-EXTRAINFO:https://www.iarpccollaborations.org/events/23919
DTSTAMP:20260420T224650Z
DTSTART;TZID=UTC;VALUE=DATE:20230518
DTEND;TZID=UTC;VALUE=DATE:20230519
SEQUENCE:0
TRANSP:OPAQUE
END:VEVENT
END:VCALENDAR