BEGIN:VCALENDAR
VERSION:2.0
PRODID:-//jEvents 2.0 for Joomla//EN
CALSCALE:GREGORIAN
METHOD:PUBLISH
BEGIN:VEVENT
UID:c94a6772f849d3bf85a95dbd0d476f16
CATEGORIES:Polar Conferences, Meetings and Events
CREATED:20230503T122706
SUMMARY:Arctic Science Summit Week 2024 (ASSW 2024)
LOCATION:Edinburgh\, Scotland\, UK
DESCRIPTION:On behalf of the , the <a href="https://iasc.us15.list-manage.com/track/cli
 ck?u=cc1166cc274e21e28825540d6&amp;id=37fdec1b4c&amp;e=cd5a861bd4" target="
 _blank" rel="noopener" data-saferedirecturl="https://www.google.com/url?q=h
 ttps://iasc.us15.list-manage.com/track/click?u%3Dcc1166cc274e21e28825540d6%
 26id%3D37fdec1b4c%26e%3Dcd5a861bd4&amp;source=gmail&amp;ust=168320290143200
 0&amp;usg=AOvVaw3dW5_ukWrS4U6yE3cU_Xmn">University of Edinburgh</a>and the 
 Local Organising Committee we are pleased to invite you to the , including 
 the Arctic Observing Summit, which will be hosted in Edinburgh (Scotland, U
 K) from the 21 to 29 March 2024.\nInvitation to Edinburgh for ASSW 2024\nOn
  behalf of the Local Organising Committee we are delighted to invite you to
  the Arctic Science Summit Week 2024 (ASSW 2024), including the Arctic Obse
 rving Summit, which will take place in the historic city of Edinburgh (Scot
 land, UK) from 21-29 March 2024.\nThe conference is being organised by a st
 rong team of partners; led by the <a href="https://iasc.us15.list-manage.co
 m/track/click?u=cc1166cc274e21e28825540d6&amp;id=addac053f4&amp;e=cd5a861bd
 4" target="_blank" rel="noopener" data-saferedirecturl="https://www.google.
 com/url?q=https://iasc.us15.list-manage.com/track/click?u%3Dcc1166cc274e21e
 28825540d6%26id%3Daddac053f4%26e%3Dcd5a861bd4&amp;source=gmail&amp;ust=1683
 202901432000&amp;usg=AOvVaw0BOhmd47P5PCN9bXTkZF0z">Scottish Arctic Network 
 (ScAN)</a>, the the <a href="https://iasc.us15.list-manage.com/track/click?
 u=cc1166cc274e21e28825540d6&amp;id=8c685a8606&amp;e=cd5a861bd4" target="_bl
 ank" rel="noopener" data-saferedirecturl="https://www.google.com/url?q=http
 s://iasc.us15.list-manage.com/track/click?u%3Dcc1166cc274e21e28825540d6%26i
 d%3D8c685a8606%26e%3Dcd5a861bd4&amp;source=gmail&amp;ust=1683202901432000&a
 mp;usg=AOvVaw0T6G6o8DH1xEPZB4H9L2oL">International Arctic Science Committee
  (IASC)</a>, ; <a href="https://iasc.us15.list-manage.com/track/click?u=cc1
 166cc274e21e28825540d6&amp;id=19f6beb27c&amp;e=cd5a861bd4" target="_blank" 
 rel="noopener" data-saferedirecturl="https://www.google.com/url?q=https://i
 asc.us15.list-manage.com/track/click?u%3Dcc1166cc274e21e28825540d6%26id%3D1
 9f6beb27c%26e%3Dcd5a861bd4&amp;source=gmail&amp;ust=1683202901432000&amp;us
 g=AOvVaw2xtnxB1R7oDgyu6dGodBVF">Scottish Alliance for Geosciences Environme
 nt and Society</a> <a href="https://iasc.us15.list-manage.com/track/click?u
 =cc1166cc274e21e28825540d6&amp;id=b3274e1a56&amp;e=cd5a861bd4" target="_bla
 nk" rel="noopener" data-saferedirecturl="https://www.google.com/url?q=https
 ://iasc.us15.list-manage.com/track/click?u%3Dcc1166cc274e21e28825540d6%26id
 %3Db3274e1a56%26e%3Dcd5a861bd4&amp;source=gmail&amp;ust=1683202901432000&am
 p;usg=AOvVaw09dnK9595yUm6Ys4GRzu03">Marine Alliance for Science and Technol
 ogy for Scotland</a>; ; and the <a href="https://iasc.us15.list-manage.com/
 track/click?u=cc1166cc274e21e28825540d6&amp;id=1925510a91&amp;e=cd5a861bd4"
  target="_blank" rel="noopener" data-saferedirecturl="https://www.google.co
 m/url?q=https://iasc.us15.list-manage.com/track/click?u%3Dcc1166cc274e21e28
 825540d6%26id%3D1925510a91%26e%3Dcd5a861bd4&amp;source=gmail&amp;ust=168320
 2901432000&amp;usg=AOvVaw3d2gKhtXQv2aEexv0uvy6j">NERC Arctic Office</a>.\nT
 he venue will be The University of Edinburgh, one of the world’s best unive
 rsities in one of the world’s greatest cities. Whilst we hope you can join 
 us in beautiful Edinburgh, the conference is also planned as a hybrid event
 .\nThe Call for business and community meetings is now open. We look forwar
 d to receiving your proposals and we can’t wait to welcome you to Edinburgh
  next year.\nHenry Burgess, IASC President, Head of NERC Arctic Office, Cha
 ir of Local Organising Committee\nProgramme Dates\n21-26 March 2024 - ASSW 
 2024 Business and Community Meetings\n26 March 2024 - Science Day\n27-29 Ma
 rch - Arctic Observing Summit\nImportant Dates\n25 April 2023 – 30 Septembe
 r 2023 - Call for Business and Community Meetings\nAutumn 2023 - Registrati
 on opens\n21-29 March 2024 - ASSW2024\nQuestions\nMore information is avail
 able on the \n<a href="https://iasc.us15.list-manage.com/track/click?u=cc11
 66cc274e21e28825540d6&amp;id=915bb9eba1&amp;e=cd5a861bd4" target="_blank" r
 el="noopener" data-saferedirecturl="https://www.google.com/url?q=https://ia
 sc.us15.list-manage.com/track/click?u%3Dcc1166cc274e21e28825540d6%26id%3D91
 5bb9eba1%26e%3Dcd5a861bd4&amp;source=gmail&amp;ust=1683202901432000&amp;usg
 =AOvVaw3JdCnFqjxIXmusU2w_8czi">Subscribe to the ASSW newsletter </a>\nPleas
 e do not hesitate to contact  (mailto:ASSW2024@ed.ac.uk)This email address 
 is being protected from spambots. You need JavaScript enabled to view it.
	
 			document.getElementById('cloak04aaea58083c172e2ef21df28743a0d6').innerHT
 ML = '';
				var prefix = '&#109;a' + 'i&#108;' + '&#116;o';
				var path =
  'hr' + 'ef' + '=';
				var addy04aaea58083c172e2ef21df28743a0d6 = 'ASSW202
 4' + '&#64;';
				addy04aaea58083c172e2ef21df28743a0d6 = addy04aaea58083c17
 2e2ef21df28743a0d6 + '&#101;d' + '&#46;' + '&#97;c' + '&#46;' + '&#117;k';

 				var addy_text04aaea58083c172e2ef21df28743a0d6 = 'ASSW2024' + '&#64;' + 
 '&#101;d' + '&#46;' + '&#97;c' + '&#46;' + '&#117;k';document.getElementByI
 d('cloak04aaea58083c172e2ef21df28743a0d6').innerHTML += '<a ' + path + '\''
  + prefix + ':' + addy04aaea58083c172e2ef21df28743a0d6 + '\'>'+addy_text04a
 aea58083c172e2ef21df28743a0d6+'';
		 if you have any queries!\n
X-ALT-DESC;FMTTYPE=text/html:<p>On behalf of the&nbsp;<a href="https://iasc.us15.list-manage.com/track/c
 lick?u=cc1166cc274e21e28825540d6&amp;id=e3f77f9179&amp;e=cd5a861bd4" target
 ="_blank" rel="noopener" data-saferedirecturl="https://www.google.com/url?q
 =https://iasc.us15.list-manage.com/track/click?u%3Dcc1166cc274e21e28825540d
 6%26id%3De3f77f9179%26e%3Dcd5a861bd4&amp;source=gmail&amp;ust=1683202901432
 000&amp;usg=AOvVaw1BxqNGFh022owHy63sl6dU">Scottish Arctic Network (ScAN)</a
 >, the&nbsp;<a href="https://iasc.us15.list-manage.com/track/click?u=cc1166
 cc274e21e28825540d6&amp;id=37fdec1b4c&amp;e=cd5a861bd4" target="_blank" rel
 ="noopener" data-saferedirecturl="https://www.google.com/url?q=https://iasc
 .us15.list-manage.com/track/click?u%3Dcc1166cc274e21e28825540d6%26id%3D37fd
 ec1b4c%26e%3Dcd5a861bd4&amp;source=gmail&amp;ust=1683202901432000&amp;usg=A
 OvVaw3dW5_ukWrS4U6yE3cU_Xmn">University of Edinburgh</a>and the Local Organ
 ising Committee we are pleased to invite you to the&nbsp;<a href="https://i
 asc.us15.list-manage.com/track/click?u=cc1166cc274e21e28825540d6&amp;id=24b
 ff260e4&amp;e=cd5a861bd4" target="_blank" rel="noopener" data-saferedirectu
 rl="https://www.google.com/url?q=https://iasc.us15.list-manage.com/track/cl
 ick?u%3Dcc1166cc274e21e28825540d6%26id%3D24bff260e4%26e%3Dcd5a861bd4&amp;so
 urce=gmail&amp;ust=1683202901432000&amp;usg=AOvVaw257OAzzzVlMc6_pnldMItr">A
 rctic Science Summit Week 2024 (ASSW 2024)</a>, including the Arctic Observ
 ing Summit, which will be hosted in Edinburgh (Scotland, UK) from the 21 to
  29 March 2024.</p><p><strong>Invitation to Edinburgh for ASSW 2024</strong
 ></p><p>On behalf of the Local Organising Committee we are delighted to inv
 ite you to the Arctic Science Summit Week 2024 (ASSW 2024), including the A
 rctic Observing Summit, which will take place in the historic city of Edinb
 urgh (Scotland, UK) from 21-29 March 2024.</p><p>The conference is being or
 ganised by a strong team of partners; led by the&nbsp;<a href="https://iasc
 .us15.list-manage.com/track/click?u=cc1166cc274e21e28825540d6&amp;id=addac0
 53f4&amp;e=cd5a861bd4" target="_blank" rel="noopener" data-saferedirecturl=
 "https://www.google.com/url?q=https://iasc.us15.list-manage.com/track/click
 ?u%3Dcc1166cc274e21e28825540d6%26id%3Daddac053f4%26e%3Dcd5a861bd4&amp;sourc
 e=gmail&amp;ust=1683202901432000&amp;usg=AOvVaw0BOhmd47P5PCN9bXTkZF0z">Scot
 tish Arctic Network (ScAN)</a>, the&nbsp;<a href="https://iasc.us15.list-ma
 nage.com/track/click?u=cc1166cc274e21e28825540d6&amp;id=d91acf95ea&amp;e=cd
 5a861bd4" target="_blank" rel="noopener" data-saferedirecturl="https://www.
 google.com/url?q=https://iasc.us15.list-manage.com/track/click?u%3Dcc1166cc
 274e21e28825540d6%26id%3Dd91acf95ea%26e%3Dcd5a861bd4&amp;source=gmail&amp;u
 st=1683202901432000&amp;usg=AOvVaw2Q2NZDOjHVRAeyn1EiqFC4">University of Edi
 nburgh;</a>the&nbsp;<a href="https://iasc.us15.list-manage.com/track/click?
 u=cc1166cc274e21e28825540d6&amp;id=8c685a8606&amp;e=cd5a861bd4" target="_bl
 ank" rel="noopener" data-saferedirecturl="https://www.google.com/url?q=http
 s://iasc.us15.list-manage.com/track/click?u%3Dcc1166cc274e21e28825540d6%26i
 d%3D8c685a8606%26e%3Dcd5a861bd4&amp;source=gmail&amp;ust=1683202901432000&a
 mp;usg=AOvVaw0T6G6o8DH1xEPZB4H9L2oL">International Arctic Science Committee
  (IASC)</a>,&nbsp;<a href="https://iasc.us15.list-manage.com/track/click?u=
 cc1166cc274e21e28825540d6&amp;id=b3d2543745&amp;e=cd5a861bd4" target="_blan
 k" rel="noopener" data-saferedirecturl="https://www.google.com/url?q=https:
 //iasc.us15.list-manage.com/track/click?u%3Dcc1166cc274e21e28825540d6%26id%
 3Db3d2543745%26e%3Dcd5a861bd4&amp;source=gmail&amp;ust=1683202901432000&amp
 ;usg=AOvVaw1RrWnxlcwuywW5eDEENT4g">Scottish Government</a>;&nbsp;<a href="h
 ttps://iasc.us15.list-manage.com/track/click?u=cc1166cc274e21e28825540d6&am
 p;id=19f6beb27c&amp;e=cd5a861bd4" target="_blank" rel="noopener" data-safer
 edirecturl="https://www.google.com/url?q=https://iasc.us15.list-manage.com/
 track/click?u%3Dcc1166cc274e21e28825540d6%26id%3D19f6beb27c%26e%3Dcd5a861bd
 4&amp;source=gmail&amp;ust=1683202901432000&amp;usg=AOvVaw2xtnxB1R7oDgyu6dG
 odBVF">Scottish Alliance for Geosciences Environment and Society</a><a href
 ="https://iasc.us15.list-manage.com/track/click?u=cc1166cc274e21e28825540d6
 &amp;id=299b7f0615&amp;e=cd5a861bd4" target="_blank" rel="noopener" data-sa
 feredirecturl="https://www.google.com/url?q=https://iasc.us15.list-manage.c
 om/track/click?u%3Dcc1166cc274e21e28825540d6%26id%3D299b7f0615%26e%3Dcd5a86
 1bd4&amp;source=gmail&amp;ust=1683202901432000&amp;usg=AOvVaw3mJHR-sZLA5crc
 OrtQ0Vae">;</a>&nbsp;<a href="https://iasc.us15.list-manage.com/track/click
 ?u=cc1166cc274e21e28825540d6&amp;id=b3274e1a56&amp;e=cd5a861bd4" target="_b
 lank" rel="noopener" data-saferedirecturl="https://www.google.com/url?q=htt
 ps://iasc.us15.list-manage.com/track/click?u%3Dcc1166cc274e21e28825540d6%26
 id%3Db3274e1a56%26e%3Dcd5a861bd4&amp;source=gmail&amp;ust=1683202901432000&
 amp;usg=AOvVaw09dnK9595yUm6Ys4GRzu03">Marine Alliance for Science and Techn
 ology for Scotland</a>;&nbsp;<a href="https://iasc.us15.list-manage.com/tra
 ck/click?u=cc1166cc274e21e28825540d6&amp;id=c53d400f55&amp;e=cd5a861bd4" ta
 rget="_blank" rel="noopener" data-saferedirecturl="https://www.google.com/u
 rl?q=https://iasc.us15.list-manage.com/track/click?u%3Dcc1166cc274e21e28825
 540d6%26id%3Dc53d400f55%26e%3Dcd5a861bd4&amp;source=gmail&amp;ust=168320290
 1432000&amp;usg=AOvVaw0y-sbVI6XCqHnUln0wxTnR">UK Polar Network</a>; and the
 &nbsp;<a href="https://iasc.us15.list-manage.com/track/click?u=cc1166cc274e
 21e28825540d6&amp;id=1925510a91&amp;e=cd5a861bd4" target="_blank" rel="noop
 ener" data-saferedirecturl="https://www.google.com/url?q=https://iasc.us15.
 list-manage.com/track/click?u%3Dcc1166cc274e21e28825540d6%26id%3D1925510a91
 %26e%3Dcd5a861bd4&amp;source=gmail&amp;ust=1683202901432000&amp;usg=AOvVaw3
 d2gKhtXQv2aEexv0uvy6j">NERC Arctic Office</a>.</p><p>The venue will be&nbsp
 ;<strong>The</strong>&nbsp;<strong>University of Edinburgh</strong>, one of
  the world’s best universities in one of the world’s greatest cities. Whils
 t we hope you can join us in beautiful Edinburgh, the conference is also pl
 anned as a hybrid event.</p><p>The Call for business and community meetings
  is now open. We look forward to receiving your proposals and we can’t wait
  to welcome you to Edinburgh next year.</p><p>Henry Burgess, IASC President
 , Head of NERC Arctic Office, Chair of Local Organising Committee</p><p><st
 rong>Programme Dates</strong></p><p>21-26 March 2024 - ASSW 2024 Business a
 nd Community Meetings<br />26 March 2024 - Science Day<br />27-29 March - A
 rctic Observing Summit</p><p><strong>Important Dates</strong></p><p>25 Apri
 l 2023 – 30 September 2023 - Call for Business and Community Meetings<br />
 Autumn 2023 - Registration opens<br />21-29 March 2024 - ASSW2024</p><p><st
 rong>Questions</strong></p><p>More information is available on the&nbsp;<a 
 href="https://iasc.us15.list-manage.com/track/click?u=cc1166cc274e21e288255
 40d6&amp;id=fd587f0b73&amp;e=cd5a861bd4" target="_blank" rel="noopener" dat
 a-saferedirecturl="https://www.google.com/url?q=https://iasc.us15.list-mana
 ge.com/track/click?u%3Dcc1166cc274e21e28825540d6%26id%3Dfd587f0b73%26e%3Dcd
 5a861bd4&amp;source=gmail&amp;ust=1683202901432000&amp;usg=AOvVaw2it-r4Hv4W
 9LYsF7HYmdvs">ASSW 2024 website</a><br /><a href="https://iasc.us15.list-ma
 nage.com/track/click?u=cc1166cc274e21e28825540d6&amp;id=915bb9eba1&amp;e=cd
 5a861bd4" target="_blank" rel="noopener" data-saferedirecturl="https://www.
 google.com/url?q=https://iasc.us15.list-manage.com/track/click?u%3Dcc1166cc
 274e21e28825540d6%26id%3D915bb9eba1%26e%3Dcd5a861bd4&amp;source=gmail&amp;u
 st=1683202901432000&amp;usg=AOvVaw3JdCnFqjxIXmusU2w_8czi">Subscribe to the 
 ASSW newsletter&nbsp;</a><br />Please do not hesitate to contact&nbsp;<a hr
 ef="mailto:ASSW2024@ed.ac.uk" target="_blank"></a><span id="cloak04aaea5808
 3c172e2ef21df28743a0d6">This email address is being protected from spambots
 . You need JavaScript enabled to view it.</span><script type='text/javascri
 pt'>
				document.getElementById('cloak04aaea58083c172e2ef21df28743a0d6').i
 nnerHTML = '';
				var prefix = '&#109;a' + 'i&#108;' + '&#116;o';
				var 
 path = 'hr' + 'ef' + '=';
				var addy04aaea58083c172e2ef21df28743a0d6 = 'A
 SSW2024' + '&#64;';
				addy04aaea58083c172e2ef21df28743a0d6 = addy04aaea58
 083c172e2ef21df28743a0d6 + '&#101;d' + '&#46;' + '&#97;c' + '&#46;' + '&#11
 7;k';
				var addy_text04aaea58083c172e2ef21df28743a0d6 = 'ASSW2024' + '&#6
 4;' + '&#101;d' + '&#46;' + '&#97;c' + '&#46;' + '&#117;k';document.getElem
 entById('cloak04aaea58083c172e2ef21df28743a0d6').innerHTML += '<a ' + path 
 + '\'' + prefix + ':' + addy04aaea58083c172e2ef21df28743a0d6 + '\'>'+addy_t
 ext04aaea58083c172e2ef21df28743a0d6+'<\/a>';
		</script>&nbsp;if you have a
 ny queries!</p>
X-EXTRAINFO:https://assw.info
DTSTAMP:20260420T094334Z
DTSTART;TZID=UTC;VALUE=DATE:20240321
DTEND;TZID=UTC;VALUE=DATE:20240330
SEQUENCE:0
TRANSP:OPAQUE
END:VEVENT
END:VCALENDAR