BEGIN:VCALENDAR
VERSION:2.0
PRODID:-//jEvents 2.0 for Joomla//EN
CALSCALE:GREGORIAN
METHOD:PUBLISH
BEGIN:VEVENT
UID:303c48fb6872615d970f5ea12b542732
CATEGORIES:Polar Conferences, Meetings and Events
CREATED:20230412T060129
SUMMARY:18th Workshop on Antarctic Meteorology and Climate (WAMC) 
LOCATION:University of Wisconsin - Madison
DESCRIPTION:This is an announcement of the 18th Workshop on Antarctic Meteorology and C
 limate (WAMC) May 31 through June 2, 2023. This workshop will be held in a 
 hybrid format, allowing opportunities for everyone to participate in person
  at the University of Wisconsin-Madison’s Pyle Center on the shores of Lake
  Mendota or via online connection. The WAMC is an annual meeting for the An
 tarctic meteorological community to focus on a wide range of Antarctic topi
 cs from weather forecasting, observing, numerical modeling, data archive, a
 nd science research. \n Please see the 18th WAMC website (http://amrc.ssec.
 wisc.edu/meetings/meeting2023/) for an overview, <a href="https://charge.wi
 sc.edu/cimss/Registration?event=401">registration</a>, and abstract submiss
 ion (https://docs.google.com/forms/d/e/1FAIpQLSeH9Vg7Hjg-Y2EQitX6S1rdrp_fYb
 aRVB2iHZTqZRgKh_hJIg/viewform). Please note the following deadlines:\nHotel
  reservations – April 30th or May 9th\nMay 1st – Short Abstract submission\
 nMay 15th – Extended Abstract submission\n \nPlease note there is a signifi
 cant registration discount for students and early career researchers to att
 end. We look forward to having you attending this world premier Antarctic M
 eteorology workshop!\n
X-ALT-DESC;FMTTYPE=text/html:<p>This is an announcement of the 18<sup>th</sup>&nbsp;Workshop on Antarcti
 c Meteorology and Climate (WAMC) May 31 through June 2, 2023. This workshop
  will be held in a hybrid format, allowing opportunities for everyone to pa
 rticipate in person at the University of Wisconsin-Madison’s Pyle Center on
  the shores of Lake Mendota or via online connection. The WAMC is an annual
  meeting for the Antarctic meteorological community to focus on a wide rang
 e of Antarctic topics from weather forecasting, observing, numerical modeli
 ng, data archive, and science research.&nbsp;</p><p>&nbsp;Please see the 18
 <sup>th</sup>&nbsp;WAMC <a href="http://amrc.ssec.wisc.edu/meetings/meeting
 2023/">website</a> for an overview, <a href="https://charge.wisc.edu/cimss/
 Registration?event=401">registration</a>, and <a href="https://docs.google.
 com/forms/d/e/1FAIpQLSeH9Vg7Hjg-Y2EQitX6S1rdrp_fYbaRVB2iHZTqZRgKh_hJIg/view
 form">abstract submission</a>. Please note the following deadlines:</p><p>H
 otel reservations – April 30<sup>th</sup>&nbsp;or&nbsp;May 9<sup>th</sup></
 p><p>May 1<sup>st</sup>&nbsp;– Short Abstract submission</p><p>May 15<sup>t
 h</sup>&nbsp;– Extended Abstract submission</p><p>&nbsp;</p><p>Please note 
 there is a significant registration discount for students and early career 
 researchers to attend.&nbsp;We look forward to having you attending this wo
 rld premier Antarctic Meteorology workshop!</p>
DTSTAMP:20260420T092856Z
DTSTART;TZID=UTC;VALUE=DATE:20230531
DTEND;TZID=UTC;VALUE=DATE:20230603
SEQUENCE:0
TRANSP:OPAQUE
END:VEVENT
END:VCALENDAR