BEGIN:VCALENDAR
VERSION:2.0
PRODID:-//jEvents 2.0 for Joomla//EN
CALSCALE:GREGORIAN
METHOD:PUBLISH
BEGIN:VEVENT
UID:aaf89123faa2796ae905a08e586a015d
CATEGORIES:Polar Conferences, Meetings and Events
CREATED:20230325T155352
SUMMARY:5th annual conference of the Chilean Cryosphere Society
LOCATION:Viña del Mar and Valparaiso\, Chile
DESCRIPTION:The Chilean Society of the Cryosphere (SOCHICRI), in conjunction with the U
 niversidad Andrés Bello and the Universidad de Playa Ancha, Chile, are plea
 sed to invite you to participate in the V SOCHICRI Congress to be held in t
 he cities of Viña del Mar and Valparaíso, Valparaíso Region, Chile, on May 
 10, 11, 12 and 13**, 2023.\n**Day of land\n
X-ALT-DESC;FMTTYPE=text/html:<p>The Chilean Society of the Cryosphere (SOCHICRI), in conjunction with th
 e Universidad Andrés Bello and the Universidad de Playa Ancha, Chile, are p
 leased to invite you to participate in the V SOCHICRI Congress to be held i
 n the cities of Viña del Mar and Valparaíso, Valparaíso Region, Chile, on M
 ay 10, 11, 12 and 13**, 2023.</p><p>**Day of land</p>
X-EXTRAINFO:https://congreso.sochicri.cl
DTSTAMP:20260420T093625Z
DTSTART;TZID=UTC;VALUE=DATE:20230510
DTEND;TZID=UTC;VALUE=DATE:20230514
SEQUENCE:0
TRANSP:OPAQUE
END:VEVENT
END:VCALENDAR