BEGIN:VCALENDAR
VERSION:2.0
PRODID:-//jEvents 2.0 for Joomla//EN
CALSCALE:GREGORIAN
METHOD:PUBLISH
BEGIN:VEVENT
UID:ccf4e6f37a54c4ce9bdb0cb2d10d7950
CATEGORIES:Polar Conferences, Meetings and Events
CREATED:20230325T155210
SUMMARY:International Glaciological Society British Branch Meeting 2023
LOCATION:Cardiff\, UK
DESCRIPTION:
DTSTAMP:20260421T105820Z
DTSTART;TZID=UTC;VALUE=DATE:20230904
DTEND;TZID=UTC;VALUE=DATE:20230906
SEQUENCE:0
TRANSP:OPAQUE
END:VEVENT
END:VCALENDAR