BEGIN:VCALENDAR
VERSION:2.0
PRODID:-//jEvents 2.0 for Joomla//EN
CALSCALE:GREGORIAN
METHOD:PUBLISH
BEGIN:VEVENT
UID:f7b3a569e128ab5cbdd4fe2db3a725a4
CATEGORIES:Polar Online Events
CREATED:20230325T155031
SUMMARY:Virtual short course on GNSS Interferometric Reflectometry (GNSS-IR)
DESCRIPTION:
X-EXTRAINFO:https://www.earthscope.org/event/2023-gnss-ir-short-course/
DTSTAMP:20260422T142534Z
DTSTART;TZID=UTC;VALUE=DATE:20230502
DTEND;TZID=UTC;VALUE=DATE:20230506
SEQUENCE:0
TRANSP:OPAQUE
END:VEVENT
END:VCALENDAR