BEGIN:VCALENDAR
VERSION:2.0
PRODID:-//jEvents 2.0 for Joomla//EN
CALSCALE:GREGORIAN
METHOD:PUBLISH
BEGIN:VEVENT
UID:9125391fa1a0b32e6ef3df5b0b74e751
CATEGORIES:Polar Conferences, Meetings and Events
CREATED:20230321T130626
SUMMARY:SCAR INSTANT Conference 2023
LOCATION:Trieste\, Italy
DESCRIPTION:<div><span style="font-size: small;">INSTANT Conference 2023 will take plac
 e on<strong>&nbsp;September 11-14</strong>, in Trieste (Italy).<br /></span
 ></div><div><span style="font-size: small;"></span></div><div><span style="
 font-size: small;"><span style="font-size: small;">The priority focus of th
 e conference will be on improving knowledge of the key rate- determining pr
 ocesses, instabilities and potential irreversibilities that affect the mass
  change of the Antarctic Ice Sheet and its contribution to past, present an
 d future global sea-level.&nbsp;&nbsp;<span style="font-size: small;">We in
 vite leading and emerging experts, as well as early career researchers (ECR
 s), from modellers to observationalists, to present and discuss the state o
 f the science and critical knowledge gaps. We also invite perspectives from
  the stakeholder and practitioner communities, and will discuss best practi
 ces in communication and engagement.</span></span></span></div><div><span s
 tyle="font-size: small;"></span></div><div><span style="font-size: small;">
 <strong>Conference format:</strong>&nbsp;morning plenaries and afternoon wo
 rkshops, pre and post conference excursions and activities; pre-post confer
 ence side meetings.<br /></span></div><div><span style="font-size: small;">
 </span></div><div><span style="font-size: small;"><strong>Registration and 
 Abstract submission</strong>&nbsp;are now open.<br /></span></div><div><spa
 n style="font-size: small;">Deadline for&nbsp;<strong>submission is April 3
 </strong>.</span></div><div><span style="font-size: small;"></span></div><d
 iv><span style="font-size: small;">Application for&nbsp;<strong>travel gran
 ts</strong>&nbsp;for ECRs will open soon.<br /></span></div><div><span styl
 e="font-size: small;"></span></div><div><span style="font-size: small;"><st
 rong>Accomodation: at this time of the year, Trieste is highly touristic. W
 e STRONGLY advise you to book your accommodation as soon as possible.</stro
 ng></span></div>
X-EXTRAINFO:http://www.instant2023.org/
DTSTAMP:20260419T225131Z
DTSTART;TZID=UTC;VALUE=DATE:20230911
DTEND;TZID=UTC;VALUE=DATE:20230915
SEQUENCE:0
TRANSP:OPAQUE
END:VEVENT
END:VCALENDAR