BEGIN:VCALENDAR
VERSION:2.0
PRODID:-//jEvents 2.0 for Joomla//EN
CALSCALE:GREGORIAN
METHOD:PUBLISH
BEGIN:VEVENT
UID:da96158f6a20d6ab0193a20d12975ce2
CATEGORIES:Field and Summer Schools
CREATED:20230321T103029
SUMMARY:DEEPICE Training School in Communication
LOCATION:Leissigen\, Switzerland
DESCRIPTION:<div>In collaboration with PAGES, the third “DEEPICE Training School in Com
 munication'' will be taking place from 4-8 September in Leissigen, Switzerl
 and. The school will focus on training 20 early-career researchers (ECRs) (
 15 ECRs from DEEPICE and 5 ECRs who will be selected through the applicatio
 n process) for development of a career in the academic or non-academic sect
 or, to work on climate change and glaciology. In addition, the ECRs will ga
 in experience in communication about climate change, in particular, climate
  change affecting the polar regions. &nbsp;</div><div>&nbsp;</div><div><str
 ong>The deadline for applications is 2 April:</strong>&nbsp;<span id="m_437
 9996784729859905OBJ_PREFIX_DWT1197_com_zimbra_url"><span id="m_437999678472
 9859905OBJ_PREFIX_DWT1205_com_zimbra_url"><a href="https://pastglobalchange
 s.org/calendar/137085" target="_blank" rel="nofollow noopener noreferrer no
 follow                            noopener noreferrer nofollow noopener    
                         noreferrer nofollow noopener noreferrer" data-safer
 edirecturl="https://www.google.com/url?q=https://pastglobalchanges.org/cale
 ndar/137085&amp;source=gmail&amp;ust=1679478455247000&amp;usg=AOvVaw22nk8mW
 Mlvjd7wDGKtMVJK">Apply</a><span></span></span></span></div>
DTSTAMP:20260421T132459Z
DTSTART;TZID=UTC;VALUE=DATE:20230904
DTEND;TZID=UTC;VALUE=DATE:20230909
SEQUENCE:0
TRANSP:OPAQUE
END:VEVENT
END:VCALENDAR