BEGIN:VCALENDAR
VERSION:2.0
PRODID:-//jEvents 2.0 for Joomla//EN
CALSCALE:GREGORIAN
METHOD:PUBLISH
BEGIN:VEVENT
UID:a998f79a300cacb3cd8c59d42a274e30
CATEGORIES:Field and Summer Schools
CREATED:20230317T152324
SUMMARY:SIOS training course on Uncrewed Aerial Vehicles in Svalbard (UAV4Svalbard)
LOCATION:Longyearbyen\, Svalbard
DESCRIPTION:This autumn SIOS will offer a training course “Uncrewed Aerial Vehicles in 
 Svalbard (UAV4Svalbard)” to teach the effective use of UAVs in Svalbard res
 earch. The course is intended for scientists, master/Ph.D. students and tec
 hnicians with no or modest experience with UAVs in their research. The goal
  of the course is to teach participants the basic skills needed to use UAVs
  in Svalbard. Those who have not used UAVs before are preferable. \nApplica
 tion deadline: 15 April 2023\n \n
X-ALT-DESC;FMTTYPE=text/html:<p>This autumn SIOS will offer a training course “Uncrewed Aerial Vehicles 
 in Svalbard (UAV4Svalbard)” to teach the effective use of UAVs in Svalbard 
 research.&nbsp;The course is intended for scientists, master/Ph.D. students
  and technicians with no or modest experience with UAVs in their research. 
 The goal of the course is to teach participants the basic skills needed to 
 use UAVs in Svalbard.&nbsp;Those who have not used UAVs before are preferab
 le.&nbsp;</p><p>Application deadline:&nbsp;15 April 2023</p><p>&nbsp;</p>
X-EXTRAINFO:https://sios-svalbard.org/UAV4Svalbard
DTSTAMP:20260419T211207Z
DTSTART;TZID=UTC;VALUE=DATE:20230904
DTEND;TZID=UTC;VALUE=DATE:20230909
SEQUENCE:0
TRANSP:OPAQUE
END:VEVENT
END:VCALENDAR