BEGIN:VCALENDAR
VERSION:2.0
PRODID:-//jEvents 2.0 for Joomla//EN
CALSCALE:GREGORIAN
METHOD:PUBLISH
BEGIN:VEVENT
UID:06dfe97d35be55d05466f6de3b0b9208
CATEGORIES:Polar Conferences, Meetings and Events
CREATED:20230316T142135
SUMMARY:Snow Microwave Radiative Transfer (SMRT) model training workshop
LOCATION:Bremerhaven\, Germany
DESCRIPTION:<p>SMRT is a passive/radar/altimeter microwave model for seasonal snow and 
 sea-ice developed&nbsp; in the framework of an ESA project aiming at explor
 ing the role of snow microstructure and unifying the ingredients of existin
 g model/theories (MEMLS, DMRT-QMS, HUT, ...). More information is available
  on the website<a href="http://www.smrt-model.science/" data-saferedirectur
 l="https://www.google.com/url?q=http://www.smrt-model.science/&amp;source=g
 mail&amp;ust=1679059019906000&amp;usg=AOvVaw0LeQPudVgTeFQ_He3Svfw4"></a><a 
 href="http://www.smrt-model.science/">http://www.smrt-model.science/</a>. S
 MRT is available from GitHub<a href="https://github.com/smrt-model/smrt" da
 ta-saferedirecturl="https://www.google.com/url?q=https://github.com/smrt-mo
 del/smrt&amp;source=gmail&amp;ust=1679059019906000&amp;usg=AOvVaw2aiEbTIOwC
 EuoQpbp7jIVA"></a><a href="https://github.com/smrt-model/smrt">https://gith
 ub.com/smrt-model/smrt</a>.</p><p>The aim of this 2.5 day workshop is to pr
 ovide a general introduction to snow microwave modelling and a specific int
 roduction to SMRT. Participants will have an opportunity to learn how to us
 e the SMRT model for different cryospheric environments, sea-ice, terrestri
 al snow, firn, etc. In particular, lectures, practicals and discussions wil
 l cover:</p><p>- Snow microstructure and its impact on microwave scattering
 </p><p>- Different electromagnetic theories (IBA, DMRT, SCE) to compute sca
 ttering from random media</p><p>- Numerous ways to represent a scattering m
 edium, with application to snow, saline ice, fresh ice, ground, rough inter
 faces, ….</p><p>- Methods to solve the radiative transfer equation and the 
 SMRT altimetry extension.</p><p>- “Bring your data (or ideas)”. Support wil
 l be offered to help participants use SMRT for their own research.</p><p>We
  would like to welcome those of all career and expertise levels. Attendance
  at the workshop is free but registration will be mandatory and the number 
 of workshop places will be limited to 27 participants. Participants will ne
 ed to fund their own travel to Bremerhaven, food and accommodation.</p><p>F
 or further discussion on SMRT, we will travel to Berlin for IUGG2023 after 
 the workshop !</p><p>The application is open until 14th April on the worksh
 op website<a href="https://smrt2023.sciencesconf.org/" data-saferedirecturl
 ="https://www.google.com/url?q=https://smrt2023.sciencesconf.org/&amp;sourc
 e=gmail&amp;ust=1679059019906000&amp;usg=AOvVaw36ySfmpCbjXfSJI9pq2HD9"></a>
 <a href="https://smrt20&lt;/span">https://smrt20&gt;23.sciencesconf.org/</a
 >&nbsp;and we will confirm place allocations by the 28th April.</p>
X-EXTRAINFO:https://smrt2023.sciencesconf.org/
DTSTAMP:20260421T104838Z
DTSTART;TZID=UTC;VALUE=DATE:20230706
DTEND;TZID=UTC;VALUE=DATE:20230709
SEQUENCE:0
TRANSP:OPAQUE
END:VEVENT
END:VCALENDAR