BEGIN:VCALENDAR
VERSION:2.0
PRODID:-//jEvents 2.0 for Joomla//EN
CALSCALE:GREGORIAN
METHOD:PUBLISH
BEGIN:VEVENT
UID:c81039add72759d2011fe88b225d14aa
CATEGORIES:Polar Conferences, Meetings and Events
CREATED:20230316T141638
SUMMARY:6th World Landslide Forum
LOCATION:Florence\, Italy
DESCRIPTION:AIMWorld Landslide Forums have been organized every three years since the f
 irst forum in Tokyo, Japan, in 2008. They are a common platform for scienti
 sts, engineers, practitioners and policy makers who are involved in landsli
 de disaster risk reduction to present their latest progress.\n  WHO SHOULD 
 ATTEND?A wide international audience, with interest into landslide disaster
  risk reduction, is expected to attend the Forum:\n\n - Research and academ
 ic institutions\n - UN organizations\n - EU institutions and agencies  CALL
  FOR ABSTRACTS SUBMISSION The WLF6 organizing committee would like to invit
 e to submit your abstracts. \n\nThe submission deadline will be February 28
 , 2023.\n
X-ALT-DESC;FMTTYPE=text/html:<div class="elementor-column elementor-col-33 elementor-inner-column elemen
 tor-element elementor-element-8082038 animated fadeInUp" data-id="8082038" 
 data-elementtype="column" data-settings="{&quot;animation&quot;:&quot;fadeI
 nUp&quot;}"><div class="elementor-column-wrap elementor-element-populated">
 <div class="elementor-widget-wrap"><div class="elementor-element elementor-
 element-6faca86 flex-horizontal-align-default flex-horizontal-align-tablet-
 default flex-horizontal-align-mobile-default flex-vertical-align-default fl
 ex-vertical-align-tablet-default flex-vertical-align-mobile-default element
 or-widget elementor-widget-thegem-styled-textbox" data-id="6faca86" data-el
 ementtype="widget" data-settings="{&quot;thegem_elementor_preset&quot;:&quo
 t;basic&quot;}" data-widgettype="thegem-styled-textbox.default"><div class=
 "elementor-widget-container"><div class="gem-textbox styled-textbox-basic">
 <div class="gem-textbox-inner"><div class="gem-textbox-content default-back
 ground"><div class="gem-texbox-text-wrapper"><div class="gem-textbox-descri
 ption gem-text-output"><div class="title-h4">AIM</div><p>World Landslide Fo
 rums have been organized every three years since the first forum in Tokyo, 
 Japan, in 2008. They are a common platform for scientists, engineers, pract
 itioners and policy makers who are involved in landslide disaster risk redu
 ction to present their latest progress.</p></div></div></div></div><div cla
 ss="gem-textbox-bottom gem-textbox-bottom-none default-fill">&nbsp;</div></
 div></div></div></div></div></div><div class="elementor-column elementor-co
 l-33 elementor-inner-column elementor-element elementor-element-3c0429a ani
 mated fadeInUp" data-id="3c0429a" data-elementtype="column" data-settings="
 {&quot;animation&quot;:&quot;fadeInUp&quot;}"><div class="elementor-column-
 wrap elementor-element-populated"><div class="elementor-widget-wrap"><div c
 lass="elementor-element elementor-element-9a86f99 flex-horizontal-align-def
 ault flex-horizontal-align-tablet-default flex-horizontal-align-mobile-defa
 ult flex-vertical-align-default flex-vertical-align-tablet-default flex-ver
 tical-align-mobile-default elementor-widget elementor-widget-thegem-styled-
 textbox" data-id="9a86f99" data-elementtype="widget" data-settings="{&quot;
 thegem_elementor_preset&quot;:&quot;basic&quot;}" data-widgettype="thegem-s
 tyled-textbox.default"><div class="elementor-widget-container"><div class="
 gem-textbox styled-textbox-basic"><div class="gem-textbox-top gem-textbox-t
 op-none default-fill">&nbsp;</div><div class="gem-textbox-inner"><div class
 ="gem-textbox-content default-background"><div class="gem-texbox-text-wrapp
 er"><div class="gem-textbox-description gem-text-output"><div class="title-
 h4">WHO SHOULD ATTEND?</div><p>A wide international audience, with interest
  into landslide disaster risk reduction, is expected to attend the Forum:</
 p><ul><li>Research and academic institutions</li><li>UN organizations</li><
 li>EU institutions and agencies</li></ul></div></div></div></div><div class
 ="gem-textbox-bottom gem-textbox-bottom-none default-fill">&nbsp;</div></di
 v></div></div></div></div></div><div class="elementor-column elementor-col-
 33 elementor-inner-column elementor-element elementor-element-cc8eacd anima
 ted fadeInUp" data-id="cc8eacd" data-elementtype="column" data-settings="{&
 quot;animation&quot;:&quot;fadeInUp&quot;}"><div class="elementor-column-wr
 ap elementor-element-populated"><div class="elementor-widget-wrap"><div cla
 ss="elementor-element elementor-element-892789b flex-horizontal-align-defau
 lt flex-horizontal-align-tablet-default flex-horizontal-align-mobile-defaul
 t flex-vertical-align-default flex-vertical-align-tablet-default flex-verti
 cal-align-mobile-default elementor-widget elementor-widget-thegem-styled-te
 xtbox" data-id="892789b" data-elementtype="widget" data-settings="{&quot;th
 egem_elementor_preset&quot;:&quot;basic&quot;}" data-widgettype="thegem-sty
 led-textbox.default"><div class="elementor-widget-container"><div class="ge
 m-textbox styled-textbox-basic"><div class="gem-textbox-top gem-textbox-top
 -none default-fill">&nbsp;</div><div class="gem-textbox-inner"><div class="
 gem-textbox-content default-background"><div class="gem-texbox-text-wrapper
 "><div class="gem-textbox-description gem-text-output"><div class="title-h4
 ">CALL FOR ABSTRACTS SUBMISSION&nbsp;</div><p>The WLF6 organizing committee
  would like to invite to submit your abstracts.&nbsp;<br /><br />The submis
 sion deadline will be&nbsp;<strong>February 28</strong><strong>, 2023</stro
 ng>.</p></div></div></div></div></div></div></div></div></div></div>
X-EXTRAINFO:https://wlf6.org/
DTSTAMP:20260422T185854Z
DTSTART;TZID=UTC;VALUE=DATE:20231114
DTEND;TZID=UTC;VALUE=DATE:20231118
SEQUENCE:0
TRANSP:OPAQUE
END:VEVENT
END:VCALENDAR