BEGIN:VCALENDAR
VERSION:2.0
PRODID:-//jEvents 2.0 for Joomla//EN
CALSCALE:GREGORIAN
METHOD:PUBLISH
BEGIN:VEVENT
UID:216f5be51858006d63f058b3b93530cc
CATEGORIES:Polar Conferences, Meetings and Events
CREATED:20230316T141059
SUMMARY:XIII SCAR Biology Symposium
LOCATION:Christchurch\, New Zealand
DESCRIPTION:This meeting will offer four days of invited keynotes, plenaries, and concu
 rrent sessions, with a mid-week break of excursions to allow attendees to e
 njoy some spectacular parts of New Zealand’s South Island.\nSatellite meeti
 ngs and workshops will be held during the weekends before and after the mee
 ting. The conference will be enriched by the tikanga (traditions) and mātau
 ranga (knowledge) of New Zealand’s indigenous Māori people and a true dedic
 ation to sustainability.\nWhat you can expect:\n - Great science with a hig
 hly sustainable philosophy, underpinned by a rich cultural experience\n - F
 our days of invited keynotes, plenaries, and concurrent sessions\n - Mid-we
 ek break of excursions (https://www.confer.co.nz/scarbiology2023/1889-2/) t
 o enjoy some of the most spectacular parts of New Zealand’s South Island\n 
 - <a href="https://www.confer.co.nz/scarbiology2023/workshops/">Special foc
 us meetings and workshops</a> during the weekends before and after the meet
 ing\n - Content enriched with tikanga (traditions) and mātauranga(knowledge
 ) of New Zealand’s indigenous Māori people with a true dedication towards t
 o sustainability\n - Support for ECR to attend the symposium
X-ALT-DESC;FMTTYPE=text/html:<p>This meeting will offer four days of invited keynotes, plenaries, and co
 ncurrent sessions, with a mid-week break of excursions to allow attendees t
 o enjoy some spectacular parts of New Zealand’s South Island.</p><p>Satelli
 te meetings and workshops will be held during the weekends before and after
  the meeting. The conference will be enriched by the tikanga (traditions) a
 nd mātauranga (knowledge) of New Zealand’s indigenous Māori people and a tr
 ue dedication to sustainability.</p><h3>What you can expect:</h3><ul><li><s
 trong>Great science</strong>&nbsp;with a highly sustainable philosophy, und
 erpinned by a rich cultural experience</li><li><strong>Four days</strong>&n
 bsp;of invited keynotes, plenaries, and concurrent sessions</li><li><a href
 ="https://www.confer.co.nz/scarbiology2023/1889-2/"><strong>Mid-week break 
 of excursions</strong></a>&nbsp;to enjoy some of the most spectacular parts
  of New Zealand’s South Island</li><li><a href="https://www.confer.co.nz/sc
 arbiology2023/workshops/"><strong>Special focus meetings and workshops</str
 ong></a>&nbsp;during the weekends before and after the meeting</li><li>Cont
 ent enriched with<strong>&nbsp;tikanga</strong>&nbsp;(traditions) and&nbsp;
 <strong>mātauranga</strong>(knowledge) of New Zealand’s indigenous Māori pe
 ople with a true dedication towards to sustainability</li><li>Support for&n
 bsp;<strong>ECR</strong>&nbsp;to attend the symposium</li></ul>
X-EXTRAINFO:https://www.confer.co.nz/scarbiology2023/
DTSTAMP:20260419T185215Z
DTSTART;TZID=UTC;VALUE=DATE:20230731
DTEND;TZID=UTC;VALUE=DATE:20230805
SEQUENCE:0
TRANSP:OPAQUE
END:VEVENT
END:VCALENDAR