BEGIN:VCALENDAR
VERSION:2.0
PRODID:-//jEvents 2.0 for Joomla//EN
CALSCALE:GREGORIAN
METHOD:PUBLISH
BEGIN:VEVENT
UID:39affe18e060f254f9aca6ef6dbcd690
CATEGORIES:Polar Conferences, Meetings and Events
CREATED:20230316T135620
SUMMARY:Advancing the Concept of Essential Mountain Climate Variables
LOCATION:Vienna\, Austria
DESCRIPTION:The workshop is being jointly hosted by the Mountain Research Initiative (M
 RI) and the Integrated Land Ecosystem-Atmosphere Processes Studies (iLEAPS)
  research platform, as a contribution to GEO Mountains. It will take place 
 in the afternoon of Friday 28 April in Vienna, Austria.\nAttendees of the E
 GU General Assembly 2023 who will already be in Vienna that week are especi
 ally encouraged to apply to attend in person, although online participation
  will also be possible. \nFurther information and the link to apply is avai
 lable here:  (https://www.mountainresearchinitiative.org/events/details/202
 3-04-28/567-advancing-the-concept-of-essential-mountain-climate-variables-e
 mcvs)<a href="https://www.mountainresearchinitiative.org/events/details/202
 3-04-28/567-advancing-the-concept-of-essential-mountain-climate-variables-e
 mcvs">https://www.mountainresearchinitiative.org/events/details/2023-04-28/
 567-advancing-the-concept-of-essential-mountain-climate-variables-emcvs</a>
 \n
X-ALT-DESC;FMTTYPE=text/html:<p>The workshop is being jointly hosted by the Mountain Research Initiative
  (MRI) and the Integrated Land Ecosystem-Atmosphere Processes Studies (iLEA
 PS) research platform, as a contribution to GEO Mountains. It will take pla
 ce in the afternoon of Friday 28 April in Vienna, Austria.</p><p>Attendees 
 of the EGU General Assembly 2023 who will already be in Vienna that week ar
 e especially encouraged to apply to attend in person, although online parti
 cipation will also be possible.&nbsp;</p><p>Further information and the lin
 k to apply is available here:&nbsp;<a href="https://www.mountainresearchini
 tiative.org/events/details/2023-04-28/567-advancing-the-concept-of-essentia
 l-mountain-climate-variables-emcvs" data-saferedirecturl="https://www.googl
 e.com/url?q=https://www.mountainresearchinitiative.org/events/details/2023-
 04-28/567-advancing-the-concept-of-essential-mountain-climate-variables-emc
 vs&amp;source=gmail&amp;ust=1679059021956000&amp;usg=AOvVaw2lviMvGeeR7Z4DXR
 O2F8rC"></a><a href="https://www.mountainresearchinitiative.org/events/deta
 ils/2023-04-28/567-advancing-the-concept-of-essential-mountain-climate-vari
 ables-emcvs">https://www.mountainresearchinitiative.org/events/details/2023
 -04-28/567-advancing-the-concept-of-essential-mountain-climate-variables-em
 cvs</a></p>
DTSTAMP:20260420T093250Z
DTSTART;TZID=UTC;VALUE=DATE:20230428
DTEND;TZID=UTC;VALUE=DATE:20230429
SEQUENCE:0
TRANSP:OPAQUE
END:VEVENT
END:VCALENDAR