BEGIN:VCALENDAR
VERSION:2.0
PRODID:-//jEvents 2.0 for Joomla//EN
CALSCALE:GREGORIAN
METHOD:PUBLISH
BEGIN:VEVENT
UID:139569217dc7f101c8515cc55a1856a5
CATEGORIES:Polar Conferences, Meetings and Events
CREATED:20230316T134956
SUMMARY:Workshop on subglacial and englacial hydrology and geology
LOCATION:Tarraleah\, Australia
DESCRIPTION:Tarraleah is a small settlement in the beautiful and secluded Tasmanian hig
 hlands, about one and a half hours from Hobart. It was established for cons
 truction of hydroelectric power infrastructure, and on-site are penstocks a
 nd canals that we hope will inspire the envision of water channelling under
  and through the ice sheet and glaciers. \nFull board accommodation and loc
 al transport will be provided; we are presently looking at the details in o
 rder to offer a comfortable stay while keeping participation affordable for
  everyone, including support for students. We also welcome interstate and i
 nternational participants wishing to stay a bit longer and visit the Univer
 sity of Tasmania in connection to the workshop—details about those arrangem
 ents to come. \nMore information and registration is to be posted soon; you
  are also invited to subscribe to updates from [send an email to:  (mailto:
 tarraleah2023@gmail.com)This email address is being protected from spambots
 . You need JavaScript enabled to view it.
				document.getElementById('cloa
 k8a1bff42576ba42e8d414455531b8edf').innerHTML = '';
				var prefix = '&#109
 ;a' + 'i&#108;' + '&#116;o';
				var path = 'hr' + 'ef' + '=';
				var addy
 8a1bff42576ba42e8d414455531b8edf = 't&#97;rr&#97;l&#101;&#97;h2023' + '&#64
 ;';
				addy8a1bff42576ba42e8d414455531b8edf = addy8a1bff42576ba42e8d414455
 531b8edf + 'gm&#97;&#105;l' + '&#46;' + 'c&#111;m';
				var addy_text8a1bff
 42576ba42e8d414455531b8edf = 't&#97;rr&#97;l&#101;&#97;h2023' + '&#64;' + '
 gm&#97;&#105;l' + '&#46;' + 'c&#111;m';document.getElementById('cloak8a1bff
 42576ba42e8d414455531b8edf').innerHTML += '<a ' + path + '\'' + prefix + ':
 ' + addy8a1bff42576ba42e8d414455531b8edf + '\'>'+addy_text8a1bff42576ba42e8
 d414455531b8edf+'';
		] or follow the preparations on Twitter <a href="http
 s://twitter.com/TarraleahS" data-saferedirecturl="https://www.google.com/ur
 l?q=https://twitter.com/TarraleahS&amp;source=gmail&amp;ust=167905902168100
 0&amp;usg=AOvVaw1GMb65tX0_7FCqfNbJVGIc"></a>https://twitter.com/TarraleahS\
 nThe workshop is organised by ACEAS <a href="https://antarctic.org.au/" dat
 a-saferedirecturl="https://www.google.com/url?q=https://antarctic.org.au/&a
 mp;source=gmail&amp;ust=1679059021681000&amp;usg=AOvVaw0kuYWBf-sB4pqOsVQk6W
 OX"></a>https://antarctic.org.au/ and collaborators. \n
X-ALT-DESC;FMTTYPE=text/html:<p>Tarraleah is a small settlement in the beautiful and secluded Tasmanian 
 highlands, about one and a half hours from Hobart. It was established for c
 onstruction of hydroelectric power infrastructure, and on-site are penstock
 s and canals that we hope will inspire the envision of water channelling un
 der and through the ice sheet and glaciers.&nbsp;</p><p>Full board accommod
 ation and local transport will be provided; we are presently looking at the
  details in order to offer a comfortable stay while keeping participation a
 ffordable for everyone, including support for students. We also welcome int
 erstate and international participants wishing to stay a bit longer and vis
 it the University of Tasmania in connection to the workshop—details about t
 hose arrangements to come.&nbsp;</p><p>More information and registration is
  to be posted soon; you are also invited to subscribe to updates from [send
  an email to:&nbsp;<a href="mailto:tarraleah2023@gmail.com"></a><span id="c
 loak8a1bff42576ba42e8d414455531b8edf">This email address is being protected
  from spambots. You need JavaScript enabled to view it.</span><script type=
 'text/javascript'>
				document.getElementById('cloak8a1bff42576ba42e8d4144
 55531b8edf').innerHTML = '';
				var prefix = '&#109;a' + 'i&#108;' + '&#11
 6;o';
				var path = 'hr' + 'ef' + '=';
				var addy8a1bff42576ba42e8d41445
 5531b8edf = 't&#97;rr&#97;l&#101;&#97;h2023' + '&#64;';
				addy8a1bff42576
 ba42e8d414455531b8edf = addy8a1bff42576ba42e8d414455531b8edf + 'gm&#97;&#10
 5;l' + '&#46;' + 'c&#111;m';
				var addy_text8a1bff42576ba42e8d414455531b8
 edf = 't&#97;rr&#97;l&#101;&#97;h2023' + '&#64;' + 'gm&#97;&#105;l' + '&#46
 ;' + 'c&#111;m';document.getElementById('cloak8a1bff42576ba42e8d414455531b8
 edf').innerHTML += '<a ' + path + '\'' + prefix + ':' + addy8a1bff42576ba42
 e8d414455531b8edf + '\'>'+addy_text8a1bff42576ba42e8d414455531b8edf+'<\/a>'
 ;
		</script>] or follow the preparations on Twitter&nbsp;<a href="https://
 twitter.com/TarraleahS" data-saferedirecturl="https://www.google.com/url?q=
 https://twitter.com/TarraleahS&amp;source=gmail&amp;ust=1679059021681000&am
 p;usg=AOvVaw1GMb65tX0_7FCqfNbJVGIc"></a><a href="https://twitter.com/Tarral
 eahS">https://twitter.com/TarraleahS</a></p><p>The workshop is organised by
  ACEAS&nbsp;<a href="https://antarctic.org.au/" data-saferedirecturl="https
 ://www.google.com/url?q=https://antarctic.org.au/&amp;source=gmail&amp;ust=
 1679059021681000&amp;usg=AOvVaw0kuYWBf-sB4pqOsVQk6WOX"></a><a href="https:/
 /antarctic.org.au/">https://antarctic.org.au/</a>&nbsp;and collaborators.&n
 bsp;</p>
DTSTAMP:20260421T210706Z
DTSTART;TZID=UTC;VALUE=DATE:20231010
DTEND;TZID=UTC;VALUE=DATE:20231013
SEQUENCE:0
TRANSP:OPAQUE
END:VEVENT
END:VCALENDAR