BEGIN:VCALENDAR
VERSION:2.0
PRODID:-//jEvents 2.0 for Joomla//EN
CALSCALE:GREGORIAN
METHOD:PUBLISH
BEGIN:VEVENT
UID:806f22dfb4ee06c72ec1e1273e4b4ff4
CATEGORIES:APECS Events
CREATED:20230316T133653
SUMMARY:Ice Ice Baby – Let’s talk having kids in polar sciences
DESCRIPTION:Registration is still open for APECS Germany (Association of Polar Early Ca
 reer Scientists) next “Let’s Talk!” seminar, which will happen on March 21s
 t at 5.30 PM (CET) on zoom. This time we’ll talk about having kids while wo
 rking in the Polar Sciences. \nWe will be joined by a diverse group of pane
 lists who will share their experience and considerations of having or not (
 yet) having kids in their polar science career. \nSome of the topics we wan
 t to cover are:\n\n - Kids and career – timing, contract, supervisor suppor
 t and other considerations\n - Kids and fieldwork – How can it work and doe
 s it have to?\n - Kids and life abroad – moving, language, child care, …Ple
 ase register for the event, share it with your peers and join us on March 2
 1st!Registration link:  (https://gfz-potsdam-de.zoom.us/meeting/register/u5
 ArcemoqTIsGtCmhDuy14LcE3rmQF_klJwU)<a href="https://gfz-potsdam-de.zoom.us/
 meeting/register/u5ArcemoqTIsGtCmhDuy14LcE3rmQF_klJwU">https://gfz-potsdam-
 de.zoom.us/meeting/register/u5ArcemoqTIsGtCmhDuy14LcE3rmQF_klJwU</a>\n
X-ALT-DESC;FMTTYPE=text/html:<p>Registration is still open for&nbsp;APECS Germany (Association of Polar 
 Early Career Scientists)&nbsp;next “Let’s Talk!” seminar, which will happen
  on<strong>&nbsp;</strong>March 21st at 5.30 PM (CET)&nbsp;on zoom. This ti
 me we’ll talk about having kids while working in the Polar Sciences.&nbsp;<
 /p><p>We will be joined by a diverse group of panelists who will share thei
 r experience and considerations of having or not (yet)&nbsp;<strong>having 
 kids in their polar science career.</strong>&nbsp;</p><p>Some of the topics
  we want to cover are:</p><ul><li>Kids and career – timing, contract, super
 visor support and other considerations</li><li>Kids and fieldwork – How can
  it work and does it have to?</li><li>Kids and life abroad – moving, langua
 ge, child care, …</li></ul><p>Please register for the event, share it with 
 your peers and join us on March 21st!Registration&nbsp;link:&nbsp;<a href="
 https://gfz-potsdam-de.zoom.us/meeting/register/u5ArcemoqTIsGtCmhDuy14LcE3r
 mQF_klJwU" data-saferedirecturl="https://www.google.com/url?q=https://gfz-p
 otsdam-de.zoom.us/meeting/register/u5ArcemoqTIsGtCmhDuy14LcE3rmQF_klJwU&amp
 ;source=gmail&amp;ust=1679059019621000&amp;usg=AOvVaw2T8_xTgGU58Z8CchbPtm1V
 "></a><a href="https://gfz-potsdam-de.zoom.us/meeting/register/u5ArcemoqTIs
 GtCmhDuy14LcE3rmQF_klJwU">https://gfz-potsdam-de.zoom.us/meeting/register/u
 5ArcemoqTIsGtCmhDuy14LcE3rmQF_klJwU</a></p>
DTSTAMP:20260422T133909Z
DTSTART;TZID=UTC;VALUE=DATE:20230321
DTEND;TZID=UTC;VALUE=DATE:20230322
SEQUENCE:0
TRANSP:OPAQUE
END:VEVENT
END:VCALENDAR