BEGIN:VCALENDAR
VERSION:2.0
PRODID:-//jEvents 2.0 for Joomla//EN
CALSCALE:GREGORIAN
METHOD:PUBLISH
BEGIN:VEVENT
UID:b5eff0afef75e826acbbb2c1a9689f49
CATEGORIES:Polar Conferences, Meetings and Events
CREATED:20230316T133205
SUMMARY:79th Annual Eastern Snow Conference
LOCATION:Easton\, Pennsylvania\, USA
DESCRIPTION:We are excited to announce that the 79th annual Eastern Snow Conference wil
 l be held at the Nurture Nature Center in Easton, Pennsylvania, 6-8 June 20
 23.\nPresentations on all physical and social aspects of snow and ice resea
 rch are welcome, including, but not limited to, in situ and remote measurem
 ent of snow and ice covers, snow ecology, new advances in snow and ice obse
 rvation technology, and social interactions with snow.\nAbstracts can be su
 bmitted here (https://www.easternsnow.org/abstract-submission-1), where you
  will also find abstract guidelines and a template. Abstracts are due by Ma
 rch 14. Student submissions are highly encouraged; all students submissions
  are eligible for awards and students should identify their status for cons
 ideration.\nThe <a href="https://nurturenaturecenter.org/" tabindex="0">Nur
 ture Nature Center</a> is dedicated to engaging the public in learning abou
 t environmental risks and has an active group of programs working with the 
 community and school centering on science, art, and community. The conferen
 ce program will include a Science on a Sphere show, and they have beautiful
  gallery and meeting spaces. Easton is located at the confluence of the Leh
 igh and Delaware Rivers and is not far from the ABE, EWR, and PHL airports.
  A suite of rooms has been held at the Grand Eastonian (https://grandeaston
 ian.com/) hotel; to get their special rate, contact the hotel at (610) 258-
 6350 and mention the date of the ESC. A government rate is also available. 
 Room availability is limited so book early. More accommodation possibilitie
 s will be posted here soon.\n
X-ALT-DESC;FMTTYPE=text/html:<p class="">We are excited to announce that the 79th annual Eastern Snow Co
 nference will be held at the Nurture Nature Center in Easton, Pennsylvania,
  6-8 June 2023.</p><p class="">Presentations on all physical and social asp
 ects of snow and ice research are welcome, including, but not limited to, i
 n situ and remote measurement of snow and ice covers, snow ecology, new adv
 ances in snow and ice observation technology, and social interactions with 
 snow.</p><p class="">Abstracts can be submitted <a href="https://www.easter
 nsnow.org/abstract-submission-1" tabindex="0">here</a>, where you will also
  find abstract guidelines and a template. <strong>Abstracts are due by Marc
 h 14</strong>. Student submissions are highly encouraged; all students subm
 issions are eligible for awards and students should identify their status f
 or consideration.</p><p class="">The <a href="https://nurturenaturecenter.o
 rg/" tabindex="0">Nurture Nature Center</a> is dedicated to engaging the pu
 blic in learning about environmental risks and has an active group of progr
 ams working with the community and school centering on science, art, and co
 mmunity. The conference program will include a Science on a Sphere show, an
 d they have beautiful gallery and meeting spaces. Easton is located at the 
 confluence of the Lehigh and Delaware Rivers and is not far from the ABE, E
 WR, and PHL airports. A suite of rooms has been held at the <a href="https:
 //grandeastonian.com/" tabindex="0">Grand Eastonian</a> hotel; to get their
  special rate, contact the hotel at (610) 258-6350 and mention the date of 
 the ESC. A government rate is also available. Room availability is limited 
 so book early. More accommodation possibilities will be posted here soon.</
 p>
X-EXTRAINFO:http://easternsnow.org/
DTSTAMP:20260420T180825Z
DTSTART;TZID=UTC;VALUE=DATE:20230606
DTEND;TZID=UTC;VALUE=DATE:20230609
SEQUENCE:0
TRANSP:OPAQUE
END:VEVENT
END:VCALENDAR