BEGIN:VCALENDAR
VERSION:2.0
PRODID:-//jEvents 2.0 for Joomla//EN
CALSCALE:GREGORIAN
METHOD:PUBLISH
BEGIN:VEVENT
UID:6bd03095de971bd06d404e099dd2b3ca
CATEGORIES:Polar Conferences, Meetings and Events
CREATED:20230316T132451
SUMMARY:North American Caribou Workshop and Arctic Ungulate Conference 2023
LOCATION:Anchorage\, Alaska\, USA
DESCRIPTION:The joint meeting of the North American Caribou Workshop and Arctic Ungulat
 e Conference will be held in Anchorage, Alaska, USA from 8-12 May 2023.\nTh
 e conference will bring together an international group of managers, resear
 chers, Indigenous and Local Knowledge holders, and other interested parties
  who want to share their knowledge of caribou, muskoxen, Dall sheep, moose,
  and reindeer.\nThe conference theme is Crossing Boundaries. Arctic ungulat
 es cross landscape boundaries, connecting ecological processes between diff
 erent systems, and requiring partnerships and collaboration across manageme
 nt and national boundaries. A critical component of such partnerships invol
 ves crossing the boundaries of Western and Indigenous ways of knowing to id
 entify creative opportunities to steward and sustain arctic ungulate popula
 tions in a changing world.\n
X-ALT-DESC;FMTTYPE=text/html:<p>The joint meeting of the&nbsp;<strong>North American Caribou Workshop</s
 trong>&nbsp;and&nbsp;<strong>Arctic Ungulate Conference</strong>&nbsp;will 
 be held in&nbsp;<strong>Anchorage, Alaska, USA</strong>&nbsp;from&nbsp;<str
 ong>8-12 May 2023</strong>.</p><p>The conference will bring together an int
 ernational group of managers, researchers, Indigenous and Local Knowledge h
 olders, and other interested parties who want to share their knowledge of c
 aribou, muskoxen, Dall sheep, moose, and reindeer.</p><p>The conference the
 me is&nbsp;<strong>Crossing Boundaries</strong>. Arctic ungulates cross lan
 dscape boundaries, connecting ecological processes between different system
 s, and requiring partnerships and collaboration across management and natio
 nal boundaries. A critical component of such partnerships involves crossing
  the boundaries of Western and Indigenous ways of knowing to identify creat
 ive opportunities to steward and sustain arctic ungulate populations in a c
 hanging world.</p>
X-EXTRAINFO:https://www.arcus.org/civicrm/mailing/url?u=41230&amp;qid=7489185
DTSTAMP:20260420T095443Z
DTSTART;TZID=UTC;VALUE=DATE:20230508
DTEND;TZID=UTC;VALUE=DATE:20230513
SEQUENCE:0
TRANSP:OPAQUE
END:VEVENT
END:VCALENDAR