BEGIN:VCALENDAR
VERSION:2.0
PRODID:-//jEvents 2.0 for Joomla//EN
CALSCALE:GREGORIAN
METHOD:PUBLISH
BEGIN:VEVENT
UID:96564e09bec0ed5ca242623b16a8bc21
CATEGORIES:APECS Events
CREATED:20230314T160438
SUMMARY:Sharing Circle for Early Career Professionals and Arctic Youth
LOCATION:Sevettijärvi/Inari\, Finland
DESCRIPTION:Having grown up in a world of global challenges, Arctic youth and early car
 eer professionals have agency in creating positive change for the future. T
 he Arctic will benefit from a close dialogue between Arctic youth and young
  professionals working in the Arctic arena. The APECS &amp; Arctic PASSION 
 Sharing Circle will foster this dialogue through a week-long program in Nor
 thern Finland. \nPlease check this page for more information: https://www.a
 pecs.is/events/upcoming-event-highlights/sharing-circle.html (events/upcomi
 ng-event-highlights/sharing-circle.html)\nAt a glance\n\n - Dates: 2-6 Octo
 ber 2023. The program will start Monday morning, 2 October 2023, and will e
 nd Friday, 6 October 2023.Start: Sevettijärvi, Northern FinlandEnd: Inari, 
 Northern FinlandCost for participants: Travel costs to and from Northern Fi
 nland.Included: Food and accommodation will be provided by the organizers.A
 pplication Deadline: 10 April 2023 23:59 GMTLanguage: EnglishProgram: Progr
 am will be filled with group discussions, presentations, outdoor activities
  and excursions and accompanied by mandatory online events.Goal: Participan
 ts will gain a better understanding about the Arctic and its people, the in
 tercultural and \ntransdisciplinary complexity of the Arctic, and the value
  of sharing experiences and knowledge in collaborations. Learnings and \nex
 periences from the Sharing Circle will help participants to build a frame f
 or working towards equitable and genuine collaborations and a sustainable A
 rctic future.
X-ALT-DESC;FMTTYPE=text/html:<p>Having grown up in a world of global challenges, Arctic youth and early 
 career professionals have agency in creating positive change for the future
 . The Arctic will benefit from a close dialogue between Arctic youth and yo
 ung professionals working in the Arctic arena. The APECS &amp; Arctic PASSI
 ON Sharing Circle will foster this dialogue through a week-long program in 
 Northern Finland.&nbsp;</p><p>Please check this page for more information:&
 nbsp;<a href="events/upcoming-event-highlights/sharing-circle.html">https:/
 /www.apecs.is/events/upcoming-event-highlights/sharing-circle.html</a></p><
 p><strong>At a glance</strong></p><ul><li><ul><li aria-level="1"><strong>Da
 tes</strong>: 2-6 October 2023. The program will start Monday morning, 2 Oc
 tober 2023, and will end Friday, 6 October 2023.</li><li aria-level="1"><st
 rong>Start</strong>: Sevettijärvi, Northern Finland</li><li aria-level="1">
 <strong>End:</strong>&nbsp;Inari, Northern Finland</li><li aria-level="1"><
 strong>Cost&nbsp;</strong>for participants: Travel costs to and from Northe
 rn Finland.</li><li aria-level="1"><strong>Included</strong>: Food and acco
 mmodation will be provided by the organizers.</li><li aria-level="1"><stron
 g>Application Deadline</strong>: 10 April 2023 23:59 GMT</li><li aria-level
 ="1"><strong>Language</strong>: English</li><li aria-level="1"><strong>Prog
 ram</strong>: Program will be filled with group discussions, presentations,
  outdoor activities and excursions and&nbsp;accompanied by mandatory online
  events.</li><li aria-level="1"><strong>Goal</strong>: Participants will ga
 in a better understanding about the Arctic and its people, the intercultura
 l and&nbsp;<br />transdisciplinary complexity of the Arctic, and the value 
 of sharing experiences and knowledge in collaborations. Learnings and&nbsp;
 <br />experiences from the Sharing Circle will help participants to build a
  frame for working towards equitable and genuine collaborations and a susta
 inable Arctic future.</li></ul></li></ul>
CONTACT:This email address is being protected from spambots. You need JavaScript enabled to view it.
				document.getElementById('cloak280d099d32857d47985dcc4de61af425').innerHTML = '';
				var prefix = '&#109;a' + 'i&#108;' + '&#116;o';
				var path = 'hr' + 'ef' + '=';
				var addy280d099d32857d47985dcc4de61af425 = '&#97;rct&#105;cp&#97;ss&#105;&#111;n' + '&#64;';
				addy280d099d32857d47985dcc4de61af425 = addy280d099d32857d47985dcc4de61af425 + '&#97;p&#101;cs' + '&#46;' + '&#105;s';
				var addy_text280d099d32857d47985dcc4de61af425 = '&#97;rct&#105;cp&#97;ss&#105;&#111;n' + '&#64;' + '&#97;p&#101;cs' + '&#46;' + '&#105;s';document.getElementById('cloak280d099d32857d47985dcc4de61af425').innerHTML += '<a ' + path + '\'' + prefix + ':' + addy280d099d32857d47985dcc4de61af425 + '\'>'+addy_text280d099d32857d47985dcc4de61af425+'';
		
DTSTAMP:20260421T230551Z
DTSTART;TZID=UTC;VALUE=DATE:20231002
DTEND;TZID=UTC;VALUE=DATE:20231007
SEQUENCE:0
TRANSP:OPAQUE
END:VEVENT
END:VCALENDAR