BEGIN:VCALENDAR
VERSION:2.0
PRODID:-//jEvents 2.0 for Joomla//EN
CALSCALE:GREGORIAN
METHOD:PUBLISH
BEGIN:VEVENT
UID:320fc34ef656bb4756c3adc67a36d3a3
CATEGORIES:Polar Conferences, Meetings and Events
CREATED:20230313T151015
SUMMARY:15th International Conference on Physics and Chemistry of Ice (PCI-2023)
LOCATION:Hokkaido University\, Japan
DESCRIPTION:The 15th International Conference on the Physics and Chemistry of Ice (PCI-
 2023) will be held in Sapporo, Japan, from September 4 to 8, 2023. We cordi
 ally invite all of you to enjoy active and fruitful discussions in all fiel
 ds related to physics and chemistry of ice. Although this conference was or
 iginally scheduled in September 2022, it was postponed for one year because
  of the Covid-19. We hope that all of you will enjoy the conference in 2023
 . \n \nAbstract Submission (http://pci2023.com/abstract.html): January 16 -
  March 31, 2023\n\nNotification of authors: by April 28, 2023:<a href="http
 ://pci2023.com/register.html">\nEarly registration</a>: January 16 - June 3
 0, 2023\n\nLate registration (http://pci2023.com/register.html): July 1 - A
 ugust 10, 2023\n\n<a href="http://pci2023.com/register.html">Accommodation<
 /a>: January 16 - August 10, 2023\n\nConference: September 4-8, 2023
X-ALT-DESC;FMTTYPE=text/html:<p>The 15th International Conference on the Physics and Chemistry of Ice (P
 CI-2023) will be held in Sapporo, Japan, from September 4 to 8, 2023. We co
 rdially invite all of you to enjoy active and fruitful discussions in all f
 ields related to physics and chemistry of ice. Although this conference was
  originally scheduled in September 2022, it was postponed for one year beca
 use of the Covid-19. We hope that all of you will enjoy the conference in 2
 023.&nbsp;</p><p>&nbsp;</p><div class="item"><a href="http://pci2023.com/ab
 stract.html">Abstract Submission</a>:&nbsp;January 16 - March 31, 2023<br /
 ><br />Notification of authors:&nbsp;by April 28, 2023:</div><div class="it
 em"><a href="http://pci2023.com/register.html"><br />Early registration</a>
 :&nbsp;January 16 - June 30, 2023<br /><br /><a href="http://pci2023.com/re
 gister.html">Late registration</a>:&nbsp;July 1 - August 10, 2023<br /><br 
 /><a href="http://pci2023.com/register.html">Accommodation</a>:&nbsp;Januar
 y 16 - August 10, 2023<br /><br />Conference:&nbsp;September 4-8, 2023</div
 >
X-EXTRAINFO:http://pci2023.com
DTSTAMP:20260421T160926Z
DTSTART;TZID=UTC;VALUE=DATE:20230904
DTEND;TZID=UTC;VALUE=DATE:20230909
SEQUENCE:0
TRANSP:OPAQUE
END:VEVENT
END:VCALENDAR