BEGIN:VCALENDAR
VERSION:2.0
PRODID:-//jEvents 2.0 for Joomla//EN
CALSCALE:GREGORIAN
METHOD:PUBLISH
BEGIN:VEVENT
UID:324e4128f90cded6af4336ef1d97a5d5
CATEGORIES:Polar Conferences, Meetings and Events
CREATED:20230313T145409
SUMMARY:WCRP Open Science Conference 2023
LOCATION:Kigali\, Rwanda
DESCRIPTION:The next WCRP Open Science Conference (OSC) will take place in 2023, with t
 he major goal of bridging science and society by “advancing climate science
  for a sustainable future.” Climate risk, early warning, attribution, uncer
 tainty, tipping points, irreversibility, and abrupt climate change are just
  some of the topics that will be discussed, both on a global and regional s
 cale, as well as the fundamental science that is critical to advancing thes
 e important topics. \nScience leaders, politicians, policy makers, intergov
 ernmental agencies and NGOs will share ideas on how climate research leads 
 to a sustainable future. Natural and social scientists, humanities scholars
 , and practitioners from around the world will showcase their work, learn f
 rom each other, and explore new ways to work together to build the future w
 e want. The OSC will feature the latest research from across the WCRP commu
 nity (Core Projects (https://84apx.r.ag.d.sendibm3.com/mk/cl/f/Ba0vSLCzrKBb
 ok9jpCyuxvlkAVDwh-z0zEwxIq0Z-ugvgy8dl3QA6X7CLZqT5kf6-aSCMb-7PZnt2bxGuRPoUV5
 SkEAfIEIlINK0fWnHZvDVMUdcmbYGLrcjrk29MH0e1fpZc0QQEmVQAM86T4ycXnef8oelFc2sRq
 iUa1X_86QgkSk_sikTv9M0pPzSzXPV7A9adgqeiYwQn1Aiaq5Ygqh0jfpTiN5G8jHZWFHeVkYuU
 It904hQfhimsQm4Kn_4Oijt-8Q5UicXCkD0Fat6t49SKOAkSlnpAYLlYNg1kKtzQRhul0p_umqM
 ZuaGUm0QTtkvWlHD8pTulqUrxPITq-g), <a href="https://84apx.r.ag.d.sendibm3.co
 m/mk/cl/f/wAyumeWQLKSWg11ZXhpQz7dLBXNfr6ZgZFBv3nHmQuNy_Dzlsllc6OEWFQVUmkcOc
 RPsmvJFrIQBnj264sQ7zq0aqrJa6t7nrqV8t0_GucjzXIwZMr3hhQIOViXY774eQzZ_y9ZxKOKF
 b9ArB54Y2eo8b4MUs7suqixy7lRogG7juuLCKqK68vx0960VZjcUK9M6ardLHdEG_F1BJwlLZCa
 MrTs7kRGUgMJj4rJgbxr8pgcUP4hmddZRf_CYuDQCmlbcxaSKHjNv9DyCAerqzeZtNw12e-oaE2
 NSdT5o4sk_7iOCgK5liR9UgVKE7kMvayVypn9jcpSbkjt9bgSNRw" target="_blank" rel="
 noopener" title="Lighthouse Activities" data-saferedirecturl="https://www.g
 oogle.com/url?q=https://84apx.r.ag.d.sendibm3.com/mk/cl/f/wAyumeWQLKSWg11ZX
 hpQz7dLBXNfr6ZgZFBv3nHmQuNy_Dzlsllc6OEWFQVUmkcOcRPsmvJFrIQBnj264sQ7zq0aqrJa
 6t7nrqV8t0_GucjzXIwZMr3hhQIOViXY774eQzZ_y9ZxKOKFb9ArB54Y2eo8b4MUs7suqixy7lR
 ogG7juuLCKqK68vx0960VZjcUK9M6ardLHdEG_F1BJwlLZCaMrTs7kRGUgMJj4rJgbxr8pgcUP4
 hmddZRf_CYuDQCmlbcxaSKHjNv9DyCAerqzeZtNw12e-oaE2NSdT5o4sk_7iOCgK5liR9UgVKE7
 kMvayVypn9jcpSbkjt9bgSNRw&amp;source=gmail&amp;ust=1678805355768000&amp;usg
 =AOvVaw05FOCxjOq3mx2xRAXk5Xj0">Lighthouse Activities</a>, Grand Challenges 
 (https://84apx.r.ag.d.sendibm3.com/mk/cl/f/RQXUR9l9JYY_mICUCuJ0SiZC4-PNY2BV
 5sqJW95pA9lYauc3duTEtdGPMIHGUUi4_9YTwep6BbqINDYV6s8WT1tjSoi9qjrFNZSST_q-esB
 f-nbC3W1vOV8K80Tj6xBH8wHIQ2xym2J-R7jFmdY8n0jDbWeBj4Vya0Uno9Tm0Dx6e3hZdSpul1
 T902qH4B9ITl9q2FqpDTdzQ8jD--U3pF3Zf9-X9eYevgn5IB14rnM0k4Lf0JjjrfKNhO5xQLJQ5
 T4fr1KJtYivrxo5usu9v94_L4PFZh71Q4o5DuQ5zacF-IK2FG6ptmahVlYgU8QJFSmF2XTcsAQs
 duUKN3JCO8HxrbRTehFbuI8-iU1p7LcpkLDLLOQSpztoLChUEzlV)) and from all of our 
 key partners.\nKey dates\n\n - Early 2023: Registrations open\n - Feb. 2023
 : Abstract submission and financial support application deadline\n - Apr.–M
 ay 2023: Abstract review and financial support notifications\n - Jun. 2023:
  Final conference program\n - 22 &amp; 28 Oct. 2023: Early to mid-career re
 searchers event\n - 23–27 Oct. 2023: WCRP Open Science Conference
X-ALT-DESC;FMTTYPE=text/html:<p>The next WCRP Open Science Conference (OSC) will take place in 2023, wit
 h the major goal of bridging science and society by “advancing climate scie
 nce for a sustainable future.” Climate risk, early warning, attribution, un
 certainty, tipping points, irreversibility, and abrupt climate change are j
 ust some of the topics that will be discussed, both on a global and regiona
 l scale, as well as the fundamental science that is critical to advancing t
 hese important topics.&nbsp;</p><p>Science leaders, politicians, policy mak
 ers, intergovernmental agencies and NGOs will share ideas on how climate re
 search leads to a sustainable future. Natural and social scientists, humani
 ties scholars, and practitioners from around the world will showcase their 
 work, learn from each other, and explore new ways to work together to build
  the future we want. The OSC will feature the latest research from across t
 he WCRP community (<a href="https://84apx.r.ag.d.sendibm3.com/mk/cl/f/Ba0vS
 LCzrKBbok9jpCyuxvlkAVDwh-z0zEwxIq0Z-ugvgy8dl3QA6X7CLZqT5kf6-aSCMb-7PZnt2bxG
 uRPoUV5SkEAfIEIlINK0fWnHZvDVMUdcmbYGLrcjrk29MH0e1fpZc0QQEmVQAM86T4ycXnef8oe
 lFc2sRqiUa1X_86QgkSk_sikTv9M0pPzSzXPV7A9adgqeiYwQn1Aiaq5Ygqh0jfpTiN5G8jHZWF
 HeVkYuUIt904hQfhimsQm4Kn_4Oijt-8Q5UicXCkD0Fat6t49SKOAkSlnpAYLlYNg1kKtzQRhul
 0p_umqMZuaGUm0QTtkvWlHD8pTulqUrxPITq-g" target="_blank" rel="noopener" titl
 e="Core Projects" data-saferedirecturl="https://www.google.com/url?q=https:
 //84apx.r.ag.d.sendibm3.com/mk/cl/f/Ba0vSLCzrKBbok9jpCyuxvlkAVDwh-z0zEwxIq0
 Z-ugvgy8dl3QA6X7CLZqT5kf6-aSCMb-7PZnt2bxGuRPoUV5SkEAfIEIlINK0fWnHZvDVMUdcmb
 YGLrcjrk29MH0e1fpZc0QQEmVQAM86T4ycXnef8oelFc2sRqiUa1X_86QgkSk_sikTv9M0pPzSz
 XPV7A9adgqeiYwQn1Aiaq5Ygqh0jfpTiN5G8jHZWFHeVkYuUIt904hQfhimsQm4Kn_4Oijt-8Q5
 UicXCkD0Fat6t49SKOAkSlnpAYLlYNg1kKtzQRhul0p_umqMZuaGUm0QTtkvWlHD8pTulqUrxPI
 Tq-g&amp;source=gmail&amp;ust=1678805355768000&amp;usg=AOvVaw3s90whPwGF44T9
 vQKZXEpU">Core Projects</a>,&nbsp;<a href="https://84apx.r.ag.d.sendibm3.co
 m/mk/cl/f/wAyumeWQLKSWg11ZXhpQz7dLBXNfr6ZgZFBv3nHmQuNy_Dzlsllc6OEWFQVUmkcOc
 RPsmvJFrIQBnj264sQ7zq0aqrJa6t7nrqV8t0_GucjzXIwZMr3hhQIOViXY774eQzZ_y9ZxKOKF
 b9ArB54Y2eo8b4MUs7suqixy7lRogG7juuLCKqK68vx0960VZjcUK9M6ardLHdEG_F1BJwlLZCa
 MrTs7kRGUgMJj4rJgbxr8pgcUP4hmddZRf_CYuDQCmlbcxaSKHjNv9DyCAerqzeZtNw12e-oaE2
 NSdT5o4sk_7iOCgK5liR9UgVKE7kMvayVypn9jcpSbkjt9bgSNRw" target="_blank" rel="
 noopener" title="Lighthouse Activities" data-saferedirecturl="https://www.g
 oogle.com/url?q=https://84apx.r.ag.d.sendibm3.com/mk/cl/f/wAyumeWQLKSWg11ZX
 hpQz7dLBXNfr6ZgZFBv3nHmQuNy_Dzlsllc6OEWFQVUmkcOcRPsmvJFrIQBnj264sQ7zq0aqrJa
 6t7nrqV8t0_GucjzXIwZMr3hhQIOViXY774eQzZ_y9ZxKOKFb9ArB54Y2eo8b4MUs7suqixy7lR
 ogG7juuLCKqK68vx0960VZjcUK9M6ardLHdEG_F1BJwlLZCaMrTs7kRGUgMJj4rJgbxr8pgcUP4
 hmddZRf_CYuDQCmlbcxaSKHjNv9DyCAerqzeZtNw12e-oaE2NSdT5o4sk_7iOCgK5liR9UgVKE7
 kMvayVypn9jcpSbkjt9bgSNRw&amp;source=gmail&amp;ust=1678805355768000&amp;usg
 =AOvVaw05FOCxjOq3mx2xRAXk5Xj0">Lighthouse Activities</a>,&nbsp;<a href="htt
 ps://84apx.r.ag.d.sendibm3.com/mk/cl/f/RQXUR9l9JYY_mICUCuJ0SiZC4-PNY2BV5sqJ
 W95pA9lYauc3duTEtdGPMIHGUUi4_9YTwep6BbqINDYV6s8WT1tjSoi9qjrFNZSST_q-esBf-nb
 C3W1vOV8K80Tj6xBH8wHIQ2xym2J-R7jFmdY8n0jDbWeBj4Vya0Uno9Tm0Dx6e3hZdSpul1T902
 qH4B9ITl9q2FqpDTdzQ8jD--U3pF3Zf9-X9eYevgn5IB14rnM0k4Lf0JjjrfKNhO5xQLJQ5T4fr
 1KJtYivrxo5usu9v94_L4PFZh71Q4o5DuQ5zacF-IK2FG6ptmahVlYgU8QJFSmF2XTcsAQsduUK
 N3JCO8HxrbRTehFbuI8-iU1p7LcpkLDLLOQSpztoLChUEzlV" target="_blank" rel="noop
 ener" title="Grand Challenges" data-saferedirecturl="https://www.google.com
 /url?q=https://84apx.r.ag.d.sendibm3.com/mk/cl/f/RQXUR9l9JYY_mICUCuJ0SiZC4-
 PNY2BV5sqJW95pA9lYauc3duTEtdGPMIHGUUi4_9YTwep6BbqINDYV6s8WT1tjSoi9qjrFNZSST
 _q-esBf-nbC3W1vOV8K80Tj6xBH8wHIQ2xym2J-R7jFmdY8n0jDbWeBj4Vya0Uno9Tm0Dx6e3hZ
 dSpul1T902qH4B9ITl9q2FqpDTdzQ8jD--U3pF3Zf9-X9eYevgn5IB14rnM0k4Lf0JjjrfKNhO5
 xQLJQ5T4fr1KJtYivrxo5usu9v94_L4PFZh71Q4o5DuQ5zacF-IK2FG6ptmahVlYgU8QJFSmF2X
 TcsAQsduUKN3JCO8HxrbRTehFbuI8-iU1p7LcpkLDLLOQSpztoLChUEzlV&amp;source=gmail
 &amp;ust=1678805355768000&amp;usg=AOvVaw04FCqNPGUUMwLDWcw63-Cs">Grand Chall
 enges</a>) and from all of our key partners.</p><p><strong>Key dates</stron
 g></p><ul><li><strong>Early 2023:</strong>&nbsp;Registrations open</li><li>
 <strong>Feb. 2023:</strong>&nbsp;Abstract submission and financial support 
 application deadline</li><li><strong>Apr.–May 2023:</strong>&nbsp;Abstract 
 review and financial support notifications</li><li><strong>Jun. 2023:</stro
 ng>&nbsp;Final conference program</li></ul><ul><li><strong>22 &amp; 28 Oct.
  2023:</strong>&nbsp;Early to mid-career researchers event</li><li><strong>
 23–27 Oct. 2023:</strong>&nbsp;WCRP Open Science Conference</li></ul>
X-EXTRAINFO:https://wcrp-osc2023.org
DTSTAMP:20260421T200359Z
DTSTART;TZID=UTC;VALUE=DATE:20231023
DTEND;TZID=UTC;VALUE=DATE:20231028
SEQUENCE:0
TRANSP:OPAQUE
END:VEVENT
END:VCALENDAR