BEGIN:VCALENDAR
VERSION:2.0
PRODID:-//jEvents 2.0 for Joomla//EN
CALSCALE:GREGORIAN
METHOD:PUBLISH
BEGIN:VEVENT
UID:66cfccebbbd146131e7c3a262104cd4b
CATEGORIES:Polar Conferences, Meetings and Events
CREATED:20221122T112556
SUMMARY:2nd MOSAiC Science Conference
LOCATION:Boulder\, Colorado\, USA
DESCRIPTION:<p>The 2nd MOSAiC Science Conference, which will take place 13-17 February,
  2023 in Boulder, Colorado, USA</p><div class="col-md-8"><p>The Multidiscip
 linary drifting Observatory for the Study of Arctic Climate (<a href="https
 ://www.mosaic-expedition.org" target="_blank" rel="noopener" title="MOSAIC 
 Expedition">MOSAiC</a>) was an international, interdisciplinary Arctic scie
 ntific expedition that drifted across the central Arctic from autumn 2019 t
 o autumn 2020. The 2nd International MOSAiC Science Conference will be held
  13-17 February 2023 at the University of Colorado in Boulder, Colorado, US
 A. Conference objectives are to foster cross-cutting scientific analysis, a
 ddress issues of spatiotemporal scaling of information, and promote advance
 ment of modeling and predictive capabilities.</p><p>The weeklong conference
  will offer a mix of plenary sessions with visionary keynote presentations,
  focused breakout sessions on a variety of thematic topics, poster sessions
 , flex-time for ad hoc meetings, a planetarium film viewing, and much more.
  The conference will build upon the <a href="https://mosaic-expedition.org/
 international-mosaic-science-conference-workshop-2022/" target="_blank" rel
 ="noopener">1st International MOSAiC Science Conference</a> from April 2022
 . Since MOSAiC observational data are expected to be publicly available by 
 the start of 2023, this conference is an opportunity to expand the MOSAiC s
 cience community through the use of these data. Conference participation is
  open to all, with the expectation that all contributions are focused on MO
 SAiC-related research.</p><p>Contact: Matthew Shupe – <span id="cloak05ffd4
 9e4dc042d3e079d482d5bd22f6"><span id="cloak95327119bef2177ff313aee6894e3c72
 ">This email address is being protected from spambots. You need JavaScript 
 enabled to view it.</span><script type='text/javascript'>
				document.getE
 lementById('cloak95327119bef2177ff313aee6894e3c72').innerHTML = '';
				var
  prefix = '&#109;a' + 'i&#108;' + '&#116;o';
				var path = 'hr' + 'ef' + '
 =';
				var addy95327119bef2177ff313aee6894e3c72 = 'm&#97;tth&#101;w.sh&#11
 7;p&#101;' + '&#64;';
				addy95327119bef2177ff313aee6894e3c72 = addy953271
 19bef2177ff313aee6894e3c72 + 'c&#111;l&#111;r&#97;d&#111;' + '&#46;' + '&#1
 01;d&#117;';
				var addy_text95327119bef2177ff313aee6894e3c72 = 'm&#97;tth
 &#101;w.sh&#117;p&#101;[&#97;t]c&#111;l&#111;r&#97;d&#111;.&#101;d&#117;';d
 ocument.getElementById('cloak95327119bef2177ff313aee6894e3c72').innerHTML +
 = '<a ' + path + '\'' + prefix + ':' + addy95327119bef2177ff313aee6894e3c72
  + '\'>'+addy_text95327119bef2177ff313aee6894e3c72+'<\/a>';
		</script></sp
 an></p><p>Visit the <a href="https://mosaic.colorado.edu/second-science-con
 ference" target="_blank" rel="noopener">2nd International MOSAiC Science Co
 nference</a> for more information.</p></div>
DTSTAMP:20260420T195102Z
DTSTART;TZID=UTC;VALUE=DATE:20230213
DTEND;TZID=UTC;VALUE=DATE:20230218
SEQUENCE:0
TRANSP:OPAQUE
END:VEVENT
END:VCALENDAR