BEGIN:VCALENDAR
VERSION:2.0
PRODID:-//jEvents 2.0 for Joomla//EN
CALSCALE:GREGORIAN
METHOD:PUBLISH
BEGIN:VEVENT
UID:e5e7e373ef672584f40c5f0ebf6f65b9
CATEGORIES:Polar Conferences, Meetings and Events
CREATED:20220911T160613
SUMMARY:Arctic Basecamp at the World Economic Forum
LOCATION:Davos\, Switzerland
DESCRIPTION:Arctic Basecamp is a non-profit organization that aims to speak science to 
 power in order to encourage bold climate action. We are looking for early-c
 areer scientists/ researchers to join Arctic Basecamp at the WEF Annual Mee
 ting in Davos.\nWe will be camping outside of the Schatzalp Hotel from Janu
 ary 14th to January 22nd 2023. We bring the message of global risks arising
  from Arctic change to global leaders through events, meetings, and partner
 ship-working. You can read more about our organization here (https://arctic
 basecamp.org).\n
X-ALT-DESC;FMTTYPE=text/html:<p>Arctic Basecamp is a non-profit organization that aims to speak science 
 to power in order to encourage bold climate action. We are looking for earl
 y-career scientists/ researchers to join Arctic Basecamp at the WEF Annual 
 Meeting in Davos.</p><p>We will be camping outside of the Schatzalp Hotel f
 rom January 14th to January 22nd 2023. We bring the message of global risks
  arising from Arctic change to global leaders through events, meetings, and
  partnership-working. You can read more about our organization <a href="htt
 ps://arcticbasecamp.org" target="_blank" rel="noopener">here</a>.</p>
DTSTAMP:20260420T214031Z
DTSTART;TZID=UTC;VALUE=DATE:20230114
DTEND;TZID=UTC;VALUE=DATE:20230123
SEQUENCE:0
TRANSP:OPAQUE
END:VEVENT
END:VCALENDAR