BEGIN:VCALENDAR
VERSION:2.0
PRODID:-//jEvents 2.0 for Joomla//EN
CALSCALE:GREGORIAN
METHOD:PUBLISH
BEGIN:VEVENT
UID:c21645d249dca879ddef5b9f79189607
CATEGORIES:Polar Conferences, Meetings and Events
CREATED:20220907T080734
SUMMARY:INQUA-MARE Workshop, “Arctic Realm”
LOCATION:Pisa\, Italy &amp; online
DESCRIPTION:The second INQUA-MARE Workshop, “Arctic Realm”, will be held in Pisa, 5th -
  7th December, 2022. Visit the event website here (https://sites.google.com
 /view/inqua-mare-arctic-2022-pisa/home). \nWhat you need to know: \nthe wor
 kshop will be a hybrid one: you will have the chance to join using Zoom\npa
 rticipation in the workshop is free; you can register by completing the fol
 lowing <a href="https://forms.gle/7Ak9quzX6bcY6jnWA" target="_blank" rel="n
 oopener" data-saferedirecturl="https://www.google.com/url?q=https://forms.g
 le/7Ak9quzX6bcY6jnWA&amp;source=gmail&amp;ust=1662566379547000&amp;usg=AOvV
 aw0moZNs0aZrcmBMjDx9cZXl">google form</a> by November 25th\n\n - the deadli
 ne for abstract submission is October 25th. You can submit by using the abs
 tract template here (https://docs.google.com/document/d/11uImR2aTVKCvEFF4YC
 5I9cE3BxdFy277QX6U23BJV-o/edit?usp=sharing) and emailing to <a href="mailto
 :inqua.mare@gmail.com" target="_blank"></a>This email address is being prot
 ected from spambots. You need JavaScript enabled to view it.
				document.g
 etElementById('cloake15f111efb1eddb0f8c51719459731ff').innerHTML = '';
				
 var prefix = '&#109;a' + 'i&#108;' + '&#116;o';
				var path = 'hr' + 'ef' 
 + '=';
				var addye15f111efb1eddb0f8c51719459731ff = '&#105;nq&#117;&#97;.
 m&#97;r&#101;' + '&#64;';
				addye15f111efb1eddb0f8c51719459731ff = addye1
 5f111efb1eddb0f8c51719459731ff + 'gm&#97;&#105;l' + '&#46;' + 'c&#111;m';
	
 			var addy_texte15f111efb1eddb0f8c51719459731ff = '&#105;nq&#117;&#97;.m&#
 97;r&#101;' + '&#64;' + 'gm&#97;&#105;l' + '&#46;' + 'c&#111;m';document.ge
 tElementById('cloake15f111efb1eddb0f8c51719459731ff').innerHTML += '<a ' + 
 path + '\'' + prefix + ':' + addye15f111efb1eddb0f8c51719459731ff + '\'>'+a
 ddy_texte15f111efb1eddb0f8c51719459731ff+'';
		 using “Surname_abstract” as
  the subject of your mailEarly Career Researcher (ECR) &amp; Developing-Cou
 ntry Researcher (DCR) Travel Grants are available - read more here (https:/
 /docs.google.com/document/d/1TNA40JsUL5BZDgmq2wbBGP88-78_iFfhYjAbPxaSKTI) a
 nd apply by October 14th\nthe workshop will be held at the “<a href="http:/
 /www.leopolda.it/" target="_blank" rel="noopener" data-saferedirecturl="htt
 ps://www.google.com/url?q=http://www.leopolda.it/&amp;source=gmail&amp;ust=
 1662566379547000&amp;usg=AOvVaw2FKBEiuziYlnxBJz7LOkx2">Stazione Leopolda</a
 >” in Pisa, one of the first Italian railway stations. It was built in 1844
  by the Grand Duke Leopold II of Tuscany\nthe workshop will follow this pro
 visional schedule: *Day 1* 5 December, Micropaleontology, Geochemistry and 
 Biomarkers; *Day 2* 6 December, Sedimentology, Oceanography and Modelling; 
 *Day 3* 7 December, Research Opportunities and Round Table\n
X-ALT-DESC;FMTTYPE=text/html:<p dir="ltr">The second INQUA-MARE Workshop, “Arctic Realm”, will be held i
 n Pisa, 5th - 7th December, 2022. Visit the event website <a href="https://
 sites.google.com/view/inqua-mare-arctic-2022-pisa/home" target="_blank" rel
 ="noopener">here</a>.&nbsp;</p><p dir="ltr">What you need to know:&nbsp;</p
 ><ul><li dir="ltr"><p dir="ltr" role="presentation">the workshop will be a 
 hybrid one: you will have the chance to join using Zoom</p></li><li dir="lt
 r"><p dir="ltr" role="presentation">participation in the workshop is free; 
 you can register by completing the following <a href="https://forms.gle/7Ak
 9quzX6bcY6jnWA" target="_blank" rel="noopener" data-saferedirecturl="https:
 //www.google.com/url?q=https://forms.gle/7Ak9quzX6bcY6jnWA&amp;source=gmail
 &amp;ust=1662566379547000&amp;usg=AOvVaw0moZNs0aZrcmBMjDx9cZXl">google form
 </a>&nbsp;by&nbsp;<strong>November 25th</strong></p></li><li>the deadline f
 or abstract submission is <strong>October 25th</strong>. You can submit by 
 using the abstract template <a href="https://docs.google.com/document/d/11u
 ImR2aTVKCvEFF4YC5I9cE3BxdFy277QX6U23BJV-o/edit?usp=sharing" target="_blank"
  rel="noopener" data-saferedirecturl="https://www.google.com/url?q=https://
 docs.google.com/document/d/11uImR2aTVKCvEFF4YC5I9cE3BxdFy277QX6U23BJV-o/edi
 t?usp%3Dsharing&amp;source=gmail&amp;ust=1662566379547000&amp;usg=AOvVaw1iP
 8xAuC6ty6B_ooX_vIeG">here</a>&nbsp;and emailing to <a href="mailto:inqua.ma
 re@gmail.com" target="_blank"></a><span id="cloake15f111efb1eddb0f8c5171945
 9731ff">This email address is being protected from spambots. You need JavaS
 cript enabled to view it.</span><script type='text/javascript'>
				documen
 t.getElementById('cloake15f111efb1eddb0f8c51719459731ff').innerHTML = '';
	
 			var prefix = '&#109;a' + 'i&#108;' + '&#116;o';
				var path = 'hr' + 'e
 f' + '=';
				var addye15f111efb1eddb0f8c51719459731ff = '&#105;nq&#117;&#9
 7;.m&#97;r&#101;' + '&#64;';
				addye15f111efb1eddb0f8c51719459731ff = add
 ye15f111efb1eddb0f8c51719459731ff + 'gm&#97;&#105;l' + '&#46;' + 'c&#111;m'
 ;
				var addy_texte15f111efb1eddb0f8c51719459731ff = '&#105;nq&#117;&#97;.
 m&#97;r&#101;' + '&#64;' + 'gm&#97;&#105;l' + '&#46;' + 'c&#111;m';document
 .getElementById('cloake15f111efb1eddb0f8c51719459731ff').innerHTML += '<a '
  + path + '\'' + prefix + ':' + addye15f111efb1eddb0f8c51719459731ff + '\'>
 '+addy_texte15f111efb1eddb0f8c51719459731ff+'<\/a>';
		</script> using “Sur
 name_abstract” as the subject of your mail</li><li dir="ltr"><p dir="ltr" r
 ole="presentation">Early Career Researcher (ECR) &amp; Developing-Country R
 esearcher (DCR) Travel Grants are available - read more <a href="https://do
 cs.google.com/document/d/1TNA40JsUL5BZDgmq2wbBGP88-78_iFfhYjAbPxaSKTI" targ
 et="_blank" rel="noopener">here</a> and apply by <strong>October 14th</stro
 ng></p></li><li dir="ltr"><p dir="ltr" role="presentation">the workshop wil
 l be held at the “<a href="http://www.leopolda.it/" target="_blank" rel="no
 opener" data-saferedirecturl="https://www.google.com/url?q=http://www.leopo
 lda.it/&amp;source=gmail&amp;ust=1662566379547000&amp;usg=AOvVaw2FKBEiuziYl
 nxBJz7LOkx2">Stazione Leopolda</a>” in Pisa, one of the first Italian railw
 ay stations. It was built in 1844 by the Grand Duke Leopold II of Tuscany</
 p></li><li dir="ltr"><p dir="ltr" role="presentation">the workshop will fol
 low this provisional schedule:&nbsp;*Day 1* 5 December, Micropaleontology, 
 Geochemistry and Biomarkers; *Day 2* 6 December, Sedimentology, Oceanograph
 y and Modelling; *Day 3* 7 December, Research Opportunities and Round Table
 </p></li></ul>
DTSTAMP:20260420T231542Z
DTSTART;TZID=UTC;VALUE=DATE:20221205
DTEND;TZID=UTC;VALUE=DATE:20221208
SEQUENCE:0
TRANSP:OPAQUE
END:VEVENT
END:VCALENDAR