BEGIN:VCALENDAR
VERSION:2.0
PRODID:-//jEvents 2.0 for Joomla//EN
CALSCALE:GREGORIAN
METHOD:PUBLISH
BEGIN:VEVENT
UID:b54eba1500e42344bcffd899cdd1a30c
CATEGORIES:Polar Conferences, Meetings and Events
CREATED:20220722T100937
SUMMARY:Arctic Frontiers 2023: Moving North
DESCRIPTION:Arctic Frontiers 2023 will take place in Tromsø and online from January 30t
 h to February 2nd 2023.\nSea ice, new species, technology hubs and the impa
 cts of climate change are all moving closer to the Arctic, whilst simultane
 ously people are moving south, providing both challenges and opportunities 
 for sustainable development. The knock-on effects of the war in Europe are 
 vast, including food and fuel security, fertilizer and agriculture limitati
 ons, energy demand, and supply chain issues.\nThe recent release of the Int
 ergovernmental Panel on Climate Change (IPCC) sixth assessment report highl
 ighted the urgency required for adaptation and solutions. The key topics of
  Arctic Frontiers 2023 will reflect transformation, modelling, adaptation, 
 and development in the rapidly changing global landscape. Furthermore, busi
 ness development in viable industries and Arctic health will feature, due t
 o their relevance with the concept of Moving North. While looking at both t
 he long-term and short-term impacts of the environmental, humanitarian, and
  economic crises, looking for potential solutions will be a key driver of t
 he Arctic Frontiers 2023: Moving North conference.\nThe call-for-abstracts 
 for the seven science sessions is now open until September 16th, 2022. For 
 information on the science sessions and how to submit an abstract, please s
 ee: https://www.arcticfrontiers.com/arctic-frontiers-2023-moving-north/scie
 nce-sessions-for-arctic-frontiers-2023-announced/.\nWe have seven exciting 
 science sessions for you to submit your abstracts:\n\n - Session 1: Occupat
 ional health and safety in the Arctic\n - Session 2: City transformation by
  and for citizens using digital technologies and visualisation\n - Session 
 3: Modelling and monitoring challenges to maritime safety in a changing Arc
 tic\n - Session 4: Plastic pollution, priorities and perspectives in the Ar
 ctic\n - Session 5: Impacts and adaptations in response to Atlantification/
 Borealisation of the Arctic Ocean\n - Session 6: Adaptive management of rap
 idly changing Arctic ecosystems using interdisciplinary and system-science 
 approaches\n - Session 7: Assembling the valuable and vulnerable NorthFor m
 ore information, please contact This email address is being protected from 
 spambots. You need JavaScript enabled to view it.
				document.getElementBy
 Id('cloakc03eac861d2f14af9b4f1f218b0aba0e').innerHTML = '';
				var prefix 
 = '&#109;a' + 'i&#108;' + '&#116;o';
				var path = 'hr' + 'ef' + '=';
				
 var addyc03eac861d2f14af9b4f1f218b0aba0e = 'j&#101;nny' + '&#64;';
				addy
 c03eac861d2f14af9b4f1f218b0aba0e = addyc03eac861d2f14af9b4f1f218b0aba0e + '
 &#97;rct&#105;cfr&#111;nt&#105;&#101;rs' + '&#46;' + 'c&#111;m';
				var ad
 dy_textc03eac861d2f14af9b4f1f218b0aba0e = 'j&#101;nny[&#97;t]&#97;rct&#105;
 cfr&#111;nt&#105;&#101;rs.c&#111;m';document.getElementById('cloakc03eac861
 d2f14af9b4f1f218b0aba0e').innerHTML += '<a ' + path + '\'' + prefix + ':' +
  addyc03eac861d2f14af9b4f1f218b0aba0e + '\'>'+addy_textc03eac861d2f14af9b4f
 1f218b0aba0e+'';
		\n \n
X-ALT-DESC;FMTTYPE=text/html:<p>Arctic Frontiers 2023 will take place in <strong>Tromsø and online</stro
 ng> from <strong>January 30th to February 2nd 2023</strong>.</p><p>Sea ice,
  new species, technology hubs and the impacts of climate change are all mov
 ing closer to the Arctic, whilst simultaneously people are moving south, pr
 oviding both challenges and opportunities for sustainable development. The 
 knock-on effects of the war in Europe are vast, including food and fuel sec
 urity, fertilizer and agriculture limitations, energy demand, and supply ch
 ain issues.</p><p>The recent release of the Intergovernmental Panel on Clim
 ate Change (IPCC) sixth assessment report highlighted the urgency required 
 for adaptation and solutions. The key topics of Arctic Frontiers 2023 will 
 reflect transformation, modelling, adaptation, and development in the rapid
 ly changing global landscape. Furthermore, business development in viable i
 ndustries and Arctic health will feature, due to their relevance with the c
 oncept of Moving North. While looking at both the long-term and short-term 
 impacts of the environmental, humanitarian, and economic crises, looking fo
 r potential solutions will be a key driver of the Arctic Frontiers 2023: Mo
 ving North conference.</p><p>The <strong>call-for-abstracts for the seven s
 cience sessions is now open until September 16<sup>th</sup>, 2022</strong>.
  For information on the science sessions and how to submit an abstract, ple
 ase see:&nbsp;<a href="https://www.arcticfrontiers.com/arctic-frontiers-202
 3-moving-north/science-sessions-for-arctic-frontiers-2023-announced/" targe
 t="_blank" rel="noopener">https://www.arcticfrontiers.com/arctic-frontiers-
 2023-moving-north/science-sessions-for-arctic-frontiers-2023-announced/</a>
 .</p><p>We have seven exciting science sessions for you to submit your abst
 racts:</p><ul><li>Session 1: Occupational health and safety in the Arctic</
 li><li>Session 2: City transformation by and for citizens using digital tec
 hnologies and visualisation</li><li>Session 3: Modelling and monitoring cha
 llenges to maritime safety in a changing Arctic</li><li>Session 4: Plastic 
 pollution, priorities and perspectives in the Arctic</li><li>Session 5: Imp
 acts and adaptations in response to Atlantification/Borealisation of the Ar
 ctic Ocean</li><li>Session 6: Adaptive management of rapidly changing Arcti
 c ecosystems using interdisciplinary and system-science approaches</li><li>
 Session 7: Assembling the valuable and vulnerable North</li></ul><p>For mor
 e information, please contact <span id="cloakc03eac861d2f14af9b4f1f218b0aba
 0e">This email address is being protected from spambots. You need JavaScrip
 t enabled to view it.</span><script type='text/javascript'>
				document.ge
 tElementById('cloakc03eac861d2f14af9b4f1f218b0aba0e').innerHTML = '';
				v
 ar prefix = '&#109;a' + 'i&#108;' + '&#116;o';
				var path = 'hr' + 'ef' +
  '=';
				var addyc03eac861d2f14af9b4f1f218b0aba0e = 'j&#101;nny' + '&#64;'
 ;
				addyc03eac861d2f14af9b4f1f218b0aba0e = addyc03eac861d2f14af9b4f1f218b
 0aba0e + '&#97;rct&#105;cfr&#111;nt&#105;&#101;rs' + '&#46;' + 'c&#111;m';

 				var addy_textc03eac861d2f14af9b4f1f218b0aba0e = 'j&#101;nny[&#97;t]&#97
 ;rct&#105;cfr&#111;nt&#105;&#101;rs.c&#111;m';document.getElementById('cloa
 kc03eac861d2f14af9b4f1f218b0aba0e').innerHTML += '<a ' + path + '\'' + pref
 ix + ':' + addyc03eac861d2f14af9b4f1f218b0aba0e + '\'>'+addy_textc03eac861d
 2f14af9b4f1f218b0aba0e+'<\/a>';
		</script></p><p>&nbsp;</p>
DTSTAMP:20260421T002734Z
DTSTART;TZID=UTC;VALUE=DATE:20230130
DTEND;TZID=UTC;VALUE=DATE:20230203
SEQUENCE:0
TRANSP:OPAQUE
END:VEVENT
END:VCALENDAR