BEGIN:VCALENDAR
VERSION:2.0
PRODID:-//jEvents 2.0 for Joomla//EN
CALSCALE:GREGORIAN
METHOD:PUBLISH
BEGIN:VEVENT
UID:4b66542364189bbcdefce5e9d109dc66
CATEGORIES:Polar Conferences, Meetings and Events
CREATED:20220711T125203
SUMMARY:XXI INQUA Congress
LOCATION:Rome\, Italy
DESCRIPTION:XXI INQUA Congress: Time for Change (INQUA = International Union for Quater
 nary Research)\nSapienza University of Rome, Italy; 14 to 20 July 2023  (ht
 tps://inquaroma2023.org/)<a href="https://inquaroma2023.org/" target="_blan
 k" rel="noopener">https://inquaroma2023.org/</a>\nAbstract Submission at:  
 (https://inquaroma2023.org/abstract-submission/)<a href="https://inquaroma2
 023.org/abstract-submission/" target="_blank" rel="noopener">https://inquar
 oma2023.org/abstract-submission/</a>\nAbstract submission deadline: 1 Novem
 ber 2022.\nSee also the second circular at:  (https://inquaroma2023.org/202
 2/05/17/second-circular/)<a href="https://inquaroma2023.org/2022/05/17/seco
 nd-circular/" target="_blank" rel="noopener">https://inquaroma2023.org/2022
 /05/17/second-circular/</a>\n
X-ALT-DESC;FMTTYPE=text/html:<p><span lang="EN-GB"><strong>XXI INQUA Congress: Time for Change</strong> 
 (INQUA =&nbsp;International Union for Quaternary Research)</span></p><p><sp
 an lang="EN-GB">Sapienza University of Rome, Italy; 14 to 20 July 2023&nbsp
 ;</span><a href="https://inquaroma2023.org/" target="_blank" rel="noopener"
  data-saferedirecturl="https://www.google.com/url?q=https://inquaroma2023.o
 rg/&amp;source=gmail&amp;ust=1657627380601000&amp;usg=AOvVaw2mEjzwNcGxVe9j2
 rM_qMrG"></a><a href="https://inquaroma2023.org/" target="_blank" rel="noop
 ener">https://inquaroma2023.org/</a></p><p>Abstract Submission at:&nbsp;<a 
 href="https://inquaroma2023.org/abstract-submission/" data-saferedirecturl=
 "https://www.google.com/url?q=https://inquaroma2023.org/abstract-submission
 /&amp;source=gmail&amp;ust=1657627380601000&amp;usg=AOvVaw1aMXUCvjqYfgTznpQ
 HP2u3"></a><a href="https://inquaroma2023.org/abstract-submission/" target=
 "_blank" rel="noopener">https://inquaroma2023.org/abstract-submission/</a><
 /p><p>Abstract submission deadline: 1 November 2022.</p><p>See also the sec
 ond circular at:&nbsp;<a href="https://inquaroma2023.org/2022/05/17/second-
 circular/" data-saferedirecturl="https://www.google.com/url?q=https://inqua
 roma2023.org/2022/05/17/second-circular/&amp;source=gmail&amp;ust=165762738
 0601000&amp;usg=AOvVaw3wM_kA5ofrvRVtpHxzl8w5"></a><a href="https://inquarom
 a2023.org/2022/05/17/second-circular/" target="_blank" rel="noopener">https
 ://inquaroma2023.org/2022/05/17/second-circular/</a></p>
DTSTAMP:20260419T171334Z
DTSTART;TZID=UTC;VALUE=DATE:20230714
DTEND;TZID=UTC;VALUE=DATE:20230721
SEQUENCE:0
TRANSP:OPAQUE
END:VEVENT
END:VCALENDAR