BEGIN:VCALENDAR
VERSION:2.0
PRODID:-//jEvents 2.0 for Joomla//EN
CALSCALE:GREGORIAN
METHOD:PUBLISH
BEGIN:VEVENT
UID:a6baa9da612f4b9dec50b2e8f7220c1d
CATEGORIES:Polar Conferences, Meetings and Events
CREATED:20220706T141942
SUMMARY:ICYMARE 2022
DESCRIPTION:ICYMARE is the “International Conference for YOUNG Marine Researchers” whic
 h is organized voluntarily by and for young marine researchers and which is
  an event of the “Bremen Society for Natural Sciences”.\nICYMARE 2022 BREME
 RHAVEN will take place in Bremerhaven from 13 to 16 September 2022! We are 
 happy to be hosted by the University of Applied Sciences Bremerhaven (https
 ://www.hs-bremerhaven.de/en/) for the conference and by the <a href="https:
 //www.awi.de/en.html" target="_blank" rel="noopener noreferrer">Alfred Wege
 ner Institute, Helmholtz Centre for Polar and Marine Research</a> AWI for t
 he icebreaker event. Everybody is welcome to join us – no matter if you wou
 ld like to present your work, a poster or just come and listen to the inspi
 ring conference program.\nICYMARE is a bottom-up initiative completely orga
 nized by volunteers and offers a powerful and inspiring international set-u
 p for an excellent network opportunity and some first conference experience
  in your early career.\nWhat is special about ICYMARE:\n\n - ICYMARE is an 
 annual on-site conference for young marine researchers with changing locati
 ons and hosting support.\n - ICYMARE is a chance to present and discuss you
 r research in the monthly Online Forum.\n - ICYMARE is an opportunity to bu
 ild your network of young marine researchers in a professional as well as e
 asy-to-talk-to atmosphere.\n - ICYMARE offers you the chance to engage in o
 ur community to become a part of the ICYMARE family.https://www.icymare.com
 /\n
X-ALT-DESC;FMTTYPE=text/html:<p>ICYMARE is the “<strong>I</strong>nternational <strong>C</strong>onferen
 ce for <strong>Y</strong>OUNG <strong>Ma</strong>rine <strong>Re</strong>se
 archers” which is organized voluntarily by and for young marine researchers
  and which is an event of the “Bremen Society for Natural Sciences”.</p><p>
 ICYMARE 2022 BREMERHAVEN will take place in Bremerhaven from 13 to 16 Septe
 mber 2022! We are happy to be hosted by the&nbsp;<a href="https://www.hs-br
 emerhaven.de/en/" target="_blank" rel="noopener noreferrer">University of A
 pplied Sciences Bremerhaven</a>&nbsp;for the conference and by the&nbsp;<a 
 href="https://www.awi.de/en.html" target="_blank" rel="noopener noreferrer"
 >Alfred Wegener Institute, Helmholtz Centre for Polar and Marine Research</
 a>&nbsp;AWI for the icebreaker event. Everybody is welcome to join us – no 
 matter if you would like to present your work, a poster or just come and li
 sten to the inspiring conference program.</p><p>ICYMARE is a bottom-up init
 iative completely organized by volunteers and offers a powerful and inspiri
 ng international set-up for an excellent network opportunity and some first
  conference experience in your early career.</p><p>What is special about IC
 YMARE:</p><ul><li>ICYMARE is an annual on-site conference for young marine 
 researchers with changing locations and hosting support.</li><li>ICYMARE is
  a chance to present and discuss your research in the monthly Online Forum.
 </li><li>ICYMARE is an opportunity to build your network of young marine re
 searchers in a professional as well as easy-to-talk-to atmosphere.</li><li>
 ICYMARE offers you the chance to engage in our community to become a part o
 f the ICYMARE family.</li></ul><p><a href="https://www.icymare.com/" target
 ="_blank" rel="noopener">https://www.icymare.com/</a></p>
DTSTAMP:20260423T163629Z
DTSTART;TZID=UTC;VALUE=DATE:20220913
DTEND;TZID=UTC;VALUE=DATE:20220917
SEQUENCE:0
TRANSP:OPAQUE
END:VEVENT
END:VCALENDAR