BEGIN:VCALENDAR
VERSION:2.0
PRODID:-//jEvents 2.0 for Joomla//EN
CALSCALE:GREGORIAN
METHOD:PUBLISH
BEGIN:VEVENT
UID:bc804d3639d73aa5863d1ca94916f9ef
CATEGORIES:Polar Conferences, Meetings and Events
CREATED:20220706T133843
SUMMARY:FRISP 2022
DESCRIPTION:FORUM FOR RESEARCH INTO ICE SHELF PROCESSES (FRISP)The meeting is planned f
 or 19-22 September 2022 at Slayley Hall, Northumberland, UK.\n\nMonday 19th
  will be set aside for travel and arrival, with the first sessions on the m
 orning of Tuesday 20th. The meeting will finish with lunch on Thursday 22nd
 .\n\nAccommodation on site will be limited, so we recommend prompt registra
 tion. Please note that this will be an in-person only event.\n
X-ALT-DESC;FMTTYPE=text/html:<h3 class="g-title">FORUM FOR RESEARCH INTO ICE SHELF PROCESSES (FRISP)</h3
 ><p>The meeting is planned for&nbsp;<strong>19-22 September 2022 at Slayley
  Hall, Northumberland, UK</strong>.<br /><br />Monday 19th will be set asid
 e for travel and arrival, with the first sessions on the morning of Tuesday
  20th. The meeting will finish with lunch on Thursday 22nd.<br /><br />Acco
 mmodation on site will be limited, so we recommend prompt registration.&nbs
 p;Please note that this will be an in-person only event.</p>
DTSTAMP:20260421T051618Z
DTSTART;TZID=UTC;VALUE=DATE:20220919
DTEND;TZID=UTC;VALUE=DATE:20220923
SEQUENCE:0
TRANSP:OPAQUE
END:VEVENT
END:VCALENDAR